{
 "currentVersion": 10.91,
 "cimVersion": "2.9.0",
 "serviceDescription": "The active fault data displayed here are from the New Zealand Active Faults Database (\u2018Database\u2019), prepared by the Institute of Geological and Nuclear Sciences Limited (GNS Science). The Database includes two sets of active faults (1:250,000 scale and higher resolutions) and Fault Avoidance. The 1:250 000 active faults are from the New Zealand Active Faults Database and cover New Zealand mainland. The Higher Resolution active faults and Fault Avoidance Zones are available only within parts of Kapiti Coast District, Porirua City, Upper Hutt City, Lower Hutt City, Wairoa District, Hastings District and Central Hawkes Bay District. If the Fault Avoidance Zones are used to assist future land use planning, this should be done in accordance to the Ministry for the Environment \"Planning for Development on or Close to Active Faults\" (Kerr et al. 2003). The Fault Awareness areas show where there may be a surface fault rupture hazard but further work is needed to define a Fault Avoidance Zone.",
 "mapName": "ActiveFaultsDatabase",
 "description": "The active fault data displayed here are from the New Zealand Active Faults Database (\u2018Database\u2019), prepared by the Institute of Geological and Nuclear Sciences Limited (GNS Science). The Database includes two sets of active faults (1:250,000 scale and higher resolutions) and Fault Avoidance. The 1:250 000 active faults are from the New Zealand Active Faults Database and cover New Zealand mainland. The Higher Resolution active faults and Fault Avoidance Zones are available only within parts of Kapiti Coast District, Porirua City, Upper Hutt City, Lower Hutt City, Wairoa District, Hastings District and Central Hawkes Bay District. If the Fault Avoidance Zones are used to assist future land use planning, this should be done in accordance to the Ministry for the Environment \"Planning for Development on or Close to Active Faults\" (Kerr et al. 2003). The Fault Awareness areas show where there may be a surface fault rupture hazard but further work is needed to define a Fault Avoidance Zone.",
 "copyrightText": "GNS Science",
 "supportsDynamicLayers": true,
 "layers": [
  {
   "id": 0,
   "name": "1:250 000 Active Faults",
   "parentLayerId": -1,
   "defaultVisibility": true,
   "subLayerIds": null,
   "minScale": 0,
   "maxScale": 250000,
   "type": "Feature Layer",
   "geometryType": "esriGeometryPolyline",
   "supportsDynamicLegends": true
  },
  {
   "id": 1,
   "name": "1:250 000 Fault Sense",
   "parentLayerId": -1,
   "defaultVisibility": false,
   "subLayerIds": null,
   "minScale": 0,
   "maxScale": 250000,
   "type": "Feature Layer",
   "geometryType": "esriGeometryPolyline",
   "supportsDynamicLegends": true
  },
  {
   "id": 2,
   "name": "1:250 000 Recurrence Interval",
   "parentLayerId": -1,
   "defaultVisibility": false,
   "subLayerIds": null,
   "minScale": 0,
   "maxScale": 250000,
   "type": "Feature Layer",
   "geometryType": "esriGeometryPolyline",
   "supportsDynamicLegends": true
  },
  {
   "id": 3,
   "name": "1:250 000 Last Event",
   "parentLayerId": -1,
   "defaultVisibility": false,
   "subLayerIds": null,
   "minScale": 0,
   "maxScale": 250000,
   "type": "Feature Layer",
   "geometryType": "esriGeometryPolyline",
   "supportsDynamicLegends": true
  },
  {
   "id": 4,
   "name": "1:250 000 Slip Rate",
   "parentLayerId": -1,
   "defaultVisibility": false,
   "subLayerIds": null,
   "minScale": 0,
   "maxScale": 250000,
   "type": "Feature Layer",
   "geometryType": "esriGeometryPolyline",
   "supportsDynamicLegends": true
  },
  {
   "id": 5,
   "name": "1:250 000 Single Event Displacement",
   "parentLayerId": -1,
   "defaultVisibility": false,
   "subLayerIds": null,
   "minScale": 0,
   "maxScale": 250000,
   "type": "Feature Layer",
   "geometryType": "esriGeometryPolyline",
   "supportsDynamicLegends": true
  },
  {
   "id": 6,
   "name": "High Resolution Active Fault Traces",
   "parentLayerId": -1,
   "defaultVisibility": true,
   "subLayerIds": null,
   "minScale": 249999,
   "maxScale": 0,
   "type": "Feature Layer",
   "geometryType": "esriGeometryPolyline",
   "supportsDynamicLegends": true
  },
  {
   "id": 7,
   "name": "Fault Avoidance Zones",
   "parentLayerId": -1,
   "defaultVisibility": true,
   "subLayerIds": null,
   "minScale": 100000,
   "maxScale": 0,
   "type": "Feature Layer",
   "geometryType": "esriGeometryPolygon",
   "supportsDynamicLegends": true
  },
  {
   "id": 8,
   "name": "Fault Awareness Areas",
   "parentLayerId": -1,
   "defaultVisibility": true,
   "subLayerIds": null,
   "minScale": 100000,
   "maxScale": 0,
   "type": "Feature Layer",
   "geometryType": "esriGeometryPolygon",
   "supportsDynamicLegends": true
  }
 ],
 "tables": [],
 "spatialReference": {
  "wkid": 2193,
  "latestWkid": 2193,
  "xyTolerance": 0.001,
  "zTolerance": 2,
  "mTolerance": 0.002,
  "falseX": -4020900,
  "falseY": 1900,
  "xyUnits": 4.504455473910538E8,
  "falseZ": 0,
  "zUnits": 1,
  "falseM": -100000,
  "mUnits": 10000
 },
 "singleFusedMapCache": true,
 "tileInfo": {
  "rows": 256,
  "cols": 256,
  "dpi": 192,
  "format": "PNG",
  "compressionQuality": 0,
  "origin": {
   "x": -4020900,
   "y": 19998100
  },
  "spatialReference": {
   "wkid": 2193,
   "latestWkid": 2193,
   "xyTolerance": 0.001,
   "zTolerance": 2,
   "mTolerance": 0.002,
   "falseX": -4020900,
   "falseY": 1900,
   "xyUnits": 4.504455473910538E8,
   "falseZ": 0,
   "zUnits": 1,
   "falseM": -100000,
   "mUnits": 10000
  },
  "lods": [
   {
    "level": 0,
    "resolution": 2116.670900008467,
    "scale": 16000000
   },
   {
    "level": 1,
    "resolution": 1058.3354500042335,
    "scale": 8000000
   },
   {
    "level": 2,
    "resolution": 529.1677250021168,
    "scale": 4000000
   },
   {
    "level": 3,
    "resolution": 264.5838625010584,
    "scale": 2000000
   },
   {
    "level": 4,
    "resolution": 132.2919312505292,
    "scale": 1000000
   },
   {
    "level": 5,
    "resolution": 66.1459656252646,
    "scale": 500000
   },
   {
    "level": 6,
    "resolution": 33.0729828126323,
    "scale": 250000
   },
   {
    "level": 7,
    "resolution": 16.53649140631615,
    "scale": 125000
   },
   {
    "level": 8,
    "resolution": 8.268245703158074,
    "scale": 62500
   },
   {
    "level": 9,
    "resolution": 4.134122851579037,
    "scale": 31250
   },
   {
    "level": 10,
    "resolution": 2.0670614257895186,
    "scale": 15625
   },
   {
    "level": 11,
    "resolution": 1.0335307128947593,
    "scale": 7812.5
   },
   {
    "level": 12,
    "resolution": 0.5167653564473796,
    "scale": 3906.25
   },
   {
    "level": 13,
    "resolution": 0.2583826782236898,
    "scale": 1953.125
   }
  ]
 },
 "storageInfo": {
  "storageFormat": "esriMapCacheStorageModeCompactV2",
  "packetSize": 128
 },
 "initialExtent": {
  "xmin": 408415.3764602721,
  "ymin": 4657017.3429172095,
  "xmax": 2543292.2477519205,
  "ymax": 6036365.719657524,
  "spatialReference": {
   "wkid": 2193,
   "latestWkid": 2193,
   "xyTolerance": 0.001,
   "zTolerance": 2,
   "mTolerance": 0.002,
   "falseX": -4020900,
   "falseY": 1900,
   "xyUnits": 4.504455473910538E8,
   "falseZ": 0,
   "zUnits": 1,
   "falseM": -100000,
   "mUnits": 10000
  }
 },
 "fullExtent": {
  "xmin": 1090646.5917999996,
  "ymin": 4839302.7858,
  "xmax": 2086708.7194999997,
  "ymax": 5906912.1503,
  "spatialReference": {
   "wkid": 2193,
   "latestWkid": 2193,
   "xyTolerance": 0.001,
   "zTolerance": 2,
   "mTolerance": 0.002,
   "falseX": -4020900,
   "falseY": 1900,
   "xyUnits": 4.504455473910538E8,
   "falseZ": 0,
   "zUnits": 1,
   "falseM": -100000,
   "mUnits": 10000
  }
 },
 "datesInUnknownTimezone": false,
 "minScale": 0,
 "maxScale": 0,
 "units": "esriMeters",
 "supportedImageFormatTypes": "PNG32,PNG24,PNG,JPG,DIB,TIFF,EMF,PS,PDF,GIF,SVG,SVGZ,BMP",
 "documentInfo": {
  "Title": "Layers",
  "Author": "",
  "Comments": "The active fault data displayed here are from the New Zealand Active Faults Database (\u2018Database\u2019), prepared by the Institute of Geological and Nuclear Sciences Limited (GNS Science). The Database includes two sets of active faults (1:250,000 scale and higher resolutions) and Fault Avoidance. The 1:250 000 active faults are from the New Zealand Active Faults Database and cover New Zealand mainland. The Higher Resolution active faults and Fault Avoidance Zones are available only within parts of Kapiti Coast District, Porirua City, Upper Hutt City, Lower Hutt City, Wairoa District, Hastings District and Central Hawkes Bay District. If the Fault Avoidance Zones are used to assist future land use planning, this should be done in accordance to the Ministry for the Environment \"Planning for Development on or Close to Active Faults\" (Kerr et al. 2003). The Fault Awareness areas show where there may be a surface fault rupture hazard but further work is needed to define a Fault Avoidance Zone.",
  "Subject": "This service provides the current version of the Active Faults Database, covering New Zealand at 1:250 000 scale, and selected regions at a higher resolution.",
  "Category": "",
  "AntialiasingMode": "Fast",
  "TextAntialiasingMode": "Force",
  "Version": "2.9.0",
  "Keywords": "Active Faults,1:250 000,High Resolution,Fault Avoidance Zones,Fault Awareness Areas"
 },
 "supportsQueryDomains": true,
 "capabilities": "Map,Query,Data",
 "supportedQueryFormats": "JSON, geoJSON, PBF",
 "exportTilesAllowed": false,
 "referenceScale": 0.0,
 "datumTransformations": [
  {
   "geoTransforms": [
    {
     "wkid": 108460,
     "latestWkid": 1568,
     "transformForward": true,
     "name": "New_Zealand_1949_To_NZGD_2000_3_NTv2"
    }
   ]
  },
  {
   "geoTransforms": [
    {
     "wkid": 108460,
     "latestWkid": 1568,
     "transformForward": false,
     "name": "New_Zealand_1949_To_NZGD_2000_3_NTv2"
    }
   ]
  }
 ],
 "supportsDatumTransformation": true,
 "archivingInfo": {
  "supportsHistoricMoment": false
 },
 "supportsClipping": true,
 "supportsSpatialFilter": true,
 "supportsTimeRelation": true,
 "supportsQueryDataElements": true,
 "maxRecordCount": 2000,
 "maxImageHeight": 4096,
 "maxImageWidth": 4096,
 "supportedExtensions": "FeatureServer, WMSServer",
 "resampling": false
}
