{
 "currentVersion": 11.5,
 "cimVersion": "3.5.0",
 "serviceDescription": "This webmap shows the main tectonic features and bathymetric environment of the region surrounding Te Riu-a-Māui / Zealandia. Earth's eighth continent is c. 5 Mkm2 in area and 95% submerged.\n\nUse of these data must acknowledge GNS Science 2020 as the original source of the data under a Creative Commons Attribution 4.0 International License.",
 "mapName": "Map",
 "description": "",
 "copyrightText": "Mortimer, N., Smith Lyttle, B., Black, J. 2020.",
 "supportsDynamicLayers": true,
 "layers": [
  {
   "id": 0,
   "name": "TRAMZ",
   "parentLayerId": -1,
   "defaultVisibility": true,
   "subLayerIds": [
    1,
    2,
    3,
    344,
    354
   ],
   "minScale": 0,
   "maxScale": 0,
   "type": "Group Layer",
   "supportsDynamicLegends": false
  },
  {
   "id": 1,
   "name": "Poster frame",
   "parentLayerId": 0,
   "defaultVisibility": true,
   "subLayerIds": null,
   "minScale": 0,
   "maxScale": 0,
   "type": "Feature Layer",
   "geometryType": "esriGeometryPolygon",
   "supportsDynamicLegends": true
  },
  {
   "id": 2,
   "name": "Te Riu-a-Māui / Zealandia",
   "parentLayerId": 0,
   "defaultVisibility": true,
   "subLayerIds": null,
   "minScale": 0,
   "maxScale": 0,
   "type": "Feature Layer",
   "geometryType": "esriGeometryPolygon",
   "supportsDynamicLegends": true
  },
  {
   "id": 3,
   "name": "Geographic and bathymetric labels",
   "parentLayerId": 0,
   "defaultVisibility": true,
   "subLayerIds": [
    4,
    327,
    330
   ],
   "minScale": 0,
   "maxScale": 0,
   "type": "Group Layer",
   "supportsDynamicLegends": false
  },
  {
   "id": 4,
   "name": "Geographic Features",
   "parentLayerId": 3,
   "defaultVisibility": true,
   "subLayerIds": [
    5,
    322,
    323,
    324,
    325,
    326
   ],
   "minScale": 0,
   "maxScale": 0,
   "type": "Annotation Layer",
   "geometryType": "esriGeometryPolygon",
   "supportsDynamicLegends": false
  },
  {
   "id": 5,
   "name": "country 2",
   "parentLayerId": 4,
   "defaultVisibility": true,
   "subLayerIds": null,
   "minScale": 10000000,
   "maxScale": 0,
   "supportsDynamicLegends": false
  },
  {
   "id": 322,
   "name": "country 1",
   "parentLayerId": 4,
   "defaultVisibility": true,
   "subLayerIds": null,
   "minScale": 20000000,
   "maxScale": 0,
   "supportsDynamicLegends": false
  },
  {
   "id": 323,
   "name": "island 3",
   "parentLayerId": 4,
   "defaultVisibility": true,
   "subLayerIds": null,
   "minScale": 5000000,
   "maxScale": 0,
   "supportsDynamicLegends": false
  },
  {
   "id": 324,
   "name": "island 2",
   "parentLayerId": 4,
   "defaultVisibility": true,
   "subLayerIds": null,
   "minScale": 8000000,
   "maxScale": 0,
   "supportsDynamicLegends": false
  },
  {
   "id": 325,
   "name": "island 1",
   "parentLayerId": 4,
   "defaultVisibility": true,
   "subLayerIds": null,
   "minScale": 10000000,
   "maxScale": 0,
   "supportsDynamicLegends": false
  },
  {
   "id": 326,
   "name": "location",
   "parentLayerId": 4,
   "defaultVisibility": true,
   "subLayerIds": null,
   "minScale": 8000000,
   "maxScale": 0,
   "supportsDynamicLegends": false
  },
  {
   "id": 327,
   "name": "Bathymetric Features",
   "parentLayerId": 3,
   "defaultVisibility": true,
   "subLayerIds": [
    328,
    318,
    319,
    320,
    329
   ],
   "minScale": 0,
   "maxScale": 0,
   "type": "Annotation Layer",
   "geometryType": "esriGeometryPolygon",
   "supportsDynamicLegends": false
  },
  {
   "id": 328,
   "name": "major 2",
   "parentLayerId": 327,
   "defaultVisibility": true,
   "subLayerIds": null,
   "minScale": 10000000,
   "maxScale": 0,
   "supportsDynamicLegends": false
  },
  {
   "id": 318,
   "name": "major 1",
   "parentLayerId": 327,
   "defaultVisibility": true,
   "subLayerIds": null,
   "minScale": 20000000,
   "maxScale": 0,
   "supportsDynamicLegends": false
  },
  {
   "id": 319,
   "name": "minor",
   "parentLayerId": 327,
   "defaultVisibility": true,
   "subLayerIds": null,
   "minScale": 8000000,
   "maxScale": 0,
   "supportsDynamicLegends": false
  },
  {
   "id": 320,
   "name": "other 2",
   "parentLayerId": 327,
   "defaultVisibility": true,
   "subLayerIds": null,
   "minScale": 5000000,
   "maxScale": 0,
   "supportsDynamicLegends": false
  },
  {
   "id": 329,
   "name": "other 1",
   "parentLayerId": 327,
   "defaultVisibility": true,
   "subLayerIds": null,
   "minScale": 5000000,
   "maxScale": 0,
   "supportsDynamicLegends": false
  },
  {
   "id": 330,
   "name": "Plate and Microplate labels",
   "parentLayerId": 3,
   "defaultVisibility": true,
   "subLayerIds": [
    341,
    342,
    343
   ],
   "minScale": 0,
   "maxScale": 0,
   "type": "Annotation Layer",
   "geometryType": "esriGeometryPolygon",
   "supportsDynamicLegends": false
  },
  {
   "id": 341,
   "name": "Microplate",
   "parentLayerId": 330,
   "defaultVisibility": true,
   "subLayerIds": null,
   "minScale": 10000000,
   "maxScale": 0,
   "supportsDynamicLegends": false
  },
  {
   "id": 342,
   "name": "Plate",
   "parentLayerId": 330,
   "defaultVisibility": true,
   "subLayerIds": null,
   "minScale": 15000000,
   "maxScale": 0,
   "supportsDynamicLegends": false
  },
  {
   "id": 343,
   "name": "triplePoint",
   "parentLayerId": 330,
   "defaultVisibility": true,
   "subLayerIds": null,
   "minScale": 8000000,
   "maxScale": 0,
   "supportsDynamicLegends": false
  },
  {
   "id": 344,
   "name": "Bathymetric layers",
   "parentLayerId": 0,
   "defaultVisibility": false,
   "subLayerIds": [
    345,
    348,
    349,
    350
   ],
   "minScale": 0,
   "maxScale": 0,
   "type": "Group Layer",
   "supportsDynamicLegends": false
  },
  {
   "id": 345,
   "name": "Coastlines",
   "parentLayerId": 344,
   "defaultVisibility": true,
   "subLayerIds": [
    346,
    347
   ],
   "minScale": 0,
   "maxScale": 0,
   "type": "Group Layer",
   "supportsDynamicLegends": false
  },
  {
   "id": 346,
   "name": "10M Coastline",
   "parentLayerId": 345,
   "defaultVisibility": true,
   "subLayerIds": null,
   "minScale": 0,
   "maxScale": 0,
   "type": "Feature Layer",
   "geometryType": "esriGeometryPolyline",
   "supportsDynamicLegends": true
  },
  {
   "id": 347,
   "name": "Lakes",
   "parentLayerId": 345,
   "defaultVisibility": true,
   "subLayerIds": null,
   "minScale": 12500000,
   "maxScale": 0,
   "type": "Feature Layer",
   "geometryType": "esriGeometryPolygon",
   "supportsDynamicLegends": true
  },
  {
   "id": 348,
   "name": "New Zealand Extended Continental Shelf (ECS)",
   "parentLayerId": 344,
   "defaultVisibility": true,
   "subLayerIds": null,
   "minScale": 0,
   "maxScale": 0,
   "type": "Feature Layer",
   "geometryType": "esriGeometryPolyline",
   "supportsDynamicLegends": true
  },
  {
   "id": 349,
   "name": "International Exclusive Economic Zone (EEZ)",
   "parentLayerId": 344,
   "defaultVisibility": true,
   "subLayerIds": null,
   "minScale": 0,
   "maxScale": 0,
   "type": "Feature Layer",
   "geometryType": "esriGeometryPolyline",
   "supportsDynamicLegends": true
  },
  {
   "id": 350,
   "name": "Elevation",
   "parentLayerId": 344,
   "defaultVisibility": true,
   "subLayerIds": [
    351,
    352,
    353
   ],
   "minScale": 0,
   "maxScale": 0,
   "type": "Group Layer",
   "supportsDynamicLegends": false
  },
  {
   "id": 351,
   "name": "GEBCO shaded relief",
   "parentLayerId": 350,
   "defaultVisibility": false,
   "subLayerIds": null,
   "minScale": 0,
   "maxScale": 0,
   "type": "Raster Layer",
   "supportsDynamicLegends": true
  },
  {
   "id": 353,
   "name": "GEBCO 1000 m contours",
   "parentLayerId": 350,
   "defaultVisibility": true,
   "subLayerIds": null,
   "minScale": 15000000,
   "maxScale": 0,
   "type": "Feature Layer",
   "geometryType": "esriGeometryPolyline",
   "supportsDynamicLegends": true
  },
  {
   "id": 354,
   "name": "Tectonic layers",
   "parentLayerId": 0,
   "defaultVisibility": true,
   "subLayerIds": [
    355,
    362,
    369,
    374,
    378
   ],
   "minScale": 0,
   "maxScale": 0,
   "type": "Group Layer",
   "supportsDynamicLegends": false
  },
  {
   "id": 355,
   "name": "Volcanics",
   "parentLayerId": 354,
   "defaultVisibility": true,
   "subLayerIds": [
    356,
    360,
    361
   ],
   "minScale": 0,
   "maxScale": 0,
   "type": "Group Layer",
   "supportsDynamicLegends": false
  },
  {
   "id": 356,
   "name": "Volcano locations",
   "parentLayerId": 355,
   "defaultVisibility": true,
   "subLayerIds": [
    357,
    358,
    359
   ],
   "minScale": 0,
   "maxScale": 0,
   "type": "Group Layer",
   "supportsDynamicLegends": false
  },
  {
   "id": 357,
   "name": "Subduction-related",
   "parentLayerId": 356,
   "defaultVisibility": true,
   "subLayerIds": null,
   "minScale": 0,
   "maxScale": 0,
   "type": "Feature Layer",
   "geometryType": "esriGeometryPoint",
   "supportsDynamicLegends": true
  },
  {
   "id": 358,
   "name": "Hotspot track",
   "parentLayerId": 356,
   "defaultVisibility": true,
   "subLayerIds": null,
   "minScale": 0,
   "maxScale": 0,
   "type": "Feature Layer",
   "geometryType": "esriGeometryPoint",
   "supportsDynamicLegends": true
  },
  {
   "id": 359,
   "name": "Other intraplate locations",
   "parentLayerId": 356,
   "defaultVisibility": true,
   "subLayerIds": null,
   "minScale": 0,
   "maxScale": 0,
   "type": "Feature Layer",
   "geometryType": "esriGeometryPoint",
   "supportsDynamicLegends": true
  },
  {
   "id": 360,
   "name": "Seamount Chain limits",
   "parentLayerId": 355,
   "defaultVisibility": true,
   "subLayerIds": null,
   "minScale": 0,
   "maxScale": 0,
   "type": "Feature Layer",
   "geometryType": "esriGeometryPolyline",
   "supportsDynamicLegends": true
  },
  {
   "id": 361,
   "name": "Intraplate Late Cretaceous rift",
   "parentLayerId": 355,
   "defaultVisibility": true,
   "subLayerIds": null,
   "minScale": 0,
   "maxScale": 0,
   "type": "Feature Layer",
   "geometryType": "esriGeometryPolygon",
   "supportsDynamicLegends": true
  },
  {
   "id": 362,
   "name": "Faults, Rifts and Spreading Ridges",
   "parentLayerId": 354,
   "defaultVisibility": true,
   "subLayerIds": [
    363,
    368
   ],
   "minScale": 0,
   "maxScale": 0,
   "type": "Group Layer",
   "supportsDynamicLegends": false
  },
  {
   "id": 363,
   "name": "Faults",
   "parentLayerId": 362,
   "defaultVisibility": true,
   "subLayerIds": [
    364,
    365
   ],
   "minScale": 0,
   "maxScale": 0,
   "type": "Group Layer",
   "supportsDynamicLegends": false
  },
  {
   "id": 364,
   "name": "Displacement",
   "parentLayerId": 363,
   "defaultVisibility": true,
   "subLayerIds": null,
   "minScale": 10000000,
   "maxScale": 0,
   "type": "Feature Layer",
   "geometryType": "esriGeometryPoint",
   "supportsDynamicLegends": true
  },
  {
   "id": 365,
   "name": "1:8.5M faults",
   "parentLayerId": 363,
   "defaultVisibility": true,
   "subLayerIds": [
    366,
    367
   ],
   "minScale": 0,
   "maxScale": 0,
   "type": "Group Layer",
   "supportsDynamicLegends": false
  },
  {
   "id": 366,
   "name": "In beyond 1:10,000,001",
   "parentLayerId": 365,
   "defaultVisibility": true,
   "subLayerIds": null,
   "minScale": 0,
   "maxScale": 10000001,
   "type": "Feature Layer",
   "geometryType": "esriGeometryPolyline",
   "supportsDynamicLegends": true
  },
  {
   "id": 367,
   "name": "Out beyound 1:10,000,000",
   "parentLayerId": 365,
   "defaultVisibility": true,
   "subLayerIds": null,
   "minScale": 10000000,
   "maxScale": 0,
   "type": "Feature Layer",
   "geometryType": "esriGeometryPolyline",
   "supportsDynamicLegends": true
  },
  {
   "id": 368,
   "name": "Spreading ridges",
   "parentLayerId": 362,
   "defaultVisibility": true,
   "subLayerIds": null,
   "minScale": 0,
   "maxScale": 0,
   "type": "Feature Layer",
   "geometryType": "esriGeometryPolyline",
   "supportsDynamicLegends": true
  },
  {
   "id": 369,
   "name": "Plates and Microplates",
   "parentLayerId": 354,
   "defaultVisibility": true,
   "subLayerIds": [
    370,
    373
   ],
   "minScale": 0,
   "maxScale": 0,
   "type": "Group Layer",
   "supportsDynamicLegends": false
  },
  {
   "id": 370,
   "name": "Plate motion",
   "parentLayerId": 369,
   "defaultVisibility": true,
   "subLayerIds": [
    371,
    372
   ],
   "minScale": 0,
   "maxScale": 0,
   "type": "Group Layer",
   "supportsDynamicLegends": false
  },
  {
   "id": 371,
   "name": "Plate Motion Site Observations",
   "parentLayerId": 370,
   "defaultVisibility": true,
   "subLayerIds": null,
   "minScale": 0,
   "maxScale": 0,
   "type": "Feature Layer",
   "geometryType": "esriGeometryPoint",
   "supportsDynamicLegends": false
  },
  {
   "id": 372,
   "name": "Plate Motion Rotation Pole",
   "parentLayerId": 370,
   "defaultVisibility": true,
   "subLayerIds": null,
   "minScale": 0,
   "maxScale": 0,
   "type": "Feature Layer",
   "geometryType": "esriGeometryPoint",
   "supportsDynamicLegends": true
  },
  {
   "id": 373,
   "name": "Plate and Microplate boundaries",
   "parentLayerId": 369,
   "defaultVisibility": true,
   "subLayerIds": null,
   "minScale": 0,
   "maxScale": 0,
   "type": "Feature Layer",
   "geometryType": "esriGeometryPolyline",
   "supportsDynamicLegends": true
  },
  {
   "id": 374,
   "name": "Oceanic Crust",
   "parentLayerId": 354,
   "defaultVisibility": true,
   "subLayerIds": [
    375,
    376,
    377
   ],
   "minScale": 0,
   "maxScale": 0,
   "type": "Group Layer",
   "supportsDynamicLegends": false
  },
  {
   "id": 375,
   "name": "Oceanic crust isochrons",
   "parentLayerId": 374,
   "defaultVisibility": true,
   "subLayerIds": null,
   "minScale": 0,
   "maxScale": 0,
   "type": "Feature Layer",
   "geometryType": "esriGeometryPolyline",
   "supportsDynamicLegends": true
  },
  {
   "id": 376,
   "name": "Subducted slab depth contours",
   "parentLayerId": 374,
   "defaultVisibility": true,
   "subLayerIds": null,
   "minScale": 0,
   "maxScale": 0,
   "type": "Feature Layer",
   "geometryType": "esriGeometryPolyline",
   "supportsDynamicLegends": true
  },
  {
   "id": 377,
   "name": "Subducted edge of Hikurangi Plateau",
   "parentLayerId": 374,
   "defaultVisibility": true,
   "subLayerIds": null,
   "minScale": 0,
   "maxScale": 0,
   "type": "Feature Layer",
   "geometryType": "esriGeometryPolyline",
   "supportsDynamicLegends": true
  },
  {
   "id": 378,
   "name": "Crustal Geology",
   "parentLayerId": 354,
   "defaultVisibility": true,
   "subLayerIds": [
    379,
    380,
    381,
    382,
    383,
    384,
    385,
    386
   ],
   "minScale": 0,
   "maxScale": 0,
   "type": "Group Layer",
   "supportsDynamicLegends": false
  },
  {
   "id": 379,
   "name": "Sedimentary Basins",
   "parentLayerId": 378,
   "defaultVisibility": true,
   "subLayerIds": null,
   "minScale": 0,
   "maxScale": 0,
   "type": "Feature Layer",
   "geometryType": "esriGeometryPolygon",
   "supportsDynamicLegends": true
  },
  {
   "id": 380,
   "name": "Poorly constrained crust",
   "parentLayerId": 378,
   "defaultVisibility": true,
   "subLayerIds": null,
   "minScale": 0,
   "maxScale": 0,
   "type": "Feature Layer",
   "geometryType": "esriGeometryPolygon",
   "supportsDynamicLegends": true
  },
  {
   "id": 381,
   "name": "Volcanic arc",
   "parentLayerId": 378,
   "defaultVisibility": true,
   "subLayerIds": null,
   "minScale": 0,
   "maxScale": 0,
   "type": "Feature Layer",
   "geometryType": "esriGeometryPolygon",
   "supportsDynamicLegends": true
  },
  {
   "id": 382,
   "name": "Large Igneous Province",
   "parentLayerId": 378,
   "defaultVisibility": true,
   "subLayerIds": null,
   "minScale": 0,
   "maxScale": 0,
   "type": "Feature Layer",
   "geometryType": "esriGeometryPolygon",
   "supportsDynamicLegends": true
  },
  {
   "id": 383,
   "name": "Continental Zealandia basement",
   "parentLayerId": 378,
   "defaultVisibility": true,
   "subLayerIds": null,
   "minScale": 0,
   "maxScale": 0,
   "type": "Feature Layer",
   "geometryType": "esriGeometryPolygon",
   "supportsDynamicLegends": true
  },
  {
   "id": 384,
   "name": "Other Continental basement",
   "parentLayerId": 378,
   "defaultVisibility": true,
   "subLayerIds": null,
   "minScale": 0,
   "maxScale": 0,
   "type": "Feature Layer",
   "geometryType": "esriGeometryPolygon",
   "supportsDynamicLegends": true
  },
  {
   "id": 385,
   "name": "Oceanic Crust Geology",
   "parentLayerId": 378,
   "defaultVisibility": true,
   "subLayerIds": null,
   "minScale": 0,
   "maxScale": 0,
   "type": "Feature Layer",
   "geometryType": "esriGeometryPolygon",
   "supportsDynamicLegends": true
  },
  {
   "id": 386,
   "name": "Geological units",
   "parentLayerId": 378,
   "defaultVisibility": false,
   "subLayerIds": null,
   "minScale": 0,
   "maxScale": 0,
   "type": "Feature Layer",
   "geometryType": "esriGeometryPolygon",
   "supportsDynamicLegends": true
  }
 ],
 "tables": [],
 "spatialReference": {
  "wkid": 3851,
  "latestWkid": 3851,
  "xyTolerance": 0.001,
  "zTolerance": 0.001,
  "mTolerance": 0.001,
  "falseX": -33815800,
  "falseY": -17707300,
  "xyUnits": 10000,
  "falseZ": -100000,
  "zUnits": 10000,
  "falseM": -100000,
  "mUnits": 10000
 },
 "singleFusedMapCache": true,
 "tileInfo": {
  "rows": 256,
  "cols": 256,
  "dpi": 96,
  "format": "JPEG",
  "compressionQuality": 90,
  "origin": {
   "x": -33815800,
   "y": 9.00702218174099E11
  },
  "spatialReference": {
   "wkid": 3851,
   "latestWkid": 3851,
   "xyTolerance": 0.001,
   "zTolerance": 0.001,
   "mTolerance": 0.001,
   "falseX": -33815800,
   "falseY": -17707300,
   "xyUnits": 10000,
   "falseZ": -100000,
   "zUnits": 10000,
   "falseM": -100000,
   "mUnits": 10000
  },
  "lods": [
   {
    "level": 0,
    "resolution": 132291.9312505292,
    "scale": 500000000
   },
   {
    "level": 1,
    "resolution": 66145.9656252646,
    "scale": 250000000
   },
   {
    "level": 2,
    "resolution": 33072.9828126323,
    "scale": 125000000
   },
   {
    "level": 3,
    "resolution": 16933.367200067736,
    "scale": 64000000
   },
   {
    "level": 4,
    "resolution": 8466.683600033868,
    "scale": 32000000
   },
   {
    "level": 5,
    "resolution": 4233.341800016934,
    "scale": 16000000
   },
   {
    "level": 6,
    "resolution": 2116.670900008467,
    "scale": 8000000
   },
   {
    "level": 7,
    "resolution": 1058.3354500042335,
    "scale": 4000000
   },
   {
    "level": 8,
    "resolution": 529.1677250021168,
    "scale": 2000000
   },
   {
    "level": 9,
    "resolution": 264.5838625010584,
    "scale": 1000000
   },
   {
    "level": 10,
    "resolution": 132.2919312505292,
    "scale": 500000
   },
   {
    "level": 11,
    "resolution": 66.1459656252646,
    "scale": 250000
   },
   {
    "level": 12,
    "resolution": 33.0729828126323,
    "scale": 125000
   },
   {
    "level": 13,
    "resolution": 16.933367200067735,
    "scale": 64000
   },
   {
    "level": 14,
    "resolution": 8.466683600033868,
    "scale": 32000
   },
   {
    "level": 15,
    "resolution": 2.6458386250105836,
    "scale": 10000
   },
   {
    "level": 16,
    "resolution": 1.0583354500042335,
    "scale": 4000
   }
  ]
 },
 "storageInfo": {
  "storageFormat": "esriMapCacheStorageModeCompactV2",
  "packetSize": 128
 },
 "initialExtent": {
  "xmin": -1303497.5918809185,
  "ymin": 5708172.90676582,
  "xmax": 6803653.453109181,
  "ymax": 1.1193488218875365E7,
  "spatialReference": {
   "wkid": 3851,
   "latestWkid": 3851,
   "xyTolerance": 0.001,
   "zTolerance": 0.001,
   "mTolerance": 0.001,
   "falseX": -33815800,
   "falseY": -17707300,
   "xyUnits": 10000,
   "falseZ": -100000,
   "zUnits": 10000,
   "falseM": -100000,
   "mUnits": 10000
  }
 },
 "fullExtent": {
  "xmin": -3.1358208466E7,
  "ymin": -1.75209435594E7,
  "xmax": 3.95662419903E7,
  "ymax": 3.57039903113E7,
  "spatialReference": {
   "wkid": 3851,
   "latestWkid": 3851,
   "xyTolerance": 0.001,
   "zTolerance": 0.001,
   "mTolerance": 0.001,
   "falseX": -33815800,
   "falseY": -17707300,
   "xyUnits": 10000,
   "falseZ": -100000,
   "zUnits": 10000,
   "falseM": -100000,
   "mUnits": 10000
  }
 },
 "datesInUnknownTimezone": false,
 "minScale": 5.435383736114373E8,
 "maxScale": 1.6985574175357416E7,
 "units": "esriMeters",
 "supportedImageFormatTypes": "PNG32,PNG24,PNG,JPG,DIB,TIFF,EMF,PS,PDF,GIF,SVG,SVGZ,BMP",
 "documentInfo": {
  "Title": "C:\\Users\\alecz\\Documents\\ArcGIS\\Projects\\MyProject6\\MyProject6.aprx",
  "Author": "",
  "Comments": "",
  "Subject": "",
  "Category": "",
  "Version": "2.9.0",
  "AntialiasingMode": "None",
  "TextAntialiasingMode": "None",
  "Keywords": "Zealandia,tectonic movement,bathymetry"
 },
 "supportsQueryDomains": true,
 "capabilities": "Map,Query,Data",
 "supportedQueryFormats": "JSON, geoJSON, PBF",
 "exportTilesAllowed": false,
 "referenceScale": 0.0,
 "datumTransformations": [
  {
   "geoTransforms": [
    {
     "wkid": 1565,
     "latestWkid": 1565,
     "transformForward": false,
     "name": "NZGD_2000_To_WGS_1984_1"
    }
   ]
  },
  {
   "geoTransforms": [
    {
     "wkid": 1565,
     "latestWkid": 1565,
     "transformForward": true,
     "name": "NZGD_2000_To_WGS_1984_1"
    }
   ]
  },
  {
   "geoTransforms": [
    {
     "wkid": 1565,
     "latestWkid": 1565,
     "transformForward": false,
     "name": "NZGD_2000_To_WGS_1984_1"
    }
   ]
  },
  {
   "geoTransforms": [
    {
     "wkid": 1565,
     "latestWkid": 1565,
     "transformForward": true,
     "name": "NZGD_2000_To_WGS_1984_1"
    }
   ]
  },
  {
   "geoTransforms": [
    {
     "wkid": 108460,
     "latestWkid": 1568,
     "transformForward": true,
     "name": "New_Zealand_1949_To_NZGD_2000_3_NTv2"
    }
   ]
  },
  {
   "geoTransforms": [
    {
     "wkid": 108460,
     "latestWkid": 1568,
     "transformForward": false,
     "name": "New_Zealand_1949_To_NZGD_2000_3_NTv2"
    }
   ]
  }
 ],
 "supportsDatumTransformation": true,
 "archivingInfo": {
  "supportsHistoricMoment": false
 },
 "supportsClipping": true,
 "supportsSpatialFilter": true,
 "supportsTimeRelation": true,
 "supportsQueryDataElements": true,
 "mapUnits": {
  "uwkid": 9001
 },
 "maxSelectionCount": 2000,
 "maxRecordCount": 2000,
 "maxImageHeight": 4096,
 "maxImageWidth": 4096,
 "supportedExtensions": "WFSServer, WMSServer",
 "resampling": false
}
