{
 "currentVersion": 11.5,
 "cimVersion": "3.5.0",
 "serviceDescription": "This webmap shows the main tectonic features and bathymetric environment of the region surrounding Te Riu-a-Māui / Zealandia. Earth's eighth continent is c. 5 Mkm2 in area and 95% submerged.\n\nUse of these data must acknowledge GNS Science 2020 as the original source of the data under a Creative Commons Attribution 4.0 International License.",
 "mapName": "Te Riu-a-Māui - Zealandia 2020",
 "description": "TRAMZ bathymetric and tectonic layer 2020.\n\nUse of these data must acknowledge GNS Science 2020 as the original source of the data under a Creative Commons Attribution 4.0 International License.",
 "copyrightText": "Mortimer, N., Smith Lyttle, B., Black, J. 2020.",
 "supportsDynamicLayers": true,
 "layers": [
  {
   "id": 0,
   "name": "Poster frame",
   "parentLayerId": -1,
   "defaultVisibility": true,
   "subLayerIds": null,
   "minScale": 0,
   "maxScale": 0,
   "type": "Feature Layer",
   "geometryType": "esriGeometryPolygon",
   "supportsDynamicLegends": true
  },
  {
   "id": 1,
   "name": "Te Riu-a-Māui / Zealandia",
   "parentLayerId": -1,
   "defaultVisibility": true,
   "subLayerIds": null,
   "minScale": 0,
   "maxScale": 0,
   "type": "Feature Layer",
   "geometryType": "esriGeometryPolygon",
   "supportsDynamicLegends": true
  },
  {
   "id": 2,
   "name": "Geographic and bathymetric labels",
   "parentLayerId": -1,
   "defaultVisibility": true,
   "subLayerIds": [
    3,
    327,
    330
   ],
   "minScale": 0,
   "maxScale": 0,
   "type": "Group Layer",
   "supportsDynamicLegends": false
  },
  {
   "id": 3,
   "name": "Geographic Features",
   "parentLayerId": 2,
   "defaultVisibility": true,
   "subLayerIds": [
    4,
    322,
    323,
    324,
    325,
    326
   ],
   "minScale": 0,
   "maxScale": 0,
   "type": "Annotation Layer",
   "geometryType": "esriGeometryPolygon",
   "supportsDynamicLegends": false
  },
  {
   "id": 4,
   "name": "country 2",
   "parentLayerId": 3,
   "defaultVisibility": true,
   "subLayerIds": null,
   "minScale": 10000000,
   "maxScale": 0,
   "supportsDynamicLegends": false
  },
  {
   "id": 322,
   "name": "country 1",
   "parentLayerId": 3,
   "defaultVisibility": true,
   "subLayerIds": null,
   "minScale": 20000000,
   "maxScale": 0,
   "supportsDynamicLegends": false
  },
  {
   "id": 323,
   "name": "island 3",
   "parentLayerId": 3,
   "defaultVisibility": true,
   "subLayerIds": null,
   "minScale": 5000000,
   "maxScale": 0,
   "supportsDynamicLegends": false
  },
  {
   "id": 324,
   "name": "island 2",
   "parentLayerId": 3,
   "defaultVisibility": true,
   "subLayerIds": null,
   "minScale": 8000000,
   "maxScale": 0,
   "supportsDynamicLegends": false
  },
  {
   "id": 325,
   "name": "island 1",
   "parentLayerId": 3,
   "defaultVisibility": true,
   "subLayerIds": null,
   "minScale": 10000000,
   "maxScale": 0,
   "supportsDynamicLegends": false
  },
  {
   "id": 326,
   "name": "location",
   "parentLayerId": 3,
   "defaultVisibility": true,
   "subLayerIds": null,
   "minScale": 8000000,
   "maxScale": 0,
   "supportsDynamicLegends": false
  },
  {
   "id": 327,
   "name": "Bathymetric Features",
   "parentLayerId": 2,
   "defaultVisibility": true,
   "subLayerIds": [
    328,
    318,
    319,
    320,
    329
   ],
   "minScale": 0,
   "maxScale": 0,
   "type": "Annotation Layer",
   "geometryType": "esriGeometryPolygon",
   "supportsDynamicLegends": false
  },
  {
   "id": 328,
   "name": "major 2",
   "parentLayerId": 327,
   "defaultVisibility": true,
   "subLayerIds": null,
   "minScale": 10000000,
   "maxScale": 0,
   "supportsDynamicLegends": false
  },
  {
   "id": 318,
   "name": "major 1",
   "parentLayerId": 327,
   "defaultVisibility": true,
   "subLayerIds": null,
   "minScale": 20000000,
   "maxScale": 0,
   "supportsDynamicLegends": false
  },
  {
   "id": 319,
   "name": "minor",
   "parentLayerId": 327,
   "defaultVisibility": true,
   "subLayerIds": null,
   "minScale": 8000000,
   "maxScale": 0,
   "supportsDynamicLegends": false
  },
  {
   "id": 320,
   "name": "other 2",
   "parentLayerId": 327,
   "defaultVisibility": true,
   "subLayerIds": null,
   "minScale": 5000000,
   "maxScale": 0,
   "supportsDynamicLegends": false
  },
  {
   "id": 329,
   "name": "other 1",
   "parentLayerId": 327,
   "defaultVisibility": true,
   "subLayerIds": null,
   "minScale": 5000000,
   "maxScale": 0,
   "supportsDynamicLegends": false
  },
  {
   "id": 330,
   "name": "Plate and Microplate labels",
   "parentLayerId": 2,
   "defaultVisibility": true,
   "subLayerIds": [
    341,
    342,
    343
   ],
   "minScale": 0,
   "maxScale": 0,
   "type": "Annotation Layer",
   "geometryType": "esriGeometryPolygon",
   "supportsDynamicLegends": false
  },
  {
   "id": 341,
   "name": "Microplate",
   "parentLayerId": 330,
   "defaultVisibility": true,
   "subLayerIds": null,
   "minScale": 10000000,
   "maxScale": 0,
   "supportsDynamicLegends": false
  },
  {
   "id": 342,
   "name": "Plate",
   "parentLayerId": 330,
   "defaultVisibility": true,
   "subLayerIds": null,
   "minScale": 15000000,
   "maxScale": 0,
   "supportsDynamicLegends": false
  },
  {
   "id": 343,
   "name": "triplePoint",
   "parentLayerId": 330,
   "defaultVisibility": true,
   "subLayerIds": null,
   "minScale": 8000000,
   "maxScale": 0,
   "supportsDynamicLegends": false
  },
  {
   "id": 344,
   "name": "Bathymetric layers",
   "parentLayerId": -1,
   "defaultVisibility": false,
   "subLayerIds": [
    345,
    348,
    349,
    350
   ],
   "minScale": 0,
   "maxScale": 0,
   "type": "Group Layer",
   "supportsDynamicLegends": false
  },
  {
   "id": 345,
   "name": "Coastlines",
   "parentLayerId": 344,
   "defaultVisibility": true,
   "subLayerIds": [
    346,
    347
   ],
   "minScale": 0,
   "maxScale": 0,
   "type": "Group Layer",
   "supportsDynamicLegends": false
  },
  {
   "id": 346,
   "name": "10M Coastline",
   "parentLayerId": 345,
   "defaultVisibility": true,
   "subLayerIds": null,
   "minScale": 0,
   "maxScale": 0,
   "type": "Feature Layer",
   "geometryType": "esriGeometryPolyline",
   "supportsDynamicLegends": true
  },
  {
   "id": 347,
   "name": "Lakes",
   "parentLayerId": 345,
   "defaultVisibility": true,
   "subLayerIds": null,
   "minScale": 12500000,
   "maxScale": 0,
   "type": "Feature Layer",
   "geometryType": "esriGeometryPolygon",
   "supportsDynamicLegends": true
  },
  {
   "id": 348,
   "name": "New Zealand Extended Continental Shelf (ECS)",
   "parentLayerId": 344,
   "defaultVisibility": true,
   "subLayerIds": null,
   "minScale": 0,
   "maxScale": 0,
   "type": "Feature Layer",
   "geometryType": "esriGeometryPolyline",
   "supportsDynamicLegends": true
  },
  {
   "id": 349,
   "name": "International Exclusive Economic Zone (EEZ)",
   "parentLayerId": 344,
   "defaultVisibility": true,
   "subLayerIds": null,
   "minScale": 0,
   "maxScale": 0,
   "type": "Feature Layer",
   "geometryType": "esriGeometryPolyline",
   "supportsDynamicLegends": true
  },
  {
   "id": 350,
   "name": "Elevation",
   "parentLayerId": 344,
   "defaultVisibility": true,
   "subLayerIds": [
    351,
    352,
    353
   ],
   "minScale": 0,
   "maxScale": 0,
   "type": "Group Layer",
   "supportsDynamicLegends": false
  },
  {
   "id": 351,
   "name": "GEBCO shaded relief",
   "parentLayerId": 350,
   "defaultVisibility": false,
   "subLayerIds": null,
   "minScale": 0,
   "maxScale": 0,
   "type": "Raster Layer",
   "supportsDynamicLegends": true
  },
  {
   "id": 352,
   "name": "GEBCO elevation",
   "parentLayerId": 350,
   "defaultVisibility": true,
   "subLayerIds": null,
   "minScale": 0,
   "maxScale": 0,
   "type": "Raster Layer",
   "supportsDynamicLegends": true
  },
  {
   "id": 353,
   "name": "GEBCO 1000 m contours",
   "parentLayerId": 350,
   "defaultVisibility": true,
   "subLayerIds": null,
   "minScale": 15000000,
   "maxScale": 0,
   "type": "Feature Layer",
   "geometryType": "esriGeometryPolyline",
   "supportsDynamicLegends": true
  },
  {
   "id": 354,
   "name": "Tectonic layers",
   "parentLayerId": -1,
   "defaultVisibility": true,
   "subLayerIds": [
    355,
    362,
    369,
    374,
    378
   ],
   "minScale": 0,
   "maxScale": 0,
   "type": "Group Layer",
   "supportsDynamicLegends": false
  },
  {
   "id": 355,
   "name": "Volcanics",
   "parentLayerId": 354,
   "defaultVisibility": true,
   "subLayerIds": [
    356,
    360,
    361
   ],
   "minScale": 0,
   "maxScale": 0,
   "type": "Group Layer",
   "supportsDynamicLegends": false
  },
  {
   "id": 356,
   "name": "Volcano locations",
   "parentLayerId": 355,
   "defaultVisibility": true,
   "subLayerIds": [
    357,
    358,
    359
   ],
   "minScale": 0,
   "maxScale": 0,
   "type": "Group Layer",
   "supportsDynamicLegends": false
  },
  {
   "id": 357,
   "name": "Subduction-related",
   "parentLayerId": 356,
   "defaultVisibility": true,
   "subLayerIds": null,
   "minScale": 0,
   "maxScale": 0,
   "type": "Feature Layer",
   "geometryType": "esriGeometryPoint",
   "supportsDynamicLegends": true
  },
  {
   "id": 358,
   "name": "Hotspot track",
   "parentLayerId": 356,
   "defaultVisibility": true,
   "subLayerIds": null,
   "minScale": 0,
   "maxScale": 0,
   "type": "Feature Layer",
   "geometryType": "esriGeometryPoint",
   "supportsDynamicLegends": true
  },
  {
   "id": 359,
   "name": "Other intraplate locations",
   "parentLayerId": 356,
   "defaultVisibility": true,
   "subLayerIds": null,
   "minScale": 0,
   "maxScale": 0,
   "type": "Feature Layer",
   "geometryType": "esriGeometryPoint",
   "supportsDynamicLegends": true
  },
  {
   "id": 360,
   "name": "Seamount Chain limits",
   "parentLayerId": 355,
   "defaultVisibility": true,
   "subLayerIds": null,
   "minScale": 0,
   "maxScale": 0,
   "type": "Feature Layer",
   "geometryType": "esriGeometryPolyline",
   "supportsDynamicLegends": true
  },
  {
   "id": 361,
   "name": "Intraplate Late Cretaceous rift",
   "parentLayerId": 355,
   "defaultVisibility": true,
   "subLayerIds": null,
   "minScale": 0,
   "maxScale": 0,
   "type": "Feature Layer",
   "geometryType": "esriGeometryPolygon",
   "supportsDynamicLegends": true
  },
  {
   "id": 362,
   "name": "Faults, Rifts and Spreading Ridges",
   "parentLayerId": 354,
   "defaultVisibility": true,
   "subLayerIds": [
    363,
    368
   ],
   "minScale": 0,
   "maxScale": 0,
   "type": "Group Layer",
   "supportsDynamicLegends": false
  },
  {
   "id": 363,
   "name": "Faults",
   "parentLayerId": 362,
   "defaultVisibility": true,
   "subLayerIds": [
    364,
    365
   ],
   "minScale": 0,
   "maxScale": 0,
   "type": "Group Layer",
   "supportsDynamicLegends": false
  },
  {
   "id": 364,
   "name": "Displacement",
   "parentLayerId": 363,
   "defaultVisibility": true,
   "subLayerIds": null,
   "minScale": 10000000,
   "maxScale": 0,
   "type": "Feature Layer",
   "geometryType": "esriGeometryPoint",
   "supportsDynamicLegends": true
  },
  {
   "id": 365,
   "name": "1:8.5M faults",
   "parentLayerId": 363,
   "defaultVisibility": true,
   "subLayerIds": [
    366,
    367
   ],
   "minScale": 0,
   "maxScale": 0,
   "type": "Group Layer",
   "supportsDynamicLegends": false
  },
  {
   "id": 366,
   "name": "In beyond 1:10,000,001",
   "parentLayerId": 365,
   "defaultVisibility": true,
   "subLayerIds": null,
   "minScale": 0,
   "maxScale": 10000001,
   "type": "Feature Layer",
   "geometryType": "esriGeometryPolyline",
   "supportsDynamicLegends": true
  },
  {
   "id": 367,
   "name": "Out beyound 1:10,000,000",
   "parentLayerId": 365,
   "defaultVisibility": true,
   "subLayerIds": null,
   "minScale": 10000000,
   "maxScale": 0,
   "type": "Feature Layer",
   "geometryType": "esriGeometryPolyline",
   "supportsDynamicLegends": true
  },
  {
   "id": 368,
   "name": "Spreading ridges",
   "parentLayerId": 362,
   "defaultVisibility": true,
   "subLayerIds": null,
   "minScale": 0,
   "maxScale": 0,
   "type": "Feature Layer",
   "geometryType": "esriGeometryPolyline",
   "supportsDynamicLegends": true
  },
  {
   "id": 369,
   "name": "Plates and Microplates",
   "parentLayerId": 354,
   "defaultVisibility": true,
   "subLayerIds": [
    370,
    373
   ],
   "minScale": 0,
   "maxScale": 0,
   "type": "Group Layer",
   "supportsDynamicLegends": false
  },
  {
   "id": 370,
   "name": "Plate motion",
   "parentLayerId": 369,
   "defaultVisibility": true,
   "subLayerIds": [
    371,
    372
   ],
   "minScale": 0,
   "maxScale": 0,
   "type": "Group Layer",
   "supportsDynamicLegends": false
  },
  {
   "id": 371,
   "name": "Plate Motion Site Observations",
   "parentLayerId": 370,
   "defaultVisibility": true,
   "subLayerIds": null,
   "minScale": 0,
   "maxScale": 0,
   "type": "Feature Layer",
   "geometryType": "esriGeometryPoint",
   "supportsDynamicLegends": false
  },
  {
   "id": 372,
   "name": "Plate Motion Rotation Pole",
   "parentLayerId": 370,
   "defaultVisibility": true,
   "subLayerIds": null,
   "minScale": 0,
   "maxScale": 0,
   "type": "Feature Layer",
   "geometryType": "esriGeometryPoint",
   "supportsDynamicLegends": true
  },
  {
   "id": 373,
   "name": "Plate and Microplate boundaries",
   "parentLayerId": 369,
   "defaultVisibility": true,
   "subLayerIds": null,
   "minScale": 0,
   "maxScale": 0,
   "type": "Feature Layer",
   "geometryType": "esriGeometryPolyline",
   "supportsDynamicLegends": true
  },
  {
   "id": 374,
   "name": "Oceanic Crust",
   "parentLayerId": 354,
   "defaultVisibility": true,
   "subLayerIds": [
    375,
    376,
    377
   ],
   "minScale": 0,
   "maxScale": 0,
   "type": "Group Layer",
   "supportsDynamicLegends": false
  },
  {
   "id": 375,
   "name": "Oceanic crust isochrons",
   "parentLayerId": 374,
   "defaultVisibility": true,
   "subLayerIds": null,
   "minScale": 0,
   "maxScale": 0,
   "type": "Feature Layer",
   "geometryType": "esriGeometryPolyline",
   "supportsDynamicLegends": true
  },
  {
   "id": 376,
   "name": "Subducted slab depth contours",
   "parentLayerId": 374,
   "defaultVisibility": true,
   "subLayerIds": null,
   "minScale": 0,
   "maxScale": 0,
   "type": "Feature Layer",
   "geometryType": "esriGeometryPolyline",
   "supportsDynamicLegends": true
  },
  {
   "id": 377,
   "name": "Subducted edge of Hikurangi Plateau",
   "parentLayerId": 374,
   "defaultVisibility": true,
   "subLayerIds": null,
   "minScale": 0,
   "maxScale": 0,
   "type": "Feature Layer",
   "geometryType": "esriGeometryPolyline",
   "supportsDynamicLegends": true
  },
  {
   "id": 378,
   "name": "Crustal Geology",
   "parentLayerId": 354,
   "defaultVisibility": true,
   "subLayerIds": [
    379,
    380,
    381,
    382,
    383,
    384,
    385,
    386
   ],
   "minScale": 0,
   "maxScale": 0,
   "type": "Group Layer",
   "supportsDynamicLegends": false
  },
  {
   "id": 379,
   "name": "Sedimentary Basins",
   "parentLayerId": 378,
   "defaultVisibility": true,
   "subLayerIds": null,
   "minScale": 0,
   "maxScale": 0,
   "type": "Feature Layer",
   "geometryType": "esriGeometryPolygon",
   "supportsDynamicLegends": true
  },
  {
   "id": 380,
   "name": "Poorly constrained crust",
   "parentLayerId": 378,
   "defaultVisibility": true,
   "subLayerIds": null,
   "minScale": 0,
   "maxScale": 0,
   "type": "Feature Layer",
   "geometryType": "esriGeometryPolygon",
   "supportsDynamicLegends": true
  },
  {
   "id": 381,
   "name": "Volcanic arc",
   "parentLayerId": 378,
   "defaultVisibility": true,
   "subLayerIds": null,
   "minScale": 0,
   "maxScale": 0,
   "type": "Feature Layer",
   "geometryType": "esriGeometryPolygon",
   "supportsDynamicLegends": true
  },
  {
   "id": 382,
   "name": "Large Igneous Province",
   "parentLayerId": 378,
   "defaultVisibility": true,
   "subLayerIds": null,
   "minScale": 0,
   "maxScale": 0,
   "type": "Feature Layer",
   "geometryType": "esriGeometryPolygon",
   "supportsDynamicLegends": true
  },
  {
   "id": 383,
   "name": "Continental Zealandia basement",
   "parentLayerId": 378,
   "defaultVisibility": true,
   "subLayerIds": null,
   "minScale": 0,
   "maxScale": 0,
   "type": "Feature Layer",
   "geometryType": "esriGeometryPolygon",
   "supportsDynamicLegends": true
  },
  {
   "id": 384,
   "name": "Other Continental basement",
   "parentLayerId": 378,
   "defaultVisibility": true,
   "subLayerIds": null,
   "minScale": 0,
   "maxScale": 0,
   "type": "Feature Layer",
   "geometryType": "esriGeometryPolygon",
   "supportsDynamicLegends": true
  },
  {
   "id": 385,
   "name": "Oceanic Crust",
   "parentLayerId": 378,
   "defaultVisibility": true,
   "subLayerIds": null,
   "minScale": 0,
   "maxScale": 0,
   "type": "Feature Layer",
   "geometryType": "esriGeometryPolygon",
   "supportsDynamicLegends": true
  },
  {
   "id": 386,
   "name": "Geological units",
   "parentLayerId": 378,
   "defaultVisibility": false,
   "subLayerIds": null,
   "minScale": 0,
   "maxScale": 0,
   "type": "Feature Layer",
   "geometryType": "esriGeometryPolygon",
   "supportsDynamicLegends": true
  }
 ],
 "tables": [],
 "spatialReference": {
  "wkid": 3851,
  "latestWkid": 3851,
  "xyTolerance": 0.001,
  "zTolerance": 0.001,
  "mTolerance": 0.001,
  "falseX": -3.4904430988815E7,
  "falseY": -2.0182190252935003E7,
  "xyUnits": 1.1545190560060376E8,
  "falseZ": -100000,
  "zUnits": 10000,
  "falseM": -100000,
  "mUnits": 10000
 },
 "singleFusedMapCache": true,
 "tileInfo": {
  "rows": 512,
  "cols": 512,
  "dpi": 96,
  "format": "PNG8",
  "compressionQuality": 0,
  "origin": {
   "x": -33815800,
   "y": 55924300
  },
  "spatialReference": {
   "wkid": 3851,
   "latestWkid": 3851,
   "xyTolerance": 0.001,
   "zTolerance": 0.001,
   "mTolerance": 0.001,
   "falseX": -3.4904430988815E7,
   "falseY": -2.0182190252935003E7,
   "xyUnits": 1.1545190560060376E8,
   "falseZ": -100000,
   "zUnits": 10000,
   "falseM": -100000,
   "mUnits": 10000
  },
  "lods": [
   {
    "level": 0,
    "resolution": 13229.193125052918,
    "scale": 50000000
   },
   {
    "level": 1,
    "resolution": 8466.683600033868,
    "scale": 32000000
   },
   {
    "level": 2,
    "resolution": 4233.341800016934,
    "scale": 16000000
   },
   {
    "level": 3,
    "resolution": 2116.670900008467,
    "scale": 8000000
   },
   {
    "level": 4,
    "resolution": 1058.3354500042335,
    "scale": 4000000
   },
   {
    "level": 5,
    "resolution": 529.1677250021168,
    "scale": 2000000
   },
   {
    "level": 6,
    "resolution": 264.5838625010584,
    "scale": 1000000
   },
   {
    "level": 7,
    "resolution": 132.2919312505292,
    "scale": 500000
   },
   {
    "level": 8,
    "resolution": 66.1459656252646,
    "scale": 250000
   },
   {
    "level": 9,
    "resolution": 52.91677250021167,
    "scale": 200000
   },
   {
    "level": 10,
    "resolution": 39.687579375158755,
    "scale": 150000
   },
   {
    "level": 11,
    "resolution": 26.458386250105836,
    "scale": 100000
   },
   {
    "level": 12,
    "resolution": 19.843789687579378,
    "scale": 75000
   }
  ]
 },
 "storageInfo": {
  "storageFormat": "esriMapCacheStorageModeCompactV2",
  "packetSize": 128
 },
 "initialExtent": {
  "xmin": -3974173.22064057,
  "ymin": 5078716.637010676,
  "xmax": 9854273.22064057,
  "ymax": 9996783.362989325,
  "spatialReference": {
   "wkid": 3851,
   "latestWkid": 3851,
   "xyTolerance": 0.001,
   "zTolerance": 0.001,
   "mTolerance": 0.001,
   "falseX": -3.4904430988815E7,
   "falseY": -2.0182190252935003E7,
   "xyUnits": 1.1545190560060376E8,
   "falseZ": -100000,
   "zUnits": 10000,
   "falseM": -100000,
   "mUnits": 10000
  }
 },
 "fullExtent": {
  "xmin": 337299.9999999977,
  "ymin": 4370499.999999998,
  "xmax": 5542800.000000002,
  "ymax": 10705000,
  "spatialReference": {
   "wkid": 3851,
   "latestWkid": 3851,
   "xyTolerance": 0.001,
   "zTolerance": 0.001,
   "mTolerance": 0.001,
   "falseX": -3.4904430988815E7,
   "falseY": -2.0182190252935003E7,
   "xyUnits": 1.1545190560060376E8,
   "falseZ": -100000,
   "zUnits": 10000,
   "falseM": -100000,
   "mUnits": 10000
  }
 },
 "datesInUnknownTimezone": false,
 "minScale": 50000000,
 "maxScale": 75000,
 "maxLOD": 12,
 "units": "esriMeters",
 "supportedImageFormatTypes": "PNG32,PNG24,PNG,JPG,DIB,TIFF,EMF,PS,PDF,GIF,SVG,SVGZ,BMP",
 "documentInfo": {
  "Title": "Te Riu-a-Māui / Zealandia Compilation 2020",
  "Author": "Belinda Smith Lyttle",
  "Comments": "This webmap shows the main tectonic features and bathymetric environment of the region surrounding Te Riu-a-Māui / Zealandia. Earth's eighth continent is c. 5 Mkm2 in area and 95% submerged.\n\nUse of these data must acknowledge GNS Science 2020 as the original source of the data under a Creative Commons Attribution 4.0 International License.",
  "Subject": "This map shows the main tectonic features and bathymetric environment in the region of Te Riu-a-Māui / Zealandia.",
  "Category": "",
  "Version": "10.1",
  "AntialiasingMode": "None",
  "TextAntialiasingMode": "Force",
  "Keywords": "Zealandia,tectonic movement,bathymetry"
 },
 "supportsQueryDomains": true,
 "capabilities": "Map,Query,Data",
 "supportedQueryFormats": "JSON, geoJSON, PBF",
 "exportTilesAllowed": false,
 "referenceScale": 8500000.0,
 "datumTransformations": [
  {
   "geoTransforms": [
    {
     "wkid": 1565,
     "latestWkid": 1565,
     "transformForward": false,
     "name": "NZGD_2000_To_WGS_1984_1"
    }
   ]
  },
  {
   "geoTransforms": [
    {
     "wkid": 1565,
     "latestWkid": 1565,
     "transformForward": true,
     "name": "NZGD_2000_To_WGS_1984_1"
    }
   ]
  }
 ],
 "supportsDatumTransformation": true,
 "archivingInfo": {
  "supportsHistoricMoment": false
 },
 "supportsClipping": true,
 "supportsSpatialFilter": true,
 "supportsTimeRelation": true,
 "supportsQueryDataElements": true,
 "mapUnits": {
  "uwkid": 9001
 },
 "maxSelectionCount": 2000,
 "maxRecordCount": 1000,
 "maxImageHeight": 4096,
 "maxImageWidth": 4096,
 "supportedExtensions": "WFSServer, WMSServer",
 "resampling": false
}
