<?xml version="1.0" encoding="UTF-8" standalone="no"?>
<metadata xml:lang="en">
<Esri>
<CreaDate>20121030</CreaDate>
<CreaTime>15503100</CreaTime>
<ArcGISFormat>1.0</ArcGISFormat>
<ArcGISstyle>FGDC CSDGM Metadata</ArcGISstyle>
<SyncOnce>FALSE</SyncOnce>
<DataProperties>
<itemProps>
<itemName Sync="TRUE">Geographx_NewZealandShadeModel</itemName>
<nativeExtBox>
<westBL Sync="TRUE">1087842.020702</westBL>
<eastBL Sync="TRUE">2093712.020702</eastBL>
<southBL Sync="TRUE">4746242.609608</southBL>
<northBL Sync="TRUE">6227402.609608</northBL>
<exTypeCode Sync="TRUE">1</exTypeCode>
</nativeExtBox>
<imsContentType Sync="TRUE">002</imsContentType>
</itemProps>
<coordRef>
<type Sync="TRUE">Projected</type>
<geogcsn Sync="TRUE">GCS_NZGD_2000</geogcsn>
<csUnits Sync="TRUE">Linear Unit: Meter (1.000000)</csUnits>
<projcsn Sync="TRUE">NZGD_2000_New_Zealand_Transverse_Mercator</projcsn>
<peXml Sync="TRUE">&lt;ProjectedCoordinateSystem xsi:type='typens:ProjectedCoordinateSystem' xmlns:xsi='http://www.w3.org/2001/XMLSchema-instance' xmlns:xs='http://www.w3.org/2001/XMLSchema' xmlns:typens='http://www.esri.com/schemas/ArcGIS/10.5'&gt;&lt;WKT&gt;PROJCS[&amp;quot;NZGD_2000_New_Zealand_Transverse_Mercator&amp;quot;,GEOGCS[&amp;quot;GCS_NZGD_2000&amp;quot;,DATUM[&amp;quot;D_NZGD_2000&amp;quot;,SPHEROID[&amp;quot;GRS_1980&amp;quot;,6378137.0,298.257222101]],PRIMEM[&amp;quot;Greenwich&amp;quot;,0.0],UNIT[&amp;quot;Degree&amp;quot;,0.0174532925199433]],PROJECTION[&amp;quot;Transverse_Mercator&amp;quot;],PARAMETER[&amp;quot;False_Easting&amp;quot;,1600000.0],PARAMETER[&amp;quot;False_Northing&amp;quot;,10000000.0],PARAMETER[&amp;quot;Central_Meridian&amp;quot;,173.0],PARAMETER[&amp;quot;Scale_Factor&amp;quot;,0.9996],PARAMETER[&amp;quot;Latitude_Of_Origin&amp;quot;,0.0],UNIT[&amp;quot;Meter&amp;quot;,1.0],AUTHORITY[&amp;quot;EPSG&amp;quot;,2193]]&lt;/WKT&gt;&lt;XOrigin&gt;-4020900&lt;/XOrigin&gt;&lt;YOrigin&gt;1900&lt;/YOrigin&gt;&lt;XYScale&gt;450445547.3910538&lt;/XYScale&gt;&lt;ZOrigin&gt;-100000&lt;/ZOrigin&gt;&lt;ZScale&gt;10000&lt;/ZScale&gt;&lt;MOrigin&gt;-100000&lt;/MOrigin&gt;&lt;MScale&gt;10000&lt;/MScale&gt;&lt;XYTolerance&gt;0.001&lt;/XYTolerance&gt;&lt;ZTolerance&gt;0.001&lt;/ZTolerance&gt;&lt;MTolerance&gt;0.001&lt;/MTolerance&gt;&lt;HighPrecision&gt;true&lt;/HighPrecision&gt;&lt;WKID&gt;2193&lt;/WKID&gt;&lt;LatestWKID&gt;2193&lt;/LatestWKID&gt;&lt;/ProjectedCoordinateSystem&gt;</peXml>
</coordRef>
</DataProperties>
<SyncDate>20190405</SyncDate>
<SyncTime>13165400</SyncTime>
<ModDate>20190405</ModDate>
<ModTime>13165400</ModTime>
<scaleRange>
<minScale>500000</minScale>
<maxScale>5000</maxScale>
</scaleRange>
</Esri>
<mdLang>
<languageCode value="eng">
</languageCode>
<countryCode Sync="TRUE" value="NZL">
</countryCode>
</mdLang>
<mdChar>
<CharSetCd value="004">
</CharSetCd>
</mdChar>
<mdContact>
<rpIndName>omit</rpIndName>
<rpOrgName>LINZ - Land Information New Zealand</rpOrgName>
<rpPosName>Chief Topographer</rpPosName>
<rpCntInfo>
<cntPhone>
<voiceNum>04 4600110</voiceNum>
</cntPhone>
<cntAddress>
<delPoint>155 The Terrace</delPoint>
<city>Wellington</city>
<postCode>6145</postCode>
<country>NZ</country>
<eMailAdd>info@linz.govt.nz</eMailAdd>
</cntAddress>
</rpCntInfo>
</mdContact>
<mdStanName>ArcGIS Metadata</mdStanName>
<mdStanVer>1.0</mdStanVer>
<dataIdInfo>
<idCitation>
<resAltTitle>NZ 8m Hillshade Model (2012)</resAltTitle>
<date>
<createDate>2009-09-01T00:00:00</createDate>
</date>
<resTitle Sync="TRUE">Geographx_NewZealandShadeModel</resTitle>
<presForm>
<PresFormCd Sync="TRUE" value="011">
</PresFormCd>
</presForm>
</idCitation>
<idAbs>A hillshade model suitable for cartographic visualisation only. The original DEM was created by the interpolation of 20m contours with post-processing and filtering by Geographx (geographx.co.nz) and was primarily derived from January 2012 LINZ Topo50 20m contours (data.linz.govt.nz/layer/768).</idAbs>
<idPurp>This is a hillshade model developed from the NZ 8m Digital Elevation Model (2012) extracted from the LINZ Data Service.</idPurp>
<idCredit>LINZ - Land Information New Zealand</idCredit>
<idPoC>
<rpIndName>Omit</rpIndName>
<rpOrgName>LINZ - Land Information New Zealand</rpOrgName>
<rpPosName>Technical Leader, National Topographic Office</rpPosName>
<rpCntInfo>
<cntPhone>
<voiceNum>0800 665 463 or +64 4 460 0110</voiceNum>
<faxNum>+64 4 472 2244</faxNum>
</cntPhone>
<cntAddress>
<delPoint>155 The Terrace</delPoint>
<city>Wellington</city>
<postCode>6145</postCode>
<country>NZ</country>
<eMailAdd>info@linz.govt.nz</eMailAdd>
</cntAddress>
</rpCntInfo>
</idPoC>
<resMaint>
<usrDefFreq>
<duration>Compared to LINZ Data Service on a monthly basis and updated as needed. Last updated on 2018-05-23</duration>
</usrDefFreq>
</resMaint>
<dsFormat>
<formatName>*.xml</formatName>
<formatVer>Unknown</formatVer>
</dsFormat>
<themeKeys>
<thesaName>
<resTitle>ANZLIC Jurisdictions</resTitle>
<date>
<reviseDate>2008-10-29T00:00:00</reviseDate>
</date>
<resEd>Version 2.1</resEd>
<resEdDate>20081029</resEdDate>
<citId>
<identCode>http://asdd.ga.gov.au/asdd/profileinfo/anzlic-jurisdic.xml#anzlic-jurisdic</identCode>
</citId>
<citRespParty>
<rpOrgName>ANZLIC the Spatial Information Council</rpOrgName>
</citRespParty>
</thesaName>
<keyword>New Zealand</keyword>
</themeKeys>
<searchKeys>
<keyword>New Zealand</keyword>
</searchKeys>
<resConst>
<LegConsts>
<useLimit>Released under Creative Commons Attribution 4.0 International with: Following Disclaimers: 1. Representation of a road or track does not necessarily indicate public right of access. For access rights, maps and other information, contact the New Zealand Walking Access Commission - www.walkingaccess.govt.nz 2. The Department of Conservation and other agencies should be contacted for the latest information on tracks and back country huts. Closed tracks are defined as being no longer maintained or passable and should not be used. 3. Not all aerial wires, cableways and obstructions that could be hazardous to aircraft are held in the data. 4. Contours and spot elevations in forest and snow areas may be less accurate. 5. Not all pipelines including both underground and above ground are held in the data or shown on the printed maps. For the latest information please contact the utility and infrastructure agencies 6. Permits may be required to visit some sensitive and special islands and areas. Contact the Department of Conservation to see if you need to apply for a permit. Following Attribution: If you publish, distribute or otherwise disseminate this work to the public without adapting it, the following attribution to Land Information New Zealand should be used: 'CC BY 4.0 Land Information New Zealand.' If you adapt this work in any way or include it in a collection, and publish, distribute or otherwise disseminate that adaptation or collection to the public, the following attribution to Land Information New Zealand should be used: 'Contains data sourced from the LINZ Data Service and licensed for reuse under CC BY 4.0.' If 'attribution stacking' problems exist then the requirement to display the above attribution statements is waived and in lieu the attribution statement is to be made in any terms or conditions associated with the work/ product/ application/ etc.</useLimit>
</LegConsts>
</resConst>
<resConst>
<LegConsts>
<useLimit>Copyright 2011 Crown copyright (c) Land Information New Zealand and the New Zealand Government. All rights reserved</useLimit>
</LegConsts>
</resConst>
<resConst>
<Consts>
<useLimit>Creative Commons Attribution 4.0 International</useLimit>
</Consts>
</resConst>
<dataScale>
<equScale>
<rfDenom>50000</rfDenom>
</equScale>
</dataScale>
<dataLang>
<languageCode value="eng">
</languageCode>
<countryCode Sync="TRUE" value="NZL">
</countryCode>
</dataLang>
<dataExt>
<geoEle>
<GeoBndBox>
<westBL>167.636831444</westBL>
<eastBL>177.987460067</eastBL>
<southBL>-46.9013197413</southBL>
<northBL>-35.0631219539</northBL>
</GeoBndBox>
</geoEle>
</dataExt>
<tpCat>
<TopicCatCd value="010">
</TopicCatCd>
</tpCat>
<envirDesc Sync="TRUE"> Version 6.2 (Build 9200) ; Esri ArcGIS 10.5.1.7333</envirDesc>
<spatRpType>
<SpatRepTypCd Sync="TRUE" value="002">
</SpatRepTypCd>
</spatRpType>
<dataExt>
<geoEle>
<GeoBndBox esriExtentType="search">
<exTypeCode Sync="TRUE">1</exTypeCode>
<westBL Sync="TRUE">166.232129</westBL>
<eastBL Sync="TRUE">179.525772</eastBL>
<northBL Sync="TRUE">-33.969145</northBL>
<southBL Sync="TRUE">-47.437263</southBL>
</GeoBndBox>
</geoEle>
</dataExt>
</dataIdInfo>
<mdConst>
<LegConsts>
<useLimit>Copyright 2011 Crown copyright (c) Land Information New Zealand and the New Zealand Government. All rights reserved</useLimit>
</LegConsts>
</mdConst>
<mdConst>
<LegConsts>
<useLimit>Released under Creative Commons Attribution 4.0 International</useLimit>
</LegConsts>
</mdConst>
<dqInfo>
<dqScope>
<scpLvlDesc>
<other>dataset</other>
</scpLvlDesc>
</dqScope>
<dataLineage>
<statement>LINZ and our predecessors have been responsible for national topographic mapping in New Zealand for more than a hundred years. The first digital data at 1:50,000 was created in the late 80's and early 90's by scanning the 1:50,000 maps that existed at the time (known as the NZMS 260 series, which replaced the imperial NZMS 1 series at 1inch to 1 mile) The raw data was created by photogrammetrists who from 1974 to 1997 mapped the country from overlapping pairs of aerial photographs. Cartographers then took the data and added symbols and text, and created the colour separations needed to produce the printed maps. From 1994 to 2006 LINZ used orthophotos to update the map data. Today the map data is updated primarily from aerial and satellite imagery, and data supplied from Department of Conservation, Transit NZ and others. LINZ releases regular updates of the Topo50 maps and data; for details refer http://www.linz.govt.nz/topography/topo-maps/topo50/update-history Some features are subject to change more than others. For example in any given map revision, it is likely that road data will undergo more change than, for example, fumeroles. However, all data is examined during a full data revision.</statement>
</dataLineage>
</dqInfo>
<eainfo>
<detailed Name="Airport_Polygons_50K">
<enttyp>
<enttypl Sync="TRUE">Airport_Polygons_50K</enttypl>
<enttypt Sync="TRUE">Feature Class</enttypt>
<enttypc Sync="TRUE">1</enttypc>
</enttyp>
<attr>
<attrlabl Sync="TRUE">OBJECTID</attrlabl>
<attalias Sync="TRUE">OBJECTID</attalias>
<attrtype Sync="TRUE">OID</attrtype>
<attwidth Sync="TRUE">4</attwidth>
<atprecis Sync="TRUE">0</atprecis>
<attscale Sync="TRUE">0</attscale>
<attrdef Sync="TRUE">Internal feature number.</attrdef>
<attrdefs Sync="TRUE">Esri</attrdefs>
<attrdomv>
<udom Sync="TRUE">Sequential unique whole numbers that are automatically generated.</udom>
</attrdomv>
</attr>
<attr>
<attrlabl Sync="TRUE">SHAPE</attrlabl>
<attalias Sync="TRUE">Shape</attalias>
<attrtype Sync="TRUE">Geometry</attrtype>
<attwidth Sync="TRUE">0</attwidth>
<atprecis Sync="TRUE">0</atprecis>
<attscale Sync="TRUE">0</attscale>
<attrdef Sync="TRUE">Feature geometry.</attrdef>
<attrdefs Sync="TRUE">Esri</attrdefs>
<attrdomv>
<udom Sync="TRUE">Coordinates defining the features.</udom>
</attrdomv>
</attr>
<attr>
<attrlabl Sync="TRUE">t50_fid</attrlabl>
<attalias Sync="TRUE">t50_fid</attalias>
<attrtype Sync="TRUE">Integer</attrtype>
<attwidth Sync="TRUE">4</attwidth>
<atprecis Sync="TRUE">0</atprecis>
<attscale Sync="TRUE">0</attscale>
</attr>
<attr>
<attrlabl Sync="TRUE">name_ascii</attrlabl>
<attalias Sync="TRUE">name_ascii</attalias>
<attrtype Sync="TRUE">String</attrtype>
<attwidth Sync="TRUE">75</attwidth>
<atprecis Sync="TRUE">0</atprecis>
<attscale Sync="TRUE">0</attscale>
</attr>
<attr>
<attrlabl Sync="TRUE">macronated</attrlabl>
<attalias Sync="TRUE">macronated</attalias>
<attrtype Sync="TRUE">String</attrtype>
<attwidth Sync="TRUE">1</attwidth>
<atprecis Sync="TRUE">0</atprecis>
<attscale Sync="TRUE">0</attscale>
</attr>
<attr>
<attrlabl Sync="TRUE">name</attrlabl>
<attalias Sync="TRUE">name</attalias>
<attrtype Sync="TRUE">String</attrtype>
<attwidth Sync="TRUE">75</attwidth>
<atprecis Sync="TRUE">0</atprecis>
<attscale Sync="TRUE">0</attscale>
</attr>
<attr>
<attrlabl Sync="TRUE">SHAPE_Length</attrlabl>
<attalias Sync="TRUE">Shape_Length</attalias>
<attrtype Sync="TRUE">Double</attrtype>
<attwidth Sync="TRUE">8</attwidth>
<atprecis Sync="TRUE">0</atprecis>
<attscale Sync="TRUE">0</attscale>
<attrdef Sync="TRUE">Length of feature in internal units.</attrdef>
<attrdefs Sync="TRUE">Esri</attrdefs>
<attrdomv>
<udom Sync="TRUE">Positive real numbers that are automatically generated.</udom>
</attrdomv>
</attr>
<attr>
<attrlabl Sync="TRUE">SHAPE_Area</attrlabl>
<attalias Sync="TRUE">Shape_Area</attalias>
<attrtype Sync="TRUE">Double</attrtype>
<attwidth Sync="TRUE">8</attwidth>
<atprecis Sync="TRUE">0</atprecis>
<attscale Sync="TRUE">0</attscale>
<attrdef Sync="TRUE">Area of feature in internal units squared.</attrdef>
<attrdefs Sync="TRUE">Esri</attrdefs>
<attrdomv>
<udom Sync="TRUE">Positive real numbers that are automatically generated.</udom>
</attrdomv>
</attr>
</detailed>
</eainfo>
<distInfo>
<distFormat>
<formatName Sync="TRUE">File Geodatabase Raster Dataset</formatName>
</distFormat>
</distInfo>
<mdHrLv>
<ScopeCd Sync="TRUE" value="005">
</ScopeCd>
</mdHrLv>
<mdHrLvName Sync="TRUE">dataset</mdHrLvName>
<refSysInfo>
<RefSystem>
<refSysID>
<identCode Sync="TRUE" code="2193">
</identCode>
<idCodeSpace Sync="TRUE">EPSG</idCodeSpace>
<idVersion Sync="TRUE">7.9.4(9.0.0)</idVersion>
</refSysID>
</RefSystem>
</refSysInfo>
<spdoinfo>
<rastinfo>
<rasttype Sync="TRUE">Pixel</rasttype>
<rowcount Sync="TRUE">98744</rowcount>
<colcount Sync="TRUE">67058</colcount>
<rastxsz Sync="TRUE">15.000000</rastxsz>
<rastysz Sync="TRUE">15.000000</rastysz>
<rastbpp Sync="TRUE">8</rastbpp>
<vrtcount Sync="TRUE">1</vrtcount>
<rastorig Sync="TRUE">Upper Left</rastorig>
<rastcmap Sync="TRUE">FALSE</rastcmap>
<rastcomp Sync="TRUE">LZ77</rastcomp>
<rastband Sync="TRUE">1</rastband>
<rastdtyp Sync="TRUE">pixel codes</rastdtyp>
<rastifor Sync="TRUE">FGDBR</rastifor>
<rastplyr Sync="TRUE">TRUE</rastplyr>
</rastinfo>
</spdoinfo>
<spref>
<horizsys>
<planar>
<planci>
<plance Sync="TRUE">row and column</plance>
<coordrep>
<absres Sync="TRUE">15.000000</absres>
<ordres Sync="TRUE">15.000000</ordres>
</coordrep>
</planci>
</planar>
</horizsys>
</spref>
<mdDateSt Sync="TRUE">20190405</mdDateSt>
</metadata>
