{ "currentVersion": 11.5, "serviceDescription": "

In addition to contour lines, relief shading helps visualise the terrain. Hills and valleys are shaded as if they were illuminated from the north-west.<\/SPAN><\/P>
Relief layers were generated for each sheet, and specifically for use in the Topo250 map series. There may be subtle differences in the relief shading of adjacent map sheets. <\/SPAN><\/P>
The Topo50 map series provides topographic mapping for the New Zealand mainland and Chatham Islands, at 1:50,000 scale.<\/SPAN><\/P>
Further information on Topo50: http://www.linz.govt.nz/topography/topo-maps/topo50<\/SPAN><\/P><\/DIV><\/DIV><\/DIV>", "name": "basemaps/LINZ_ChathamIslandShadeModel_CITM", "description": "

In addition to contour lines, relief shading helps visualise the terrain. Hills and valleys are shaded as if they were illuminated from the north-west.<\/SPAN><\/P>
Relief layers were generated for each sheet, and specifically for use in the Topo250 map series. There may be subtle differences in the relief shading of adjacent map sheets. <\/SPAN><\/P>
The Topo50 map series provides topographic mapping for the New Zealand mainland and Chatham Islands, at 1:50,000 scale.<\/SPAN><\/P>
Further information on Topo50: http://www.linz.govt.nz/topography/topo-maps/topo50<\/SPAN><\/P><\/DIV><\/DIV><\/DIV>", "extent": { "xmin": 3468331.3189788694, "ymin": 5077780.30746974, "xmax": 3527641.3189788694, "ymax": 5175130.30746974, "spatialReference": { "wkid": 3793, "latestWkid": 3793 } }, "initialExtent": { "xmin": 3468331.3189788694, "ymin": 5077780.30746974, "xmax": 3527641.3189788694, "ymax": 5175130.30746974, "spatialReference": { "wkid": 3793, "latestWkid": 3793 } }, "fullExtent": { "xmin": 3468331.3189788694, "ymin": 5077780.30746974, "xmax": 3527641.3189788694, "ymax": 5175130.30746974, "spatialReference": { "wkid": 3793, "latestWkid": 3793 } }, "sortableFields": "", "bandCount": 1, "pixelType": "U8", "minValues": [ 0 ], "maxValues": [ 254 ], "meanValues": [ 178.8269242903855 ], "stdvValues": [ 17.03213651169699 ], "serviceProperties": "Center<\/MosaicMethod>First<\/MosaicOperator>true<\/SortAscending><\/LockImageID><\/TileOrderField>0<\/TileOrderBase>0.000000<\/AvgImageSpacingX>0.000000<\/AvgImageSpacingY>0.0<\/ViewPointX>0.0<\/ViewPointY>0.0<\/ViewPointDefShiftX>0.0<\/ViewPointDefShiftY>None<\/CompressionMethod>75<\/CompressionQuality>0.010000<\/CompressionTolerance>Bilinear<\/SamplingMethod><\/ImageServiceProperties><\/ImageServer>", "allowedFields": "", "hasMultidimensions": false, "pixelSizeX": 15, "pixelSizeY": 15, "meanPixelSize": 15, "datasetFormat": "FGDBR", "uncompressedSize": 25661460, "blockWidth": 128, "blockHeight": 128, "compressionType": "LZ77", "bandNames": [ "Band_1" ], "allowCopy": true, "allowAnalysis": true, "itemAccess": false, "inspectionCapabilities": "", "minPixelSize": 0, "maxPixelSize": 0, "copyrightText": "LINZ - Land Information New Zealand", "serviceDataType": "esriImageServiceDataTypeGeneric", "serviceSourceType": "esriImageServiceSourceTypeDataset", "objectIdField": "", "fields": [], "capabilities": "Image,Metadata,Mensuration", "defaultMosaicMethod": "Center", "allowedMosaicMethods": "", "sortField": "", "sortValue": null, "sortAscending": true, "mosaicOperator": "First", "defaultCompressionQuality": 75, "defaultResamplingMethod": "Bilinear", "maxImageHeight": 4100, "maxImageWidth": 15000, "allowRasterFunction": true, "rasterFunctionInfos": [ { "name": "None", "description": "", "help": "" } ], "rasterTypeInfos": [ { "name": "Raster Dataset", "description": "Supports all ArcGIS Raster Datasets", "help": "" } ], "mensurationCapabilities": "Basic", "hasHistograms": true, "hasColormap": false, "hasRasterAttributeTable": true, "minScale": 0, "maxScale": 0, "exportTilesAllowed": false, "supportsStatistics": false, "supportsAdvancedQueries": false, "editFieldsInfo": null, "ownershipBasedAccessControlForRasters": null, "allowComputeTiePoints": false, "useStandardizedQueries": true, "advancedQueryCapabilities": { "useStandardizedQueries": true, "supportsStatistics": false, "supportsOrderBy": false, "supportsDistinct": false, "supportsPagination": false }, "spatialReference": { "wkid": 3793, "latestWkid": 3793 } }