Shaded version of NIWA's bathymetry model of New Zealand at 250m resolution. The model is a c<\/SPAN>ompilation of data digitised from published coastal charts, digital soundings archive, navy collector sheets and digital multibeam data<\/SPAN>sourced from surveys by NIWA, LINZ, as well as international surveys by vessels from United States of America, France, Germany, Australia, and Japan<\/SPAN>. <\/SPAN>All data used is held at NIWA.<\/SPAN><\/P><\/P><\/DIV><\/DIV><\/DIV>",
"name": "basemaps/NIWA_BathymetricShadeModel_NZCS",
"description": "
Shaded version of NIWA's bathymetry model of New Zealand at 250m resolution. The model is a c<\/SPAN>ompilation of data digitised from published coastal charts, digital soundings archive, navy collector sheets and digital multibeam data<\/SPAN>sourced from surveys by NIWA, LINZ, as well as international surveys by vessels from United States of America, France, Germany, Australia, and Japan<\/SPAN>. <\/SPAN>All data used is held at NIWA.<\/SPAN><\/P><\/P><\/DIV><\/DIV><\/DIV>",
"extent": {
"xmin": 1315947.87728211,
"ymin": 4997698.101281367,
"xmax": 5098697.87728211,
"ymax": 8908448.101281367,
"spatialReference": {
"wkid": 3851,
"latestWkid": 3851
}
},
"initialExtent": {
"xmin": 1315947.87728211,
"ymin": 4997698.101281367,
"xmax": 5098697.87728211,
"ymax": 8908448.101281367,
"spatialReference": {
"wkid": 3851,
"latestWkid": 3851
}
},
"fullExtent": {
"xmin": 1315947.87728211,
"ymin": 4997698.101281367,
"xmax": 5098697.87728211,
"ymax": 8908448.101281367,
"spatialReference": {
"wkid": 3851,
"latestWkid": 3851
}
},
"sortableFields": "",
"bandCount": 1,
"pixelType": "U8",
"minValues": [
0
],
"maxValues": [
248
],
"meanValues": [
86.46023847721136
],
"stdvValues": [
11.532250667561923
],
"serviceProperties": "Center<\/MosaicMethod>First<\/MosaicOperator>true<\/SortAscending><\/LockImageID><\/TileOrderField>0<\/TileOrderBase>0.000000<\/AvgImageSpacingX>0.000000<\/AvgImageSpacingY>0.0<\/ViewPointX>0.0<\/ViewPointY>0.0<\/ViewPointDefShiftX>0.0<\/ViewPointDefShiftY>None<\/CompressionMethod>75<\/CompressionQuality>0.010000<\/CompressionTolerance>Bilinear<\/SamplingMethod><\/ImageServiceProperties><\/ImageServer>",
"allowedFields": "",
"hasMultidimensions": false,
"pixelSizeX": 250,
"pixelSizeY": 250,
"meanPixelSize": 250,
"datasetFormat": "FGDBR",
"uncompressedSize": 236694233,
"blockWidth": 128,
"blockHeight": 128,
"compressionType": "LZ77",
"bandNames": [
"Band_1"
],
"allowCopy": true,
"allowAnalysis": true,
"itemAccess": false,
"inspectionCapabilities": "",
"minPixelSize": 0,
"maxPixelSize": 0,
"copyrightText": "NIWA\n\nSee:\nMitchell, J.S.; Mackay, K.A.; Neil, H.L.; Mackay, E.J.; Pallentin, A.; Notman, P. (2012) New Zealand Region Bathymetry, 1:4 000 000, 2nd Edition. NIWA Chart, Miscellaneous Series No. 92",
"serviceDataType": "esriImageServiceDataTypeGeneric",
"serviceSourceType": "esriImageServiceSourceTypeDataset",
"objectIdField": "",
"fields": [],
"capabilities": "Image,Metadata,Mensuration",
"defaultMosaicMethod": "Center",
"allowedMosaicMethods": "",
"sortField": "",
"sortValue": null,
"sortAscending": true,
"mosaicOperator": "First",
"defaultCompressionQuality": 75,
"defaultResamplingMethod": "Bilinear",
"maxImageHeight": 4100,
"maxImageWidth": 15000,
"allowRasterFunction": true,
"rasterFunctionInfos": [
{
"name": "None",
"description": "",
"help": ""
}
],
"rasterTypeInfos": [
{
"name": "Raster Dataset",
"description": "Supports all ArcGIS Raster Datasets",
"help": ""
}
],
"mensurationCapabilities": "Basic",
"hasHistograms": true,
"hasColormap": false,
"hasRasterAttributeTable": true,
"minScale": 0,
"maxScale": 0,
"exportTilesAllowed": false,
"supportsStatistics": false,
"supportsAdvancedQueries": false,
"editFieldsInfo": null,
"ownershipBasedAccessControlForRasters": null,
"allowComputeTiePoints": false,
"useStandardizedQueries": true,
"advancedQueryCapabilities": {
"useStandardizedQueries": true,
"supportsStatistics": false,
"supportsOrderBy": false,
"supportsDistinct": false,
"supportsPagination": false
},
"spatialReference": {
"wkid": 3851,
"latestWkid": 3851
}
}