{
 "currentVersion": 11.5,
 "serviceDescription": "Individual print QMAP sheets, scanned and mosaiced",
 "name": "basemaps/qmap_raster",
 "description": "Individual print QMAP sheets, scanned and mosaiced",
 "extent": {
  "xmin": 1989972.1036282592,
  "ymin": 5309978.513331306,
  "xmax": 3009965.9103227453,
  "ymax": 6789982.990868496,
  "spatialReference": {
   "wkid": 27200,
   "latestWkid": 27200
  }
 },
 "initialExtent": {
  "xmin": 1989972.1036282592,
  "ymin": 5309978.513331306,
  "xmax": 3009965.9103227453,
  "ymax": 6789982.990868496,
  "spatialReference": {
   "wkid": 27200,
   "latestWkid": 27200
  }
 },
 "fullExtent": {
  "xmin": 1989972.1036282592,
  "ymin": 5309978.513331306,
  "xmax": 3009965.9103227453,
  "ymax": 6789982.990868496,
  "spatialReference": {
   "wkid": 27200,
   "latestWkid": 27200
  }
 },
 "sortableFields": "",
 "bandCount": 3,
 "pixelType": "U8",
 "minValues": [
  0,
  0,
  0
 ],
 "maxValues": [
  255,
  255,
  255
 ],
 "meanValues": [
  203.81353627859428,
  201.64445364872637,
  193.07419639553936
 ],
 "stdvValues": [
  54.71593287181686,
  54.03020608354881,
  61.40136275502137
 ],
 "serviceProperties": "Center<\/MosaicMethod>First<\/MosaicOperator>true<\/SortAscending><\/LockImageID><\/TileOrderField>0<\/TileOrderBase>0.000000<\/AvgImageSpacingX>0.000000<\/AvgImageSpacingY>0.0<\/ViewPointX>0.0<\/ViewPointY>0.0<\/ViewPointDefShiftX>0.0<\/ViewPointDefShiftY>None<\/CompressionMethod>75<\/CompressionQuality>0.010000<\/CompressionTolerance>Bilinear<\/SamplingMethod><\/ImageServiceProperties><\/ImageServer>",
 "allowedFields": "",
 "hasMultidimensions": false,
 "pixelSizeX": 25.431815062071113,
 "pixelSizeY": 25.431815062070445,
 "meanPixelSize": 25.43181506207078,
 "datasetFormat": "FGDBR",
 "uncompressedSize": 7002080595,
 "blockWidth": 128,
 "blockHeight": 128,
 "compressionType": "JPEG2000",
 "bandNames": [
  "Band_1",
  "Band_2",
  "Band_3"
 ],
 "allowCopy": true,
 "allowAnalysis": true,
 "itemAccess": false,
 "inspectionCapabilities": "",
 "minPixelSize": 0,
 "maxPixelSize": 0,
 "copyrightText": "GNS",
 "serviceDataType": "esriImageServiceDataTypeRGB",
 "serviceSourceType": "esriImageServiceSourceTypeDataset",
 "objectIdField": "",
 "fields": [],
 "capabilities": "Mensuration,Image,Metadata",
 "defaultMosaicMethod": "Center",
 "allowedMosaicMethods": "",
 "sortField": "",
 "sortValue": null,
 "sortAscending": true,
 "mosaicOperator": "First",
 "defaultCompressionQuality": 75,
 "defaultResamplingMethod": "Bilinear",
 "maxImageHeight": 4100,
 "maxImageWidth": 15000,
 "allowRasterFunction": true,
 "rasterFunctionInfos": [
  {
   "name": "None",
   "description": "",
   "help": ""
  }
 ],
 "rasterTypeInfos": [
  {
   "name": "Raster Dataset",
   "description": "Supports all ArcGIS Raster Datasets",
   "help": ""
  }
 ],
 "mensurationCapabilities": "Basic",
 "hasHistograms": true,
 "hasColormap": false,
 "hasRasterAttributeTable": false,
 "minScale": 0,
 "maxScale": 0,
 "exportTilesAllowed": false,
 "supportsStatistics": false,
 "supportsAdvancedQueries": false,
 "editFieldsInfo": null,
 "ownershipBasedAccessControlForRasters": null,
 "allowComputeTiePoints": false,
 "useStandardizedQueries": true,
 "advancedQueryCapabilities": {
  "useStandardizedQueries": true,
  "supportsStatistics": false,
  "supportsOrderBy": false,
  "supportsDistinct": false,
  "supportsPagination": false
 },
 "spatialReference": {
  "wkid": 27200,
  "latestWkid": 27200
 },
 "resampling": false
}
