{ "currentVersion": 11.5, "serviceDescription": "

Sediment thickness was calculated as the difference between SEEBASE and Bathymetry<\/span><\/p>
<\/p>
In 2012, FROGTECH Pty Ltd completed a SEEBASE™ model for the New Zealand Extended Continental Shelf (NZ ECS) at a regional scale of 1:3 million. SEEBASE™ is FROGTECH's signature product, and stands for Structurally Enhanced view of Economic BASEment. <\/span><\/span><\/p>
<\/p>
SEEBASE™ is a depth-to-basement model that represents the culmination of a number of calibration and integration steps: <\/span><\/span><\/p>
\u2022 Integrated structural/kinematic interpretation <\/span><\/span><\/p>
\u2022 Geophysical modelling <\/span><\/span><\/p>
\u2022 Seismic and well calibration <\/span><\/span><\/p>
\u2022 Integration of tectonic events and responses <\/span><\/span><\/p>
<\/p>
The NZ ECS SEEBASE™ is a model of economic basement topography that is consistent with the structural evolution of New Zealand basement terranes and associated basins. <\/span><\/span><\/p>
<\/p><\/div><\/div><\/div>", "name": "geophysical/frogtech_sediment_thickness", "description": "

Sediment thickness was calculated as the difference between SEEBASE and Bathymetry<\/span><\/p>
<\/p>
In 2012, FROGTECH Pty Ltd completed a SEEBASE™ model for the New Zealand Extended Continental Shelf (NZ ECS) at a regional scale of 1:3 million. SEEBASE™ is FROGTECH's signature product, and stands for Structurally Enhanced view of Economic BASEment. <\/span><\/span><\/p>
<\/p>
SEEBASE™ is a depth-to-basement model that represents the culmination of a number of calibration and integration steps: <\/span><\/span><\/p>
\u2022 Integrated structural/kinematic interpretation <\/span><\/span><\/p>
\u2022 Geophysical modelling <\/span><\/span><\/p>
\u2022 Seismic and well calibration <\/span><\/span><\/p>
\u2022 Integration of tectonic events and responses <\/span><\/span><\/p>
<\/p>
The NZ ECS SEEBASE™ is a model of economic basement topography that is consistent with the structural evolution of New Zealand basement terranes and associated basins. <\/span><\/span><\/p>
<\/p><\/div><\/div><\/div>", "extent": { "xmin": 613640, "ymin": 3765400, "xmax": 3217640, "ymax": 7109400, "spatialReference": { "wkid": 2193, "latestWkid": 2193 } }, "initialExtent": { "xmin": 613640, "ymin": 3765400, "xmax": 3217640, "ymax": 7109400, "spatialReference": { "wkid": 2193, "latestWkid": 2193 } }, "fullExtent": { "xmin": 613640, "ymin": 3765400, "xmax": 3217640, "ymax": 7109400, "spatialReference": { "wkid": 2193, "latestWkid": 2193 } }, "sortableFields": "", "bandCount": 1, "pixelType": "F32", "minValues": [ 2.963484075735323E-5 ], "maxValues": [ 15024.474609375 ], "meanValues": [ 2028.7201232406223 ], "stdvValues": [ 1847.6626573698413 ], "serviceProperties": "Center<\/MosaicMethod>First<\/MosaicOperator>true<\/SortAscending><\/LockImageID><\/TileOrderField>0<\/TileOrderBase>0.000000<\/AvgImageSpacingX>0.000000<\/AvgImageSpacingY>0.0<\/ViewPointX>0.0<\/ViewPointY>0.0<\/ViewPointDefShiftX>0.0<\/ViewPointDefShiftY>None<\/CompressionMethod>75<\/CompressionQuality>0.010000<\/CompressionTolerance>Bilinear<\/SamplingMethod><\/ImageServiceProperties><\/ImageServer>", "allowedFields": "", "hasMultidimensions": false, "pixelSizeX": 1000, "pixelSizeY": 1000, "meanPixelSize": 1000, "datasetFormat": "FGDBR", "uncompressedSize": 34831104, "blockWidth": 128, "blockHeight": 128, "compressionType": "LZ77", "bandNames": [ "Band_1" ], "allowCopy": true, "allowAnalysis": true, "itemAccess": false, "inspectionCapabilities": "", "minPixelSize": 0, "maxPixelSize": 0, "copyrightText": "FROGTECH", "serviceDataType": "esriImageServiceDataTypeGeneric", "serviceSourceType": "esriImageServiceSourceTypeDataset", "objectIdField": "", "fields": [], "capabilities": "Mensuration,Image,Metadata", "defaultMosaicMethod": "Center", "allowedMosaicMethods": "", "sortField": "", "sortValue": null, "sortAscending": true, "mosaicOperator": "First", "defaultCompressionQuality": 75, "defaultResamplingMethod": "Bilinear", "maxImageHeight": 4100, "maxImageWidth": 15000, "allowRasterFunction": true, "rasterFunctionInfos": [ { "name": "None", "description": "", "help": "" } ], "rasterTypeInfos": [ { "name": "Raster Dataset", "description": "Supports all ArcGIS Raster Datasets", "help": "" } ], "mensurationCapabilities": "Basic", "hasHistograms": true, "hasColormap": false, "hasRasterAttributeTable": false, "minScale": 0, "maxScale": 0, "exportTilesAllowed": false, "supportsStatistics": false, "supportsAdvancedQueries": false, "editFieldsInfo": null, "ownershipBasedAccessControlForRasters": null, "allowComputeTiePoints": false, "useStandardizedQueries": true, "advancedQueryCapabilities": { "useStandardizedQueries": true, "supportsStatistics": false, "supportsOrderBy": false, "supportsDistinct": false, "supportsPagination": false }, "spatialReference": { "wkid": 2193, "latestWkid": 2193 }, "resampling": false }