{
 "currentVersion": 11.5,
 "serviceDescription": "In 2012, FROGTECH Pty Ltd completed a SEEBASE™ model for the New Zealand Extended Continental Shelf (NZ ECS) at a regional scale of 1:3 million. SEEBASE™ is FROGTECH's signature product, and stands for Structurally Enhanced view of Economic BASEment. SEEBASE™ is a depth-to-basement model that represents the culmination of a number of calibration and integration steps: \u2022 Integrated structural/kinematic interpretation \u2022 Geophysical modelling \u2022 Seismic and well calibration \u2022 Integration of tectonic events and responses The NZ ECS SEEBASE™ is a model of economic basement topography that is consistent with the structural evolution of New Zealand basement terranes and associated basins. ",
 "name": "geophysical/frogtech_seebase",
 "description": "In 2012, FROGTECH Pty Ltd completed a SEEBASE™ model for the New Zealand Extended Continental Shelf (NZ ECS) at a regional scale of 1:3 million. SEEBASE™ is FROGTECH's signature product, and stands for Structurally Enhanced view of Economic BASEment. SEEBASE™ is a depth-to-basement model that represents the culmination of a number of calibration and integration steps: \u2022 Integrated structural/kinematic interpretation \u2022 Geophysical modelling \u2022 Seismic and well calibration \u2022 Integration of tectonic events and responses The NZ ECS SEEBASE™ is a model of economic basement topography that is consistent with the structural evolution of New Zealand basement terranes and associated basins. ",
 "extent": {
  "xmin": 468640.00000000023,
  "ymin": 3531040.0000000023,
  "xmax": 3370100.6374022774,
  "ymax": 7238399.999999988,
  "spatialReference": {
   "wkid": 2193,
   "latestWkid": 2193
  }
 },
 "initialExtent": {
  "xmin": 468640.00000000023,
  "ymin": 3531040.0000000023,
  "xmax": 3370100.6374022774,
  "ymax": 7238399.999999988,
  "spatialReference": {
   "wkid": 2193,
   "latestWkid": 2193
  }
 },
 "fullExtent": {
  "xmin": 468640.00000000023,
  "ymin": 3531040.0000000023,
  "xmax": 3370100.6374022774,
  "ymax": 7238399.999999988,
  "spatialReference": {
   "wkid": 2193,
   "latestWkid": 2193
  }
 },
 "sortableFields": "",
 "bandCount": 1,
 "pixelType": "F32",
 "minValues": [
  -14868.7998046875
 ],
 "maxValues": [
  2823.06005859375
 ],
 "meanValues": [
  -4024.3955242079096
 ],
 "stdvValues": [
  1732.615436764244
 ],
 "serviceProperties": "Center<\/MosaicMethod>First<\/MosaicOperator>true<\/SortAscending><\/LockImageID><\/TileOrderField>0<\/TileOrderBase>0.000000<\/AvgImageSpacingX>0.000000<\/AvgImageSpacingY>0.0<\/ViewPointX>0.0<\/ViewPointY>0.0<\/ViewPointDefShiftX>0.0<\/ViewPointDefShiftY>None<\/CompressionMethod>75<\/CompressionQuality>0.010000<\/CompressionTolerance>Bilinear<\/SamplingMethod><\/ImageServiceProperties><\/ImageServer>",
 "allowedFields": "",
 "hasMultidimensions": false,
 "pixelSizeX": 1114.6602525556195,
 "pixelSizeY": 1114.660252555618,
 "meanPixelSize": 1114.6602525556186,
 "datasetFormat": "FGDBR",
 "uncompressedSize": 34630312,
 "blockWidth": 128,
 "blockHeight": 128,
 "compressionType": "LZ77",
 "bandNames": [
  "Band_1"
 ],
 "allowCopy": true,
 "allowAnalysis": true,
 "itemAccess": false,
 "inspectionCapabilities": "",
 "minPixelSize": 0,
 "maxPixelSize": 0,
 "copyrightText": "FROGTECH NZ Pty Ltd",
 "serviceDataType": "esriImageServiceDataTypeGeneric",
 "serviceSourceType": "esriImageServiceSourceTypeDataset",
 "objectIdField": "",
 "fields": [],
 "capabilities": "Mensuration,Image,Metadata",
 "defaultMosaicMethod": "Center",
 "allowedMosaicMethods": "",
 "sortField": "",
 "sortValue": null,
 "sortAscending": true,
 "mosaicOperator": "First",
 "defaultCompressionQuality": 75,
 "defaultResamplingMethod": "Bilinear",
 "maxImageHeight": 4100,
 "maxImageWidth": 15000,
 "allowRasterFunction": true,
 "rasterFunctionInfos": [
  {
   "name": "None",
   "description": "",
   "help": ""
  }
 ],
 "rasterTypeInfos": [
  {
   "name": "Raster Dataset",
   "description": "Supports all ArcGIS Raster Datasets",
   "help": ""
  }
 ],
 "mensurationCapabilities": "Basic",
 "hasHistograms": true,
 "hasColormap": false,
 "hasRasterAttributeTable": false,
 "minScale": 0,
 "maxScale": 0,
 "exportTilesAllowed": false,
 "supportsStatistics": false,
 "supportsAdvancedQueries": false,
 "editFieldsInfo": null,
 "ownershipBasedAccessControlForRasters": null,
 "allowComputeTiePoints": false,
 "useStandardizedQueries": true,
 "advancedQueryCapabilities": {
  "useStandardizedQueries": true,
  "supportsStatistics": false,
  "supportsOrderBy": false,
  "supportsDistinct": false,
  "supportsPagination": false
 },
 "spatialReference": {
  "wkid": 2193,
  "latestWkid": 2193
 },
 "resampling": false
}
