Free air gravity data is reduced to Bouguer gravity by the calculation and removal of the effects topography (rock/water or rock/air interface) on the gravity anomaly. <\/SPAN> T<\/SPAN>he density used for Bouguer correction was 2.67g/cc Onshore and 2.20g/cc Offshore. <\/SPAN><\/P><\/P>
Bouguer Anomaly values calculated by FROGTECH. Grid sourced from the FROGTECH_NZ_ECS_SEEBASE product in the NZP&M 2013 Block Offer Data Pack.<\/SPAN><\/P><\/P><\/DIV><\/DIV>",
"name": "geophysical/gravity_nz_reg_ba_ssv201",
"description": "
Free air gravity data is reduced to Bouguer gravity by the calculation and removal of the effects topography (rock/water or rock/air interface) on the gravity anomaly. <\/SPAN> T<\/SPAN>he density used for Bouguer correction was 2.67g/cc Onshore and 2.20g/cc Offshore. <\/SPAN><\/P><\/P>
Bouguer Anomaly values calculated by FROGTECH. Grid sourced from the FROGTECH_NZ_ECS_SEEBASE product in the NZP&M 2013 Block Offer Data Pack.<\/SPAN><\/P><\/P><\/DIV><\/DIV>",
"extent": {
"xmin": 468060,
"ymin": 3530460,
"xmax": 3370380,
"ymax": 7240140,
"spatialReference": {
"wkid": 2193,
"latestWkid": 2193
}
},
"initialExtent": {
"xmin": 468060,
"ymin": 3530460,
"xmax": 3370380,
"ymax": 7240140,
"spatialReference": {
"wkid": 2193,
"latestWkid": 2193
}
},
"fullExtent": {
"xmin": 468060,
"ymin": 3530460,
"xmax": 3370380,
"ymax": 7240140,
"spatialReference": {
"wkid": 2193,
"latestWkid": 2193
}
},
"sortableFields": "",
"bandCount": 1,
"pixelType": "F32",
"minValues": [
-164.75257873535156
],
"maxValues": [
356.701416015625
],
"meanValues": [
170.98086325632042
],
"stdvValues": [
81.9974777298543
],
"serviceProperties": "Center<\/MosaicMethod>First<\/MosaicOperator>true<\/SortAscending><\/LockImageID><\/TileOrderField>0<\/TileOrderBase>0.000000<\/AvgImageSpacingX>0.000000<\/AvgImageSpacingY>0.0<\/ViewPointX>0.0<\/ViewPointY>0.0<\/ViewPointDefShiftX>0.0<\/ViewPointDefShiftY>None<\/CompressionMethod>75<\/CompressionQuality>0.010000<\/CompressionTolerance>Bilinear<\/SamplingMethod><\/ImageServiceProperties><\/ImageServer>",
"allowedFields": "",
"hasMultidimensions": false,
"pixelSizeX": 1160,
"pixelSizeY": 1160,
"meanPixelSize": 1160,
"datasetFormat": "FGDBR",
"uncompressedSize": 32005584,
"blockWidth": 128,
"blockHeight": 128,
"compressionType": "LZ77",
"bandNames": [
"Band_1"
],
"allowCopy": true,
"allowAnalysis": true,
"itemAccess": false,
"inspectionCapabilities": "",
"minPixelSize": 0,
"maxPixelSize": 0,
"copyrightText": "",
"serviceDataType": "esriImageServiceDataTypeGeneric",
"serviceSourceType": "esriImageServiceSourceTypeDataset",
"objectIdField": "",
"fields": [],
"capabilities": "Image,Metadata,Mensuration",
"defaultMosaicMethod": "Center",
"allowedMosaicMethods": "",
"sortField": "",
"sortValue": null,
"sortAscending": true,
"mosaicOperator": "First",
"defaultCompressionQuality": 75,
"defaultResamplingMethod": "Bilinear",
"maxImageHeight": 4100,
"maxImageWidth": 15000,
"allowRasterFunction": true,
"rasterFunctionInfos": [
{
"name": "None",
"description": "",
"help": ""
}
],
"rasterTypeInfos": [
{
"name": "Raster Dataset",
"description": "Supports all ArcGIS Raster Datasets",
"help": ""
}
],
"mensurationCapabilities": "Basic",
"hasHistograms": true,
"hasColormap": false,
"hasRasterAttributeTable": false,
"minScale": 0,
"maxScale": 0,
"exportTilesAllowed": false,
"supportsStatistics": false,
"supportsAdvancedQueries": false,
"editFieldsInfo": null,
"ownershipBasedAccessControlForRasters": null,
"allowComputeTiePoints": false,
"useStandardizedQueries": true,
"advancedQueryCapabilities": {
"useStandardizedQueries": true,
"supportsStatistics": false,
"supportsOrderBy": false,
"supportsDistinct": false,
"supportsPagination": false
},
"spatialReference": {
"wkid": 2193,
"latestWkid": 2193
}
}