{ "currentVersion": 11.5, "serviceDescription": "

The Gravity grids were generated by FROGTECH from the Sandwell and Smith Satellite Free-Air Gravity V20.1 downloaded from from the Scripps Institution Of Oceanography. The data has a grid cell size of 1-minute or 0.0167 degree, equivalent to about 2km and is provided in WGS84 datum Geodetic, Lat-Long projection. The data has been reprojected in the NZGD2000, NZTM coordinate system. <\/SPAN><\/P>
The source data for this product may contain errors or artefacts. For Satellite Gravity source data information refer to http://topex.ucsd.edu/WWW_html/mar_grav.html. <\/SPAN><\/P>
<\/P>
Grid s<\/SPAN>ourced from <\/SPAN>the <\/SPAN>FROGTECH_NZ_ECS_SEEBASE product<\/SPAN> in the <\/SPAN>NZP&M 2013 Block offer data pack<\/SPAN>.<\/SPAN><\/P><\/DIV>", "name": "geophysical/gravity_nz_reg_faa_ssv201", "description": "

The Gravity grids were generated by FROGTECH from the Sandwell and Smith Satellite Free-Air Gravity V20.1 downloaded from from the Scripps Institution Of Oceanography. The data has a grid cell size of 1-minute or 0.0167 degree, equivalent to about 2km and is provided in WGS84 datum Geodetic, Lat-Long projection. The data has been reprojected in the NZGD2000, NZTM coordinate system. <\/SPAN><\/P>
The source data for this product may contain errors or artefacts. For Satellite Gravity source data information refer to http://topex.ucsd.edu/WWW_html/mar_grav.html. <\/SPAN><\/P>
<\/P>
Grid s<\/SPAN>ourced from <\/SPAN>the <\/SPAN>FROGTECH_NZ_ECS_SEEBASE product<\/SPAN> in the <\/SPAN>NZP&M 2013 Block offer data pack<\/SPAN>.<\/SPAN><\/P><\/DIV>", "extent": { "xmin": 468385, "ymin": 3529555, "xmax": 3370225, "ymax": 7240475, "spatialReference": { "wkid": 2193, "latestWkid": 2193 } }, "initialExtent": { "xmin": 468385, "ymin": 3529555, "xmax": 3370225, "ymax": 7240475, "spatialReference": { "wkid": 2193, "latestWkid": 2193 } }, "fullExtent": { "xmin": 468385, "ymin": 3529555, "xmax": 3370225, "ymax": 7240475, "spatialReference": { "wkid": 2193, "latestWkid": 2193 } }, "sortableFields": "", "bandCount": 1, "pixelType": "F32", "minValues": [ -253.1641387939453 ], "maxValues": [ 307.9122009277344 ], "meanValues": [ 3.7242445827556616 ], "stdvValues": [ 34.918186368821765 ], "serviceProperties": "Center<\/MosaicMethod>First<\/MosaicOperator>true<\/SortAscending><\/LockImageID><\/TileOrderField>0<\/TileOrderBase>0.000000<\/AvgImageSpacingX>0.000000<\/AvgImageSpacingY>0.0<\/ViewPointX>0.0<\/ViewPointY>0.0<\/ViewPointDefShiftX>0.0<\/ViewPointDefShiftY>None<\/CompressionMethod>75<\/CompressionQuality>0.010000<\/CompressionTolerance>Bilinear<\/SamplingMethod><\/ImageServiceProperties><\/ImageServer>", "allowedFields": "", "hasMultidimensions": false, "pixelSizeX": 1130, "pixelSizeY": 1130, "meanPixelSize": 1130, "datasetFormat": "FGDBR", "uncompressedSize": 33733248, "blockWidth": 128, "blockHeight": 128, "compressionType": "LZ77", "bandNames": [ "Band_1" ], "allowCopy": true, "allowAnalysis": true, "itemAccess": false, "inspectionCapabilities": "", "minPixelSize": 0, "maxPixelSize": 0, "copyrightText": "", "serviceDataType": "esriImageServiceDataTypeGeneric", "serviceSourceType": "esriImageServiceSourceTypeDataset", "objectIdField": "", "fields": [], "capabilities": "Image,Metadata,Mensuration", "defaultMosaicMethod": "Center", "allowedMosaicMethods": "", "sortField": "", "sortValue": null, "sortAscending": true, "mosaicOperator": "First", "defaultCompressionQuality": 75, "defaultResamplingMethod": "Bilinear", "maxImageHeight": 4100, "maxImageWidth": 15000, "allowRasterFunction": true, "rasterFunctionInfos": [ { "name": "None", "description": "", "help": "" } ], "rasterTypeInfos": [ { "name": "Raster Dataset", "description": "Supports all ArcGIS Raster Datasets", "help": "" } ], "mensurationCapabilities": "Basic", "hasHistograms": true, "hasColormap": false, "hasRasterAttributeTable": false, "minScale": 0, "maxScale": 0, "exportTilesAllowed": false, "supportsStatistics": false, "supportsAdvancedQueries": false, "editFieldsInfo": null, "ownershipBasedAccessControlForRasters": null, "allowComputeTiePoints": false, "useStandardizedQueries": true, "advancedQueryCapabilities": { "useStandardizedQueries": true, "supportsStatistics": false, "supportsOrderBy": false, "supportsDistinct": false, "supportsPagination": false }, "spatialReference": { "wkid": 2193, "latestWkid": 2193 } }