{ "currentVersion": 11.5, "serviceDescription": "

Satellite derived Free Air Gravity Anomaly as GeoTiff image.<\/SPAN><\/P>
<\/P>
Sourced from Sandwell & Smith V22.1. <\/SPAN><\/P>
<\/P>
GeoTiff processed by Bryan Davy - GNS Science - August 2014.<\/SPAN><\/P><\/DIV><\/DIV>", "name": "geophysical/gravity_nz_reg_faa_ssv221", "description": "

Satellite derived Free Air Gravity Anomaly as GeoTiff image.<\/SPAN><\/P>
<\/P>
Sourced from Sandwell & Smith V22.1. <\/SPAN><\/P>
<\/P>
GeoTiff processed by Bryan Davy - GNS Science - August 2014.<\/SPAN><\/P><\/DIV><\/DIV>", "extent": { "xmin": 29720.364077057624, "ymin": 3699931.9883026616, "xmax": 3300378.0190684786, "ymax": 7000300.386564249, "spatialReference": { "wkt2": "PROJCRS[\"NZGD2000_Transverse_Mercator\",BASEGEOGCRS[\"GCS_NZGD2000\",DATUM[\"D_NZGD_2000\",ELLIPSOID[\"GRS_1980\",6378137.0,298.257222101,LENGTHUNIT[\"Meter\",1.0]]],PRIMEM[\"Greenwich\",0.0,ANGLEUNIT[\"Degree\",0.0174532925199433]],CS[ellipsoidal,2],AXIS[\"Latitude (lat)\",north,ORDER[1]],AXIS[\"Longitude (lon)\",east,ORDER[2]],ANGLEUNIT[\"Degree\",0.0174532925199433]],CONVERSION[\"Transverse_Mercator\",METHOD[\"Transverse_Mercator\"],PARAMETER[\"false_easting\",1600000.0,LENGTHUNIT[\"Meter\",1.0]],PARAMETER[\"false_northing\",10000000.0,LENGTHUNIT[\"Meter\",1.0]],PARAMETER[\"central_meridian\",173.0,ANGLEUNIT[\"Degree\",0.0174532925199433]],PARAMETER[\"scale_factor\",0.9996,SCALEUNIT[\"Unity\",1.0]],PARAMETER[\"latitude_of_origin\",0.0,ANGLEUNIT[\"Degree\",0.0174532925199433]]],CS[Cartesian,2],AXIS[\"Easting (X)\",east,ORDER[1]],AXIS[\"Northing (Y)\",north,ORDER[2]],LENGTHUNIT[\"Meter\",1.0]]", "wkt": "PROJCS[\"NZGD2000_Transverse_Mercator\",GEOGCS[\"GCS_NZGD2000\",DATUM[\"D_NZGD_2000\",SPHEROID[\"GRS_1980\",6378137.0,298.257222101]],PRIMEM[\"Greenwich\",0.0],UNIT[\"Degree\",0.0174532925199433]],PROJECTION[\"Transverse_Mercator\"],PARAMETER[\"false_easting\",1600000.0],PARAMETER[\"false_northing\",10000000.0],PARAMETER[\"central_meridian\",173.0],PARAMETER[\"scale_factor\",0.9996],PARAMETER[\"latitude_of_origin\",0.0],UNIT[\"Meter\",1.0]]" } }, "initialExtent": { "xmin": 29720.364077057624, "ymin": 3699931.9883026616, "xmax": 3300378.0190684786, "ymax": 7000300.386564249, "spatialReference": { "wkt2": "PROJCRS[\"NZGD2000_Transverse_Mercator\",BASEGEOGCRS[\"GCS_NZGD2000\",DATUM[\"D_NZGD_2000\",ELLIPSOID[\"GRS_1980\",6378137.0,298.257222101,LENGTHUNIT[\"Meter\",1.0]]],PRIMEM[\"Greenwich\",0.0,ANGLEUNIT[\"Degree\",0.0174532925199433]],CS[ellipsoidal,2],AXIS[\"Latitude (lat)\",north,ORDER[1]],AXIS[\"Longitude (lon)\",east,ORDER[2]],ANGLEUNIT[\"Degree\",0.0174532925199433]],CONVERSION[\"Transverse_Mercator\",METHOD[\"Transverse_Mercator\"],PARAMETER[\"false_easting\",1600000.0,LENGTHUNIT[\"Meter\",1.0]],PARAMETER[\"false_northing\",10000000.0,LENGTHUNIT[\"Meter\",1.0]],PARAMETER[\"central_meridian\",173.0,ANGLEUNIT[\"Degree\",0.0174532925199433]],PARAMETER[\"scale_factor\",0.9996,SCALEUNIT[\"Unity\",1.0]],PARAMETER[\"latitude_of_origin\",0.0,ANGLEUNIT[\"Degree\",0.0174532925199433]]],CS[Cartesian,2],AXIS[\"Easting (X)\",east,ORDER[1]],AXIS[\"Northing (Y)\",north,ORDER[2]],LENGTHUNIT[\"Meter\",1.0]]", "wkt": "PROJCS[\"NZGD2000_Transverse_Mercator\",GEOGCS[\"GCS_NZGD2000\",DATUM[\"D_NZGD_2000\",SPHEROID[\"GRS_1980\",6378137.0,298.257222101]],PRIMEM[\"Greenwich\",0.0],UNIT[\"Degree\",0.0174532925199433]],PROJECTION[\"Transverse_Mercator\"],PARAMETER[\"false_easting\",1600000.0],PARAMETER[\"false_northing\",10000000.0],PARAMETER[\"central_meridian\",173.0],PARAMETER[\"scale_factor\",0.9996],PARAMETER[\"latitude_of_origin\",0.0],UNIT[\"Meter\",1.0]]" } }, "fullExtent": { "xmin": 29720.364077057624, "ymin": 3699931.9883026616, "xmax": 3300378.0190684786, "ymax": 7000300.386564249, "spatialReference": { "wkt2": "PROJCRS[\"NZGD2000_Transverse_Mercator\",BASEGEOGCRS[\"GCS_NZGD2000\",DATUM[\"D_NZGD_2000\",ELLIPSOID[\"GRS_1980\",6378137.0,298.257222101,LENGTHUNIT[\"Meter\",1.0]]],PRIMEM[\"Greenwich\",0.0,ANGLEUNIT[\"Degree\",0.0174532925199433]],CS[ellipsoidal,2],AXIS[\"Latitude (lat)\",north,ORDER[1]],AXIS[\"Longitude (lon)\",east,ORDER[2]],ANGLEUNIT[\"Degree\",0.0174532925199433]],CONVERSION[\"Transverse_Mercator\",METHOD[\"Transverse_Mercator\"],PARAMETER[\"false_easting\",1600000.0,LENGTHUNIT[\"Meter\",1.0]],PARAMETER[\"false_northing\",10000000.0,LENGTHUNIT[\"Meter\",1.0]],PARAMETER[\"central_meridian\",173.0,ANGLEUNIT[\"Degree\",0.0174532925199433]],PARAMETER[\"scale_factor\",0.9996,SCALEUNIT[\"Unity\",1.0]],PARAMETER[\"latitude_of_origin\",0.0,ANGLEUNIT[\"Degree\",0.0174532925199433]]],CS[Cartesian,2],AXIS[\"Easting (X)\",east,ORDER[1]],AXIS[\"Northing (Y)\",north,ORDER[2]],LENGTHUNIT[\"Meter\",1.0]]", "wkt": "PROJCS[\"NZGD2000_Transverse_Mercator\",GEOGCS[\"GCS_NZGD2000\",DATUM[\"D_NZGD_2000\",SPHEROID[\"GRS_1980\",6378137.0,298.257222101]],PRIMEM[\"Greenwich\",0.0],UNIT[\"Degree\",0.0174532925199433]],PROJECTION[\"Transverse_Mercator\"],PARAMETER[\"false_easting\",1600000.0],PARAMETER[\"false_northing\",10000000.0],PARAMETER[\"central_meridian\",173.0],PARAMETER[\"scale_factor\",0.9996],PARAMETER[\"latitude_of_origin\",0.0],UNIT[\"Meter\",1.0]]" } }, "sortableFields": "", "bandCount": 4, "pixelType": "U8", "minValues": [], "maxValues": [], "meanValues": [], "stdvValues": [], "serviceProperties": "Center<\/MosaicMethod>First<\/MosaicOperator>true<\/SortAscending><\/LockImageID><\/TileOrderField>0<\/TileOrderBase>0.000000<\/AvgImageSpacingX>0.000000<\/AvgImageSpacingY>0.0<\/ViewPointX>0.0<\/ViewPointY>0.0<\/ViewPointDefShiftX>0.0<\/ViewPointDefShiftY>None<\/CompressionMethod>75<\/CompressionQuality>0.010000<\/CompressionTolerance>Bilinear<\/SamplingMethod><\/ImageServiceProperties><\/ImageServer>", "allowedFields": "", "hasMultidimensions": false, "pixelSizeX": 1237.9476362571615, "pixelSizeY": 1237.9476362571597, "meanPixelSize": 1237.9476362571606, "datasetFormat": "FGDBR", "uncompressedSize": 28174288, "blockWidth": 128, "blockHeight": 128, "compressionType": "LZ77", "bandNames": [ "Band_1", "Band_2", "Band_3", "Band_4" ], "allowCopy": true, "allowAnalysis": true, "itemAccess": false, "inspectionCapabilities": "", "minPixelSize": 0, "maxPixelSize": 0, "copyrightText": "", "serviceDataType": "esriImageServiceDataTypeGeneric", "serviceSourceType": "esriImageServiceSourceTypeDataset", "objectIdField": "", "fields": [], "capabilities": "Image,Metadata,Mensuration", "defaultMosaicMethod": "Center", "allowedMosaicMethods": "", "sortField": "", "sortValue": null, "sortAscending": true, "mosaicOperator": "First", "defaultCompressionQuality": 75, "defaultResamplingMethod": "Bilinear", "maxImageHeight": 4100, "maxImageWidth": 15000, "allowRasterFunction": true, "rasterFunctionInfos": [ { "name": "None", "description": "", "help": "" } ], "rasterTypeInfos": [ { "name": "Raster Dataset", "description": "Supports all ArcGIS Raster Datasets", "help": "" } ], "mensurationCapabilities": "Basic", "hasHistograms": false, "hasColormap": false, "hasRasterAttributeTable": false, "minScale": 0, "maxScale": 0, "exportTilesAllowed": false, "supportsStatistics": false, "supportsAdvancedQueries": false, "editFieldsInfo": null, "ownershipBasedAccessControlForRasters": null, "allowComputeTiePoints": false, "useStandardizedQueries": true, "advancedQueryCapabilities": { "useStandardizedQueries": true, "supportsStatistics": false, "supportsOrderBy": false, "supportsDistinct": false, "supportsPagination": false }, "spatialReference": { "wkt2": "PROJCRS[\"NZGD2000_Transverse_Mercator\",BASEGEOGCRS[\"GCS_NZGD2000\",DATUM[\"D_NZGD_2000\",ELLIPSOID[\"GRS_1980\",6378137.0,298.257222101,LENGTHUNIT[\"Meter\",1.0]]],PRIMEM[\"Greenwich\",0.0,ANGLEUNIT[\"Degree\",0.0174532925199433]],CS[ellipsoidal,2],AXIS[\"Latitude (lat)\",north,ORDER[1]],AXIS[\"Longitude (lon)\",east,ORDER[2]],ANGLEUNIT[\"Degree\",0.0174532925199433]],CONVERSION[\"Transverse_Mercator\",METHOD[\"Transverse_Mercator\"],PARAMETER[\"false_easting\",1600000.0,LENGTHUNIT[\"Meter\",1.0]],PARAMETER[\"false_northing\",10000000.0,LENGTHUNIT[\"Meter\",1.0]],PARAMETER[\"central_meridian\",173.0,ANGLEUNIT[\"Degree\",0.0174532925199433]],PARAMETER[\"scale_factor\",0.9996,SCALEUNIT[\"Unity\",1.0]],PARAMETER[\"latitude_of_origin\",0.0,ANGLEUNIT[\"Degree\",0.0174532925199433]]],CS[Cartesian,2],AXIS[\"Easting (X)\",east,ORDER[1]],AXIS[\"Northing (Y)\",north,ORDER[2]],LENGTHUNIT[\"Meter\",1.0]]", "wkt": "PROJCS[\"NZGD2000_Transverse_Mercator\",GEOGCS[\"GCS_NZGD2000\",DATUM[\"D_NZGD_2000\",SPHEROID[\"GRS_1980\",6378137.0,298.257222101]],PRIMEM[\"Greenwich\",0.0],UNIT[\"Degree\",0.0174532925199433]],PROJECTION[\"Transverse_Mercator\"],PARAMETER[\"false_easting\",1600000.0],PARAMETER[\"false_northing\",10000000.0],PARAMETER[\"central_meridian\",173.0],PARAMETER[\"scale_factor\",0.9996],PARAMETER[\"latitude_of_origin\",0.0],UNIT[\"Meter\",1.0]]" } }