{
 "currentVersion": 11.5,
 "serviceDescription": "Hydrates LM9",
 "name": "geophysical/hydrates_lm9",
 "description": "Hydrates LM9",
 "extent": {
  "xmin": 1.9786588749369003E7,
  "ymin": -4875827.863031516,
  "xmax": 1.9870223568483E7,
  "ymax": -4802628.76109752,
  "spatialReference": {
   "wkid": 54004,
   "latestWkid": 54004
  }
 },
 "initialExtent": {
  "xmin": 1.9786588749369003E7,
  "ymin": -4875827.863031516,
  "xmax": 1.9870223568483E7,
  "ymax": -4802628.76109752,
  "spatialReference": {
   "wkid": 54004,
   "latestWkid": 54004
  }
 },
 "fullExtent": {
  "xmin": 1.9786588749369003E7,
  "ymin": -4875827.863031516,
  "xmax": 1.9870223568483E7,
  "ymax": -4802628.76109752,
  "spatialReference": {
   "wkid": 54004,
   "latestWkid": 54004
  }
 },
 "sortableFields": "",
 "bandCount": 3,
 "pixelType": "U8",
 "minValues": [
  0,
  0,
  0
 ],
 "maxValues": [
  255,
  255,
  255
 ],
 "meanValues": [
  135.20698433048466,
  155.2242258873555,
  145.68925492804047
 ],
 "stdvValues": [
  86.49299363895692,
  100.61365261485297,
  96.09709258914691
 ],
 "serviceProperties": "Center<\/MosaicMethod>First<\/MosaicOperator>true<\/SortAscending><\/LockImageID><\/TileOrderField>0<\/TileOrderBase>0.000000<\/AvgImageSpacingX>0.000000<\/AvgImageSpacingY>0.0<\/ViewPointX>0.0<\/ViewPointY>0.0<\/ViewPointDefShiftX>0.0<\/ViewPointDefShiftY>None<\/CompressionMethod>75<\/CompressionQuality>0.010000<\/CompressionTolerance>Bilinear<\/SamplingMethod><\/ImageServiceProperties><\/ImageServer>",
 "allowedFields": "",
 "hasMultidimensions": false,
 "pixelSizeX": 21.29738199999895,
 "pixelSizeY": 21.297381999998894,
 "meanPixelSize": 21.297381999998922,
 "datasetFormat": "FGDBR",
 "uncompressedSize": 40479516,
 "blockWidth": 128,
 "blockHeight": 128,
 "compressionType": "NONE",
 "bandNames": [
  "Band_1",
  "Band_2",
  "Band_3"
 ],
 "allowCopy": true,
 "allowAnalysis": true,
 "itemAccess": false,
 "inspectionCapabilities": "",
 "minPixelSize": 0,
 "maxPixelSize": 0,
 "copyrightText": "",
 "serviceDataType": "esriImageServiceDataTypeRGB",
 "serviceSourceType": "esriImageServiceSourceTypeDataset",
 "objectIdField": "",
 "fields": [],
 "capabilities": "Mensuration,Image,Metadata",
 "defaultMosaicMethod": "Center",
 "allowedMosaicMethods": "",
 "sortField": "",
 "sortValue": null,
 "sortAscending": true,
 "mosaicOperator": "First",
 "defaultCompressionQuality": 75,
 "defaultResamplingMethod": "Bilinear",
 "maxImageHeight": 4100,
 "maxImageWidth": 15000,
 "allowRasterFunction": true,
 "rasterFunctionInfos": [
  {
   "name": "None",
   "description": "",
   "help": ""
  }
 ],
 "rasterTypeInfos": [
  {
   "name": "Raster Dataset",
   "description": "Supports all ArcGIS Raster Datasets",
   "help": ""
  }
 ],
 "mensurationCapabilities": "Basic",
 "hasHistograms": true,
 "hasColormap": false,
 "hasRasterAttributeTable": false,
 "minScale": 0,
 "maxScale": 0,
 "exportTilesAllowed": false,
 "supportsStatistics": false,
 "supportsAdvancedQueries": false,
 "editFieldsInfo": null,
 "ownershipBasedAccessControlForRasters": null,
 "allowComputeTiePoints": false,
 "useStandardizedQueries": true,
 "advancedQueryCapabilities": {
  "useStandardizedQueries": true,
  "supportsStatistics": false,
  "supportsOrderBy": false,
  "supportsDistinct": false,
  "supportsPagination": false
 },
 "spatialReference": {
  "wkid": 54004,
  "latestWkid": 54004
 },
 "resampling": false
}
