{
 "currentVersion": 11.5,
 "serviceDescription": "Hydrates TAN0607",
 "name": "geophysical/hydrates_tan0607_seis",
 "description": "Hydrates TAN0607",
 "extent": {
  "xmin": 1.9703203759790998E7,
  "ymin": -4998339.34824155,
  "xmax": 1.9786433738255996E7,
  "ymax": -4923988.08582155,
  "spatialReference": {
   "wkid": 54004,
   "latestWkid": 54004
  }
 },
 "initialExtent": {
  "xmin": 1.9703203759790998E7,
  "ymin": -4998339.34824155,
  "xmax": 1.9786433738255996E7,
  "ymax": -4923988.08582155,
  "spatialReference": {
   "wkid": 54004,
   "latestWkid": 54004
  }
 },
 "fullExtent": {
  "xmin": 1.9703203759790998E7,
  "ymin": -4998339.34824155,
  "xmax": 1.9786433738255996E7,
  "ymax": -4923988.08582155,
  "spatialReference": {
   "wkid": 54004,
   "latestWkid": 54004
  }
 },
 "sortableFields": "",
 "bandCount": 3,
 "pixelType": "U8",
 "minValues": [
  0,
  0,
  0
 ],
 "maxValues": [
  255,
  255,
  255
 ],
 "meanValues": [
  92.44256667361161,
  82.2988861431472,
  217.09676373171203
 ],
 "stdvValues": [
  77.36956546923577,
  86.17916734929275,
  62.9940735949737
 ],
 "serviceProperties": "Center<\/MosaicMethod>First<\/MosaicOperator>true<\/SortAscending><\/LockImageID><\/TileOrderField>0<\/TileOrderBase>0.000000<\/AvgImageSpacingX>0.000000<\/AvgImageSpacingY>0.0<\/ViewPointX>0.0<\/ViewPointY>0.0<\/ViewPointDefShiftX>0.0<\/ViewPointDefShiftY>None<\/CompressionMethod>75<\/CompressionQuality>0.010000<\/CompressionTolerance>Bilinear<\/SamplingMethod><\/ImageServiceProperties><\/ImageServer>",
 "allowedFields": "",
 "hasMultidimensions": false,
 "pixelSizeX": 21.291884999999567,
 "pixelSizeY": 21.29188499999988,
 "meanPixelSize": 21.291884999999724,
 "datasetFormat": "FGDBR",
 "uncompressedSize": 40950684,
 "blockWidth": 128,
 "blockHeight": 128,
 "compressionType": "NONE",
 "bandNames": [
  "Band_1",
  "Band_2",
  "Band_3"
 ],
 "allowCopy": true,
 "allowAnalysis": true,
 "itemAccess": false,
 "inspectionCapabilities": "",
 "minPixelSize": 0,
 "maxPixelSize": 0,
 "copyrightText": "",
 "serviceDataType": "esriImageServiceDataTypeRGB",
 "serviceSourceType": "esriImageServiceSourceTypeDataset",
 "objectIdField": "",
 "fields": [],
 "capabilities": "Mensuration,Image,Metadata",
 "defaultMosaicMethod": "Center",
 "allowedMosaicMethods": "",
 "sortField": "",
 "sortValue": null,
 "sortAscending": true,
 "mosaicOperator": "First",
 "defaultCompressionQuality": 75,
 "defaultResamplingMethod": "Bilinear",
 "maxImageHeight": 4100,
 "maxImageWidth": 15000,
 "allowRasterFunction": true,
 "rasterFunctionInfos": [
  {
   "name": "None",
   "description": "",
   "help": ""
  }
 ],
 "rasterTypeInfos": [
  {
   "name": "Raster Dataset",
   "description": "Supports all ArcGIS Raster Datasets",
   "help": ""
  }
 ],
 "mensurationCapabilities": "Basic",
 "hasHistograms": true,
 "hasColormap": false,
 "hasRasterAttributeTable": false,
 "minScale": 0,
 "maxScale": 0,
 "exportTilesAllowed": false,
 "supportsStatistics": false,
 "supportsAdvancedQueries": false,
 "editFieldsInfo": null,
 "ownershipBasedAccessControlForRasters": null,
 "allowComputeTiePoints": false,
 "useStandardizedQueries": true,
 "advancedQueryCapabilities": {
  "useStandardizedQueries": true,
  "supportsStatistics": false,
  "supportsOrderBy": false,
  "supportsDistinct": false,
  "supportsPagination": false
 },
 "spatialReference": {
  "wkid": 54004,
  "latestWkid": 54004
 },
 "resampling": false
}
