{
 "currentVersion": 11.5,
 "serviceDescription": "Data sourced from the FROGTECH_NZ_ECS_SEEBASE product in the 2013 NZP&M Block Offer Data Pack. The magnetic grid was generated by FROGTECH from the World Digital Magnetic Anomaly Map (WDMAM) or EMAG3 (2007), a global 3-arc-minute resolution grid of the anomaly of the magnetic intensity at an altitude of 5 km above mean sea level. It was compiled from satellite, marine, aeromagnetic and ground magnetic surveys. Information on this dataset can be found in http://www.geomag.us/models/wdmam.html The TMI magnetic data was Reduced to the Pole (RTP). RTP Processing FROGTECH's methodology for RTP processing is determined by the size of the project area. For small surveys, the RTP transformation is simple requiring only one set of geomagnetic parameters. However, for larger surveys, such as the New Zealand SEEBASETM Project, the area is broken down into smaller sub-areas on which the RTP transformation is computed. To obtain Reduction to the Pole (RTP), a transformation from TMI to the magnetic field at the North or South Pole is required. The transformation is computed based on a local geomagnetic inclination and declination. The result of the reduction to the pole (RTP) operation is a field which would be observed if the given field had been observed with vertical polarization, that is, as though observed at one of the Earth\u2019s magnetic poles (refer to the figure on the right). If strong remanent magnetization is present in directions other than that of the Earth, the transformed field will be in error. TMI data is routinely reduced to the pole to shift anomalies directly over their source and for vertical dipping sources to produce symmetric anomalies. The location of sources, particularly source edges, can more readily be determined when the magnetic data has been reduced to the pole. ",
 "name": "geophysical/magnetics_wdmam_rtp",
 "description": "Data sourced from the FROGTECH_NZ_ECS_SEEBASE product in the 2013 NZP&M Block Offer Data Pack. The magnetic grid was generated by FROGTECH from the World Digital Magnetic Anomaly Map (WDMAM) or EMAG3 (2007), a global 3-arc-minute resolution grid of the anomaly of the magnetic intensity at an altitude of 5 km above mean sea level. It was compiled from satellite, marine, aeromagnetic and ground magnetic surveys. Information on this dataset can be found in http://www.geomag.us/models/wdmam.html The TMI magnetic data was Reduced to the Pole (RTP). RTP Processing FROGTECH's methodology for RTP processing is determined by the size of the project area. For small surveys, the RTP transformation is simple requiring only one set of geomagnetic parameters. However, for larger surveys, such as the New Zealand SEEBASETM Project, the area is broken down into smaller sub-areas on which the RTP transformation is computed. To obtain Reduction to the Pole (RTP), a transformation from TMI to the magnetic field at the North or South Pole is required. The transformation is computed based on a local geomagnetic inclination and declination. The result of the reduction to the pole (RTP) operation is a field which would be observed if the given field had been observed with vertical polarization, that is, as though observed at one of the Earth\u2019s magnetic poles (refer to the figure on the right). If strong remanent magnetization is present in directions other than that of the Earth, the transformed field will be in error. TMI data is routinely reduced to the pole to shift anomalies directly over their source and for vertical dipping sources to produce symmetric anomalies. The location of sources, particularly source edges, can more readily be determined when the magnetic data has been reduced to the pole. ",
 "extent": {
  "xmin": 467775,
  "ymin": 3529575,
  "xmax": 3369195,
  "ymax": 7240185,
  "spatialReference": {
   "wkid": 2193,
   "latestWkid": 2193
  }
 },
 "initialExtent": {
  "xmin": 467775,
  "ymin": 3529575,
  "xmax": 3369195,
  "ymax": 7240185,
  "spatialReference": {
   "wkid": 2193,
   "latestWkid": 2193
  }
 },
 "fullExtent": {
  "xmin": 467775,
  "ymin": 3529575,
  "xmax": 3369195,
  "ymax": 7240185,
  "spatialReference": {
   "wkid": 2193,
   "latestWkid": 2193
  }
 },
 "sortableFields": "",
 "bandCount": 1,
 "pixelType": "F32",
 "minValues": [
  -859.2584838867188
 ],
 "maxValues": [
  1091.896728515625
 ],
 "meanValues": [
  0.3559860224410124
 ],
 "stdvValues": [
  111.6703096018346
 ],
 "serviceProperties": "Center<\/MosaicMethod>First<\/MosaicOperator>true<\/SortAscending><\/LockImageID><\/TileOrderField>0<\/TileOrderBase>0.000000<\/AvgImageSpacingX>0.000000<\/AvgImageSpacingY>0.0<\/ViewPointX>0.0<\/ViewPointY>0.0<\/ViewPointDefShiftX>0.0<\/ViewPointDefShiftY>None<\/CompressionMethod>75<\/CompressionQuality>0.010000<\/CompressionTolerance>Bilinear<\/SamplingMethod><\/ImageServiceProperties><\/ImageServer>",
 "allowedFields": "",
 "hasMultidimensions": false,
 "pixelSizeX": 2430,
 "pixelSizeY": 2430,
 "meanPixelSize": 2430,
 "datasetFormat": "FGDBR",
 "uncompressedSize": 7292952,
 "blockWidth": 128,
 "blockHeight": 128,
 "compressionType": "LZ77",
 "bandNames": [
  "Band_1"
 ],
 "allowCopy": true,
 "allowAnalysis": true,
 "itemAccess": false,
 "inspectionCapabilities": "",
 "minPixelSize": 0,
 "maxPixelSize": 0,
 "copyrightText": "FROGTECH",
 "serviceDataType": "esriImageServiceDataTypeGeneric",
 "serviceSourceType": "esriImageServiceSourceTypeDataset",
 "objectIdField": "",
 "fields": [],
 "capabilities": "Mensuration,Image,Metadata",
 "defaultMosaicMethod": "Center",
 "allowedMosaicMethods": "",
 "sortField": "",
 "sortValue": null,
 "sortAscending": true,
 "mosaicOperator": "First",
 "defaultCompressionQuality": 75,
 "defaultResamplingMethod": "Bilinear",
 "maxImageHeight": 4100,
 "maxImageWidth": 15000,
 "allowRasterFunction": true,
 "rasterFunctionInfos": [
  {
   "name": "None",
   "description": "",
   "help": ""
  }
 ],
 "rasterTypeInfos": [
  {
   "name": "Raster Dataset",
   "description": "Supports all ArcGIS Raster Datasets",
   "help": ""
  }
 ],
 "mensurationCapabilities": "Basic",
 "hasHistograms": true,
 "hasColormap": false,
 "hasRasterAttributeTable": false,
 "minScale": 0,
 "maxScale": 0,
 "exportTilesAllowed": false,
 "supportsStatistics": false,
 "supportsAdvancedQueries": false,
 "editFieldsInfo": null,
 "ownershipBasedAccessControlForRasters": null,
 "allowComputeTiePoints": false,
 "useStandardizedQueries": true,
 "advancedQueryCapabilities": {
  "useStandardizedQueries": true,
  "supportsStatistics": false,
  "supportsOrderBy": false,
  "supportsDistinct": false,
  "supportsPagination": false
 },
 "spatialReference": {
  "wkid": 2193,
  "latestWkid": 2193
 },
 "resampling": false
}
