<?xml version="1.0" encoding="UTF-8" standalone="no"?>
<metadata xml:lang="en">
<Esri>
<CreaDate>20140416</CreaDate>
<CreaTime>16105200</CreaTime>
<ArcGISFormat>1.0</ArcGISFormat>
<SyncOnce>FALSE</SyncOnce>
<DataProperties>
<itemProps>
<itemName Sync="TRUE">MAGNETICS_WDMAM_RTP_LP20KM</itemName>
<imsContentType Sync="TRUE">002</imsContentType>
<nativeExtBox>
<westBL Sync="TRUE">467775.000000</westBL>
<eastBL Sync="TRUE">3369195.000000</eastBL>
<southBL Sync="TRUE">3529575.000000</southBL>
<northBL Sync="TRUE">7240185.000000</northBL>
<exTypeCode Sync="TRUE">1</exTypeCode>
</nativeExtBox>
</itemProps>
<coordRef>
<type Sync="TRUE">Projected</type>
<geogcsn Sync="TRUE">GCS_NZGD_2000</geogcsn>
<csUnits Sync="TRUE">Linear Unit: Meter (1.000000)</csUnits>
<projcsn Sync="TRUE">NZGD_2000_New_Zealand_Transverse_Mercator</projcsn>
<peXml Sync="TRUE">&lt;ProjectedCoordinateSystem xsi:type='typens:ProjectedCoordinateSystem' xmlns:xsi='http://www.w3.org/2001/XMLSchema-instance' xmlns:xs='http://www.w3.org/2001/XMLSchema' xmlns:typens='http://www.esri.com/schemas/ArcGIS/10.3'&gt;&lt;WKT&gt;PROJCS[&amp;quot;NZGD_2000_New_Zealand_Transverse_Mercator&amp;quot;,GEOGCS[&amp;quot;GCS_NZGD_2000&amp;quot;,DATUM[&amp;quot;D_NZGD_2000&amp;quot;,SPHEROID[&amp;quot;GRS_1980&amp;quot;,6378137.0,298.257222101]],PRIMEM[&amp;quot;Greenwich&amp;quot;,0.0],UNIT[&amp;quot;Degree&amp;quot;,0.0174532925199433]],PROJECTION[&amp;quot;Transverse_Mercator&amp;quot;],PARAMETER[&amp;quot;False_Easting&amp;quot;,1600000.0],PARAMETER[&amp;quot;False_Northing&amp;quot;,10000000.0],PARAMETER[&amp;quot;Central_Meridian&amp;quot;,173.0],PARAMETER[&amp;quot;Scale_Factor&amp;quot;,0.9996],PARAMETER[&amp;quot;Latitude_Of_Origin&amp;quot;,0.0],UNIT[&amp;quot;Meter&amp;quot;,1.0],AUTHORITY[&amp;quot;EPSG&amp;quot;,2193]]&lt;/WKT&gt;&lt;XOrigin&gt;-4020900&lt;/XOrigin&gt;&lt;YOrigin&gt;1900&lt;/YOrigin&gt;&lt;XYScale&gt;450445547.3910538&lt;/XYScale&gt;&lt;ZOrigin&gt;-100000&lt;/ZOrigin&gt;&lt;ZScale&gt;10000&lt;/ZScale&gt;&lt;MOrigin&gt;-100000&lt;/MOrigin&gt;&lt;MScale&gt;10000&lt;/MScale&gt;&lt;XYTolerance&gt;0.001&lt;/XYTolerance&gt;&lt;ZTolerance&gt;0.00020000000000000001&lt;/ZTolerance&gt;&lt;MTolerance&gt;0.00020000000000000001&lt;/MTolerance&gt;&lt;HighPrecision&gt;true&lt;/HighPrecision&gt;&lt;WKID&gt;2193&lt;/WKID&gt;&lt;LatestWKID&gt;2193&lt;/LatestWKID&gt;&lt;/ProjectedCoordinateSystem&gt;</peXml>
</coordRef>
<RasterProperties>
<General>
<PixelDepth Sync="TRUE">32</PixelDepth>
<HasColormap Sync="TRUE">FALSE</HasColormap>
<CompressionType Sync="TRUE">None</CompressionType>
<NumBands Sync="TRUE">1</NumBands>
<Format Sync="TRUE">GRID</Format>
<HasPyramids Sync="TRUE">FALSE</HasPyramids>
<SourceType Sync="TRUE">continuous</SourceType>
<PixelType Sync="TRUE">floating point</PixelType>
<NoDataValue Sync="TRUE">-3.4028235e+038</NoDataValue>
</General>
</RasterProperties>
</DataProperties>
<SyncDate>20160721</SyncDate>
<SyncTime>16462900</SyncTime>
<ModDate>20160721</ModDate>
<ModTime>16462900</ModTime>
<scaleRange>
<minScale>150000000</minScale>
<maxScale>5000</maxScale>
</scaleRange>
<ArcGISProfile>ItemDescription</ArcGISProfile>
</Esri>
<dataIdInfo>
<envirDesc Sync="FALSE">Esri ArcGIS 10.3.1.4959</envirDesc>
<dataLang>
<languageCode Sync="TRUE" value="eng">
</languageCode>
<countryCode Sync="TRUE" value="NZL">
</countryCode>
</dataLang>
<idCitation>
<resTitle Sync="TRUE">MAGNETICS_WDMAM_RTP_LP20KM</resTitle>
<presForm>
<PresFormCd Sync="TRUE" value="011">
</PresFormCd>
</presForm>
</idCitation>
<spatRpType>
<SpatRepTypCd Sync="TRUE" value="002">
</SpatRepTypCd>
</spatRpType>
<dataExt>
<geoEle>
<GeoBndBox esriExtentType="search">
<exTypeCode Sync="TRUE">1</exTypeCode>
<westBL Sync="TRUE">-180.000000</westBL>
<eastBL Sync="TRUE">180.000000</eastBL>
<northBL Sync="TRUE">-23.958642</northBL>
<southBL Sync="TRUE">-58.374674</southBL>
</GeoBndBox>
</geoEle>
</dataExt>
<idPurp>Data sourced from the FROGTECH_NZ_ECS_SEEBASE product in the NZP&amp;M 2013 Block Offer Data Pack.
The magnetic grid was generated by FROGTECH from the World...</idPurp>
<idAbs>Data sourced from the FROGTECH_NZ_ECS_SEEBASE product in the NZP&amp;M 2013 Block Offer Data Pack.The magnetic grid was generated by FROGTECH from the World Digital Magnetic Anomaly Map (WDMAM) or EMAG3 (2007), a global 3-arc-minute resolution grid of the anomaly of the magnetic intensity at an altitude of 5 km above mean sea level. It was compiled from satellite, marine, aeromagnetic and ground magnetic surveys. Information on this dataset can be found in http://www.geomag.us/models/wdmam.html The TMI magnetic data was Reduced to the Pole (RTP). The RTP image showed numerous noise and artefacts which were further attenuated by applying a Low Pass (20Km) filter. This filter passes low frequencies but substantially attenuates (or reduces) frequencies higher than 20km, emphasizing magnetic anomalies with wavelengths greater than 20km. Caution is warranted </idAbs>
<searchKeys>
<keyword>nz. gns. magetic. anomaly. map. frogtech.</keyword>
</searchKeys>
<idCredit>FROGTECH</idCredit>
<resConst>
<Consts>
<useLimit/>
</Consts>
</resConst>
</dataIdInfo>
<mdLang>
<languageCode Sync="TRUE" value="eng">
</languageCode>
<countryCode Sync="TRUE" value="NZL">
</countryCode>
</mdLang>
<mdChar>
<CharSetCd Sync="TRUE" value="004">
</CharSetCd>
</mdChar>
<distInfo>
<distFormat>
<formatName Sync="TRUE">File Geodatabase Raster Dataset</formatName>
</distFormat>
</distInfo>
<mdHrLv>
<ScopeCd Sync="TRUE" value="005">
</ScopeCd>
</mdHrLv>
<mdHrLvName Sync="TRUE">dataset</mdHrLvName>
<refSysInfo>
<RefSystem>
<refSysID>
<identCode Sync="TRUE" code="2193">
</identCode>
<idCodeSpace Sync="TRUE">EPSG</idCodeSpace>
<idVersion Sync="TRUE">8.6.2</idVersion>
</refSysID>
</RefSystem>
</refSysInfo>
<spatRepInfo>
<Georect>
<cellGeo>
<CellGeoCd Sync="TRUE" value="002">
</CellGeoCd>
</cellGeo>
<numDims Sync="TRUE">2</numDims>
<tranParaAv Sync="TRUE">1</tranParaAv>
<chkPtAv Sync="TRUE">0</chkPtAv>
<cornerPts>
<pos Sync="TRUE">467775.000000 3529575.000000</pos>
</cornerPts>
<cornerPts>
<pos Sync="TRUE">467775.000000 7240185.000000</pos>
</cornerPts>
<cornerPts>
<pos Sync="TRUE">3369195.000000 7240185.000000</pos>
</cornerPts>
<cornerPts>
<pos Sync="TRUE">3369195.000000 3529575.000000</pos>
</cornerPts>
<centerPt>
<pos Sync="TRUE">1918485.000000 5384880.000000</pos>
</centerPt>
<axisDimension type="002">
<dimSize Sync="TRUE">1194</dimSize>
<dimResol>
<value Sync="TRUE" uom="Meter">2430.000000</value>
</dimResol>
</axisDimension>
<axisDimension type="001">
<dimSize Sync="TRUE">1527</dimSize>
<dimResol>
<value Sync="TRUE" uom="Meter">2430.000000</value>
</dimResol>
</axisDimension>
<ptInPixel>
<PixOrientCd Sync="TRUE" value="001">
</PixOrientCd>
</ptInPixel>
</Georect>
</spatRepInfo>
<contInfo>
<ImgDesc>
<contentTyp>
<ContentTypCd Sync="TRUE" value="003">
</ContentTypCd>
</contentTyp>
<covDim>
<Band>
<dimDescrp Sync="TRUE">Band_1</dimDescrp>
<maxVal Sync="TRUE">1030.114746</maxVal>
<minVal Sync="TRUE">-788.453308</minVal>
<bitsPerVal Sync="TRUE">32</bitsPerVal>
<valUnit>
<UOM type="length">
</UOM>
</valUnit>
</Band>
</covDim>
</ImgDesc>
</contInfo>
<mdDateSt Sync="TRUE">20160721</mdDateSt>
<spdoinfo>
<rastinfo>
<rasttype Sync="TRUE">Pixel</rasttype>
<rowcount Sync="TRUE">1527</rowcount>
<colcount Sync="TRUE">1194</colcount>
<rastxsz Sync="TRUE">2430.000000</rastxsz>
<rastysz Sync="TRUE">2430.000000</rastysz>
<rastbpp Sync="TRUE">32</rastbpp>
<vrtcount Sync="TRUE">1</vrtcount>
<rastorig Sync="TRUE">Upper Left</rastorig>
<rastcmap Sync="TRUE">FALSE</rastcmap>
<rastcomp Sync="TRUE">LZ77</rastcomp>
<rastband Sync="TRUE">1</rastband>
<rastdtyp Sync="TRUE">pixel codes</rastdtyp>
<rastifor Sync="TRUE">FGDBR</rastifor>
<rastplyr Sync="TRUE">TRUE</rastplyr>
</rastinfo>
</spdoinfo>
<spref>
<horizsys>
<planar>
<planci>
<plance Sync="TRUE">row and column</plance>
<coordrep>
<absres Sync="TRUE">2430.000000</absres>
<ordres Sync="TRUE">2430.000000</ordres>
</coordrep>
</planci>
</planar>
</horizsys>
</spref>
</metadata>
