<?xml version="1.0" encoding="UTF-8" standalone="no"?>
<metadata xml:lang="en">
<Esri>
<CreaDate>20140410</CreaDate>
<CreaTime>10380000</CreaTime>
<ArcGISFormat>1.0</ArcGISFormat>
<SyncOnce>FALSE</SyncOnce>
<DataProperties>
<itemProps>
<itemName Sync="TRUE">NIWA_BATHY_250M</itemName>
<imsContentType Sync="TRUE">002</imsContentType>
<nativeExtBox>
<westBL Sync="TRUE">4795705.551502</westBL>
<eastBL Sync="TRUE">7824455.551502</eastBL>
<southBL Sync="TRUE">-5915595.457881</southBL>
<northBL Sync="TRUE">-2067845.457881</northBL>
<exTypeCode Sync="TRUE">1</exTypeCode>
</nativeExtBox>
</itemProps>
<coordRef>
<type Sync="TRUE">Projected</type>
<geogcsn Sync="TRUE">GCS_WGS_1984</geogcsn>
<csUnits Sync="TRUE">Linear Unit: Meter (1.000000)</csUnits>
<projcsn Sync="TRUE">WGS_1984_Mercator</projcsn>
<peXml Sync="TRUE">&lt;ProjectedCoordinateSystem xsi:type='typens:ProjectedCoordinateSystem' xmlns:xsi='http://www.w3.org/2001/XMLSchema-instance' xmlns:xs='http://www.w3.org/2001/XMLSchema' xmlns:typens='http://www.esri.com/schemas/ArcGIS/10.3'&gt;&lt;WKT&gt;PROJCS[&amp;quot;WGS_1984_Mercator&amp;quot;,GEOGCS[&amp;quot;GCS_WGS_1984&amp;quot;,DATUM[&amp;quot;D_WGS_1984&amp;quot;,SPHEROID[&amp;quot;WGS_1984&amp;quot;,6378137.0,298.257223563]],PRIMEM[&amp;quot;Greenwich&amp;quot;,0.0],UNIT[&amp;quot;Degree&amp;quot;,0.0174532925199433]],PROJECTION[&amp;quot;Mercator&amp;quot;],PARAMETER[&amp;quot;False_Easting&amp;quot;,0.0],PARAMETER[&amp;quot;False_Northing&amp;quot;,0.0],PARAMETER[&amp;quot;Central_Meridian&amp;quot;,100.0],PARAMETER[&amp;quot;Standard_Parallel_1&amp;quot;,-41.0],UNIT[&amp;quot;Meter&amp;quot;,1.0]]&lt;/WKT&gt;&lt;XOrigin&gt;-15144500&lt;/XOrigin&gt;&lt;YOrigin&gt;-22823900&lt;/YOrigin&gt;&lt;XYScale&gt;197319460.18736917&lt;/XYScale&gt;&lt;ZOrigin&gt;-100000&lt;/ZOrigin&gt;&lt;ZScale&gt;10000&lt;/ZScale&gt;&lt;MOrigin&gt;-100000&lt;/MOrigin&gt;&lt;MScale&gt;10000&lt;/MScale&gt;&lt;XYTolerance&gt;0.001&lt;/XYTolerance&gt;&lt;ZTolerance&gt;0.00020000000000000001&lt;/ZTolerance&gt;&lt;MTolerance&gt;0.00020000000000000001&lt;/MTolerance&gt;&lt;HighPrecision&gt;true&lt;/HighPrecision&gt;&lt;/ProjectedCoordinateSystem&gt;</peXml>
</coordRef>
<RasterProperties>
<General>
<PixelDepth Sync="TRUE">32</PixelDepth>
<HasColormap Sync="TRUE">FALSE</HasColormap>
<CompressionType Sync="TRUE">RLE</CompressionType>
<NumBands Sync="TRUE">1</NumBands>
<Format Sync="TRUE">GRID</Format>
<HasPyramids Sync="TRUE">FALSE</HasPyramids>
<SourceType Sync="TRUE">continuous</SourceType>
<PixelType Sync="TRUE">floating point</PixelType>
<NoDataValue Sync="TRUE">-3.4028235e+038</NoDataValue>
</General>
</RasterProperties>
</DataProperties>
<SyncDate>20160721</SyncDate>
<SyncTime>16484800</SyncTime>
<ModDate>20160721</ModDate>
<ModTime>16484800</ModTime>
<scaleRange>
<minScale>150000000</minScale>
<maxScale>5000</maxScale>
</scaleRange>
<ArcGISProfile>ItemDescription</ArcGISProfile>
</Esri>
<dataIdInfo>
<envirDesc Sync="FALSE">Esri ArcGIS 10.3.1.4959</envirDesc>
<dataLang>
<languageCode Sync="TRUE" value="eng">
</languageCode>
<countryCode Sync="TRUE" value="NZL">
</countryCode>
</dataLang>
<idCitation>
<resTitle Sync="TRUE">NIWA_BATHY_250M</resTitle>
<presForm>
<PresFormCd Sync="TRUE" value="011">
</PresFormCd>
</presForm>
</idCitation>
<spatRpType>
<SpatRepTypCd Sync="TRUE" value="002">
</SpatRepTypCd>
</spatRpType>
<dataExt>
<geoEle>
<GeoBndBox esriExtentType="search">
<exTypeCode Sync="TRUE">1</exTypeCode>
<westBL Sync="TRUE">-180.000000</westBL>
<eastBL Sync="TRUE">180.000000</eastBL>
<northBL Sync="TRUE">-23.999479</northBL>
<southBL Sync="TRUE">-57.500000</southBL>
</GeoBndBox>
</geoEle>
</dataExt>
<idPurp>Bathymetry data for offshore NZ . Sourced from http://www.niwa.co.nz/our-science/oceans/bathymetry/download-the-data
250m grid cell resolution
NIWA Open...</idPurp>
<idAbs>Source information - NZ region bathymetryBathymetric compilation, interpretation, and terrain model by Charting Around New Zealand (CANZ) group.Bathymetry compiled from data held at the National Institute of Water &amp; Atmospheric Research (NIWA); Hydrographic Office, Royal New Zealand Navy; National Geophysical Data Centre (U.S.); South Pacific Applied Geoscience Commission (Fiji); published scientific papers; recent swath bathymetric surveys funded by NIWA, Institute Francais de Recherche pour l’Exploitation de la Mer (IFREMER), France; Seabed Mapping New Zealand Limited and Land Information New Zealand (LINZ).Onshore data are derived from Eagle Technology Ltd.’s EagledataTM, which is a derivative of the 1:50 000 Digital Vector Topographic Land Information New Zealand dataset.</idAbs>
<idCredit>CANZ, 2008: New Zealand Region Bathymetry, 1:4 000 000, 2nd Edition. NIWA Chart, Miscellaneous Series No. 85.Attribution: Content, Datasets and Imagery provided by NIWA</idCredit>
<resConst>
<Consts>
<useLimit>NIWA Open Data Licence BY-NN-NC-SA version 118 April 2012 - 1:39pm -- Dr Jochen SchmidtAttribution-NoNavigation-NonCommercial-ShareAlike 1.0 (NODL BY-NN-NC-SA 1.0). You are encouraged to use and re-use the Information that is available under this licence, the NIWA Open Data Licence, freely and flexibly, with only a few conditions.NIWA Open Data LicenseAttribution-NoNavigation-NonCommercial-ShareAlike 1.0 (NODL BY-NN-NC-SA 1.0)You are encouraged to use and re-use the Information that is available under this licence, the NIWA Open Data Licence, freely and flexibly, with only a few conditions. Using information under this licenceUse of copyright and database right material expressly made available under this licence (the 'Information') indicates your acceptance of the terms and conditions below.The Licensor grants you a worldwide, royalty-free, perpetual, non-exclusive licence to use the Information subject to the conditions below.This licence does not affect your freedom under fair dealing or fair use or any other copyright or database right exceptions and limitations.You are free to: Copy, publish, distribute and transmit the Information; Adapt the Information.You must, where you do any of the above: Acknowledge the source of the Information by including any attribution statement specified by the Information Provider(s) and, where possible, provide a link to this licence;If the Information Provider does not provide a specific attribution statement, or if you are using Information from several Information Providers and multiple attributions are not practical in your product or application, you may consider using the following:Contains information licensed under the NIWA Open Data Licence v1.0. Not use the Information for any navigation purposes. Not make commercial use of this Information. Distribute, if you do, the Information under the same licence as this one. Ensure that you do not use the Information in a way that suggests any official status or that the Information Provider endorses you or your use of the Information Ensure that you do not mislead others or misrepresent the Information or its source Ensure that your use of the Information does not breach the applicable New Zealand legislation.These are important conditions of this licence and if you fail to comply with them the rights granted to you under this licence, or any similar licence granted by the Licensor, will end automatically.For the purposes of determining compliance with the terms of this Licence, NIWA reserves the right to decide what constitutes a breach of licence conditions, including what constitutes misrepresentation.ExemptionsThis licence does not cover the use of: Third party rights the Information Provider is not authorised to license; Information subject to other intellectual property rights, including patents, trademarks, and design rights.No warrantyThe Information is licensed 'as is' and the Information Provider excludes all representations, warranties, obligations and liabilities in relation to the Information to the maximum extent permitted by law.The Information Provider is not liable for any errors or omissions in the Information and shall not be liable for any loss, injury or damage of any kind caused by its use. The Information Provider does not guarantee the continued supply of the Information.Governing LawThis licence is governed by and construed in accordance with the law of New Zealand and the parties submit to the exclusive jurisdiction of the Courts of New Zealand.DefinitionsIn this licence, the terms below have the following meanings:'Information'means information protected by copyright or by database right (for example, literary and artistic works, content, data and source code) offered for use under the terms of this licence.'Information Provider'means the person or organisation providing the Information under this licence.'Licensor'means any Information Provider which has the authority to offer Information under the terms of this licence under the terms of this licence.'Use'as a verb, means doing any act which is restricted by copyright or database right, whether in the original medium or in any other medium, and includes without limitation distributing, copying, adapting, modifying as may be technically necessary to use it in a different mode or format.'You'means the natural or legal person, or body of persons corporate or incorporate, acquiring rights under this licence.About the NIWA Open Data LicenceNIWA has developed this licence as a tool to enable Information Providers to license the use and re-use of their Information under a common open licence. The Controller invites public sector bodies owning their own copyright and database rights to permit the use of their Information under this licence.This is version 1.0 of the NIWA Open Data Licence. NIWA may, from time to time, issue new versions of the NIWA Open Data Licence. However, you may continue to use Information licensed under this version should you wish to do so.These terms have been aligned to be interoperable with any Creative Commons Attribution Licence, which covers copyright, and Open Data Commons Attribution License, which covers database rights and applicable copyrights.This license is based on the version 1.0 of the UK Open Government Licence. </useLimit>
</Consts>
</resConst>
<searchKeys>
<keyword>niwa. bathymetry. 250m.</keyword>
</searchKeys>
</dataIdInfo>
<mdLang>
<languageCode Sync="TRUE" value="eng">
</languageCode>
<countryCode Sync="TRUE" value="NZL">
</countryCode>
</mdLang>
<mdChar>
<CharSetCd Sync="TRUE" value="004">
</CharSetCd>
</mdChar>
<distInfo>
<distFormat>
<formatName Sync="TRUE">File Geodatabase Raster Dataset</formatName>
</distFormat>
</distInfo>
<mdHrLv>
<ScopeCd Sync="TRUE" value="005">
</ScopeCd>
</mdHrLv>
<mdHrLvName Sync="TRUE">dataset</mdHrLvName>
<refSysInfo>
<RefSystem>
<refSysID>
<identCode Sync="TRUE" code="0">
</identCode>
</refSysID>
</RefSystem>
</refSysInfo>
<spatRepInfo>
<Georect>
<cellGeo>
<CellGeoCd Sync="TRUE" value="002">
</CellGeoCd>
</cellGeo>
<numDims Sync="TRUE">2</numDims>
<tranParaAv Sync="TRUE">1</tranParaAv>
<chkPtAv Sync="TRUE">0</chkPtAv>
<cornerPts>
<pos Sync="TRUE">4795705.551502 -5915595.457881</pos>
</cornerPts>
<cornerPts>
<pos Sync="TRUE">4795705.551502 -2067845.457881</pos>
</cornerPts>
<cornerPts>
<pos Sync="TRUE">7824455.551502 -2067845.457881</pos>
</cornerPts>
<cornerPts>
<pos Sync="TRUE">7824455.551502 -5915595.457881</pos>
</cornerPts>
<centerPt>
<pos Sync="TRUE">6310080.551502 -3991720.457881</pos>
</centerPt>
<axisDimension type="002">
<dimSize Sync="TRUE">12115</dimSize>
<dimResol>
<value Sync="TRUE" uom="Meter">250.000000</value>
</dimResol>
</axisDimension>
<axisDimension type="001">
<dimSize Sync="TRUE">15391</dimSize>
<dimResol>
<value Sync="TRUE" uom="Meter">250.000000</value>
</dimResol>
</axisDimension>
<ptInPixel>
<PixOrientCd Sync="TRUE" value="001">
</PixOrientCd>
</ptInPixel>
</Georect>
</spatRepInfo>
<contInfo>
<ImgDesc>
<contentTyp>
<ContentTypCd Sync="TRUE" value="003">
</ContentTypCd>
</contentTyp>
<covDim>
<Band>
<dimDescrp Sync="TRUE">nzbathy_dtm</dimDescrp>
<bitsPerVal Sync="TRUE">32</bitsPerVal>
<valUnit>
<UOM type="length">
</UOM>
</valUnit>
</Band>
</covDim>
</ImgDesc>
</contInfo>
<mdDateSt Sync="TRUE">20160721</mdDateSt>
<spdoinfo>
<rastinfo>
<rasttype Sync="TRUE">Pixel</rasttype>
<rowcount Sync="TRUE">15391</rowcount>
<colcount Sync="TRUE">12115</colcount>
<rastxsz Sync="TRUE">250.000000</rastxsz>
<rastysz Sync="TRUE">250.000000</rastysz>
<rastbpp Sync="TRUE">32</rastbpp>
<vrtcount Sync="TRUE">1</vrtcount>
<rastorig Sync="TRUE">Upper Left</rastorig>
<rastcmap Sync="TRUE">FALSE</rastcmap>
<rastcomp Sync="TRUE">LZ77</rastcomp>
<rastband Sync="TRUE">1</rastband>
<rastdtyp Sync="TRUE">pixel codes</rastdtyp>
<rastifor Sync="TRUE">FGDBR</rastifor>
<rastplyr Sync="TRUE">TRUE</rastplyr>
</rastinfo>
</spdoinfo>
<spref>
<horizsys>
<planar>
<planci>
<plance Sync="TRUE">row and column</plance>
<coordrep>
<absres Sync="TRUE">250.000000</absres>
<ordres Sync="TRUE">250.000000</ordres>
</coordrep>
</planci>
</planar>
</horizsys>
</spref>
</metadata>
