{
 "currentVersion": 11.5,
 "serviceDescription": "East Coast Bathymetry",
 "name": "geophysical/rectify_bathy_east_coast",
 "description": "East Coast Bathymetry",
 "extent": {
  "xmin": 1.94253436385245E7,
  "ymin": -5186771.650774591,
  "xmax": 1.9926354277373493E7,
  "ymax": -4643223.500017591,
  "spatialReference": {
   "wkid": 54004,
   "latestWkid": 54004
  }
 },
 "initialExtent": {
  "xmin": 1.94253436385245E7,
  "ymin": -5186771.650774591,
  "xmax": 1.9926354277373493E7,
  "ymax": -4643223.500017591,
  "spatialReference": {
   "wkid": 54004,
   "latestWkid": 54004
  }
 },
 "fullExtent": {
  "xmin": 1.94253436385245E7,
  "ymin": -5186771.650774591,
  "xmax": 1.9926354277373493E7,
  "ymax": -4643223.500017591,
  "spatialReference": {
   "wkid": 54004,
   "latestWkid": 54004
  }
 },
 "sortableFields": "",
 "bandCount": 3,
 "pixelType": "U8",
 "minValues": [
  0,
  0,
  0
 ],
 "maxValues": [
  255,
  255,
  255
 ],
 "meanValues": [
  222.2663848408592,
  203.54001369511317,
  232.64073028999698
 ],
 "stdvValues": [
  65.82536189969152,
  90.60542660716324,
  60.59504230952651
 ],
 "serviceProperties": "Center<\/MosaicMethod>First<\/MosaicOperator>true<\/SortAscending><\/LockImageID><\/TileOrderField>0<\/TileOrderBase>0.000000<\/AvgImageSpacingX>0.000000<\/AvgImageSpacingY>0.0<\/ViewPointX>0.0<\/ViewPointY>0.0<\/ViewPointDefShiftX>0.0<\/ViewPointDefShiftY>None<\/CompressionMethod>75<\/CompressionQuality>0.010000<\/CompressionTolerance>Bilinear<\/SamplingMethod><\/ImageServiceProperties><\/ImageServer>",
 "allowedFields": "",
 "hasMultidimensions": false,
 "pixelSizeX": 119.48739299999855,
 "pixelSizeY": 119.48739299999997,
 "meanPixelSize": 119.48739299999926,
 "datasetFormat": "FGDBR",
 "uncompressedSize": 57221871,
 "blockWidth": 128,
 "blockHeight": 128,
 "compressionType": "NONE",
 "bandNames": [
  "Band_1",
  "Band_2",
  "Band_3"
 ],
 "allowCopy": true,
 "allowAnalysis": true,
 "itemAccess": false,
 "inspectionCapabilities": "",
 "minPixelSize": 0,
 "maxPixelSize": 0,
 "copyrightText": "",
 "serviceDataType": "esriImageServiceDataTypeRGB",
 "serviceSourceType": "esriImageServiceSourceTypeDataset",
 "objectIdField": "",
 "fields": [],
 "capabilities": "Mensuration,Image,Metadata",
 "defaultMosaicMethod": "Center",
 "allowedMosaicMethods": "",
 "sortField": "",
 "sortValue": null,
 "sortAscending": true,
 "mosaicOperator": "First",
 "defaultCompressionQuality": 75,
 "defaultResamplingMethod": "Bilinear",
 "maxImageHeight": 4100,
 "maxImageWidth": 15000,
 "allowRasterFunction": true,
 "rasterFunctionInfos": [
  {
   "name": "None",
   "description": "",
   "help": ""
  }
 ],
 "rasterTypeInfos": [
  {
   "name": "Raster Dataset",
   "description": "Supports all ArcGIS Raster Datasets",
   "help": ""
  }
 ],
 "mensurationCapabilities": "Basic",
 "hasHistograms": true,
 "hasColormap": false,
 "hasRasterAttributeTable": false,
 "minScale": 0,
 "maxScale": 0,
 "exportTilesAllowed": false,
 "supportsStatistics": false,
 "supportsAdvancedQueries": false,
 "editFieldsInfo": null,
 "ownershipBasedAccessControlForRasters": null,
 "allowComputeTiePoints": false,
 "useStandardizedQueries": true,
 "advancedQueryCapabilities": {
  "useStandardizedQueries": true,
  "supportsStatistics": false,
  "supportsOrderBy": false,
  "supportsDistinct": false,
  "supportsPagination": false
 },
 "spatialReference": {
  "wkid": 54004,
  "latestWkid": 54004
 },
 "resampling": false
}
