{
 "currentVersion": 11.5,
 "serviceDescription": "topography/nz_dtm_shade",
 "name": "topography/nz_dtm_shade",
 "description": "",
 "extent": {
  "xmin": 1969495,
  "ymin": 5289445,
  "xmax": 3010555,
  "ymax": 6790565,
  "spatialReference": {
   "wkt2": "PROJCRS[\"GD_1949_New_Zealand_Map_Grid\",BASEGEOGCRS[\"GCS_New_Zealand_1949\",DATUM[\"D_New_Zealand_1949\",ELLIPSOID[\"International_1924\",6378388.0,297.0,LENGTHUNIT[\"Meter\",1.0]]],PRIMEM[\"Greenwich\",0.0,ANGLEUNIT[\"Degree\",0.0174532925199433]],CS[ellipsoidal,2],AXIS[\"Latitude (lat)\",north,ORDER[1]],AXIS[\"Longitude (lon)\",east,ORDER[2]],ANGLEUNIT[\"Degree\",0.0174532925199433]],CONVERSION[\"New_Zealand_Map_Grid\",METHOD[\"New_Zealand_Map_Grid\"],PARAMETER[\"False_Easting\",2510000.0,LENGTHUNIT[\"Meter\",1.0]],PARAMETER[\"False_Northing\",6023150.0,LENGTHUNIT[\"Meter\",1.0]],PARAMETER[\"Central_Meridian\",173.0,ANGLEUNIT[\"Degree\",0.0174532925199433]],PARAMETER[\"Latitude_Of_Origin\",-41.0,ANGLEUNIT[\"Degree\",0.0174532925199433]]],CS[Cartesian,2],AXIS[\"Easting (X)\",east,ORDER[1]],AXIS[\"Northing (Y)\",north,ORDER[2]],LENGTHUNIT[\"Meter\",1.0]]",
   "wkt": "PROJCS[\"GD_1949_New_Zealand_Map_Grid\",GEOGCS[\"GCS_New_Zealand_1949\",DATUM[\"D_New_Zealand_1949\",SPHEROID[\"International_1924\",6378388.0,297.0]],PRIMEM[\"Greenwich\",0.0],UNIT[\"Degree\",0.0174532925199433]],PROJECTION[\"New_Zealand_Map_Grid\"],PARAMETER[\"False_Easting\",2510000.0],PARAMETER[\"False_Northing\",6023150.0],PARAMETER[\"Central_Meridian\",173.0],PARAMETER[\"Latitude_Of_Origin\",-41.0],UNIT[\"Meter\",1.0]]"
  }
 },
 "initialExtent": {
  "xmin": 1969495,
  "ymin": 5289445,
  "xmax": 3010555,
  "ymax": 6790565,
  "spatialReference": {
   "wkt2": "PROJCRS[\"GD_1949_New_Zealand_Map_Grid\",BASEGEOGCRS[\"GCS_New_Zealand_1949\",DATUM[\"D_New_Zealand_1949\",ELLIPSOID[\"International_1924\",6378388.0,297.0,LENGTHUNIT[\"Meter\",1.0]]],PRIMEM[\"Greenwich\",0.0,ANGLEUNIT[\"Degree\",0.0174532925199433]],CS[ellipsoidal,2],AXIS[\"Latitude (lat)\",north,ORDER[1]],AXIS[\"Longitude (lon)\",east,ORDER[2]],ANGLEUNIT[\"Degree\",0.0174532925199433]],CONVERSION[\"New_Zealand_Map_Grid\",METHOD[\"New_Zealand_Map_Grid\"],PARAMETER[\"False_Easting\",2510000.0,LENGTHUNIT[\"Meter\",1.0]],PARAMETER[\"False_Northing\",6023150.0,LENGTHUNIT[\"Meter\",1.0]],PARAMETER[\"Central_Meridian\",173.0,ANGLEUNIT[\"Degree\",0.0174532925199433]],PARAMETER[\"Latitude_Of_Origin\",-41.0,ANGLEUNIT[\"Degree\",0.0174532925199433]]],CS[Cartesian,2],AXIS[\"Easting (X)\",east,ORDER[1]],AXIS[\"Northing (Y)\",north,ORDER[2]],LENGTHUNIT[\"Meter\",1.0]]",
   "wkt": "PROJCS[\"GD_1949_New_Zealand_Map_Grid\",GEOGCS[\"GCS_New_Zealand_1949\",DATUM[\"D_New_Zealand_1949\",SPHEROID[\"International_1924\",6378388.0,297.0]],PRIMEM[\"Greenwich\",0.0],UNIT[\"Degree\",0.0174532925199433]],PROJECTION[\"New_Zealand_Map_Grid\"],PARAMETER[\"False_Easting\",2510000.0],PARAMETER[\"False_Northing\",6023150.0],PARAMETER[\"Central_Meridian\",173.0],PARAMETER[\"Latitude_Of_Origin\",-41.0],UNIT[\"Meter\",1.0]]"
  }
 },
 "fullExtent": {
  "xmin": 1969495,
  "ymin": 5289445,
  "xmax": 3010555,
  "ymax": 6790565,
  "spatialReference": {
   "wkt2": "PROJCRS[\"GD_1949_New_Zealand_Map_Grid\",BASEGEOGCRS[\"GCS_New_Zealand_1949\",DATUM[\"D_New_Zealand_1949\",ELLIPSOID[\"International_1924\",6378388.0,297.0,LENGTHUNIT[\"Meter\",1.0]]],PRIMEM[\"Greenwich\",0.0,ANGLEUNIT[\"Degree\",0.0174532925199433]],CS[ellipsoidal,2],AXIS[\"Latitude (lat)\",north,ORDER[1]],AXIS[\"Longitude (lon)\",east,ORDER[2]],ANGLEUNIT[\"Degree\",0.0174532925199433]],CONVERSION[\"New_Zealand_Map_Grid\",METHOD[\"New_Zealand_Map_Grid\"],PARAMETER[\"False_Easting\",2510000.0,LENGTHUNIT[\"Meter\",1.0]],PARAMETER[\"False_Northing\",6023150.0,LENGTHUNIT[\"Meter\",1.0]],PARAMETER[\"Central_Meridian\",173.0,ANGLEUNIT[\"Degree\",0.0174532925199433]],PARAMETER[\"Latitude_Of_Origin\",-41.0,ANGLEUNIT[\"Degree\",0.0174532925199433]]],CS[Cartesian,2],AXIS[\"Easting (X)\",east,ORDER[1]],AXIS[\"Northing (Y)\",north,ORDER[2]],LENGTHUNIT[\"Meter\",1.0]]",
   "wkt": "PROJCS[\"GD_1949_New_Zealand_Map_Grid\",GEOGCS[\"GCS_New_Zealand_1949\",DATUM[\"D_New_Zealand_1949\",SPHEROID[\"International_1924\",6378388.0,297.0]],PRIMEM[\"Greenwich\",0.0],UNIT[\"Degree\",0.0174532925199433]],PROJECTION[\"New_Zealand_Map_Grid\"],PARAMETER[\"False_Easting\",2510000.0],PARAMETER[\"False_Northing\",6023150.0],PARAMETER[\"Central_Meridian\",173.0],PARAMETER[\"Latitude_Of_Origin\",-41.0],UNIT[\"Meter\",1.0]]"
  }
 },
 "sortableFields": "",
 "bandCount": 1,
 "pixelType": "S16",
 "minValues": [
  0
 ],
 "maxValues": [
  254
 ],
 "meanValues": [
  80.1641785594361
 ],
 "stdvValues": [
  54.36172991128056
 ],
 "serviceProperties": "Center<\/MosaicMethod>First<\/MosaicOperator>true<\/SortAscending><\/LockImageID><\/TileOrderField>0<\/TileOrderBase>0.000000<\/AvgImageSpacingX>0.000000<\/AvgImageSpacingY>0.0<\/ViewPointX>0.0<\/ViewPointY>0.0<\/ViewPointDefShiftX>0.0<\/ViewPointDefShiftY>None<\/CompressionMethod>75<\/CompressionQuality>0.010000<\/CompressionTolerance>Bilinear<\/SamplingMethod><\/ImageServiceProperties><\/ImageServer>",
 "allowedFields": "",
 "hasMultidimensions": false,
 "pixelSizeX": 10,
 "pixelSizeY": 10,
 "meanPixelSize": 10,
 "datasetFormat": "FGDBR",
 "uncompressedSize": 31255119744,
 "blockWidth": 128,
 "blockHeight": 128,
 "compressionType": "NONE",
 "bandNames": [
  "Band_1"
 ],
 "allowCopy": true,
 "allowAnalysis": true,
 "itemAccess": false,
 "inspectionCapabilities": "",
 "minPixelSize": 0,
 "maxPixelSize": 0,
 "copyrightText": "",
 "serviceDataType": "esriImageServiceDataTypeGeneric",
 "serviceSourceType": "esriImageServiceSourceTypeDataset",
 "objectIdField": "",
 "fields": [],
 "capabilities": "Image,Metadata,Mensuration",
 "defaultMosaicMethod": "Center",
 "allowedMosaicMethods": "",
 "sortField": "",
 "sortValue": null,
 "sortAscending": true,
 "mosaicOperator": "First",
 "defaultCompressionQuality": 75,
 "defaultResamplingMethod": "Bilinear",
 "maxImageHeight": 4100,
 "maxImageWidth": 15000,
 "allowRasterFunction": true,
 "rasterFunctionInfos": [
  {
   "name": "None",
   "description": "",
   "help": ""
  }
 ],
 "rasterTypeInfos": [
  {
   "name": "Raster Dataset",
   "description": "Supports all ArcGIS Raster Datasets",
   "help": ""
  }
 ],
 "mensurationCapabilities": "Basic",
 "hasHistograms": true,
 "hasColormap": false,
 "hasRasterAttributeTable": false,
 "minScale": 0,
 "maxScale": 0,
 "exportTilesAllowed": false,
 "supportsStatistics": false,
 "supportsAdvancedQueries": false,
 "editFieldsInfo": null,
 "ownershipBasedAccessControlForRasters": null,
 "allowComputeTiePoints": false,
 "useStandardizedQueries": true,
 "advancedQueryCapabilities": {
  "useStandardizedQueries": true,
  "supportsStatistics": false,
  "supportsOrderBy": false,
  "supportsDistinct": false,
  "supportsPagination": false
 },
 "spatialReference": {
  "wkt2": "PROJCRS[\"GD_1949_New_Zealand_Map_Grid\",BASEGEOGCRS[\"GCS_New_Zealand_1949\",DATUM[\"D_New_Zealand_1949\",ELLIPSOID[\"International_1924\",6378388.0,297.0,LENGTHUNIT[\"Meter\",1.0]]],PRIMEM[\"Greenwich\",0.0,ANGLEUNIT[\"Degree\",0.0174532925199433]],CS[ellipsoidal,2],AXIS[\"Latitude (lat)\",north,ORDER[1]],AXIS[\"Longitude (lon)\",east,ORDER[2]],ANGLEUNIT[\"Degree\",0.0174532925199433]],CONVERSION[\"New_Zealand_Map_Grid\",METHOD[\"New_Zealand_Map_Grid\"],PARAMETER[\"False_Easting\",2510000.0,LENGTHUNIT[\"Meter\",1.0]],PARAMETER[\"False_Northing\",6023150.0,LENGTHUNIT[\"Meter\",1.0]],PARAMETER[\"Central_Meridian\",173.0,ANGLEUNIT[\"Degree\",0.0174532925199433]],PARAMETER[\"Latitude_Of_Origin\",-41.0,ANGLEUNIT[\"Degree\",0.0174532925199433]]],CS[Cartesian,2],AXIS[\"Easting (X)\",east,ORDER[1]],AXIS[\"Northing (Y)\",north,ORDER[2]],LENGTHUNIT[\"Meter\",1.0]]",
  "wkt": "PROJCS[\"GD_1949_New_Zealand_Map_Grid\",GEOGCS[\"GCS_New_Zealand_1949\",DATUM[\"D_New_Zealand_1949\",SPHEROID[\"International_1924\",6378388.0,297.0]],PRIMEM[\"Greenwich\",0.0],UNIT[\"Degree\",0.0174532925199433]],PROJECTION[\"New_Zealand_Map_Grid\"],PARAMETER[\"False_Easting\",2510000.0],PARAMETER[\"False_Northing\",6023150.0],PARAMETER[\"Central_Meridian\",173.0],PARAMETER[\"Latitude_Of_Origin\",-41.0],UNIT[\"Meter\",1.0]]"
 }
}
