View In:
ArcGIS JavaScript
ArcGIS Online Map Viewer
ArcGIS Earth
ArcGIS Pro
Service Description: The active fault data displayed here are from the New Zealand Active Faults Database (‘Database’), prepared by the Institute of Geological and Nuclear Sciences Limited (GNS Science). The Database includes two sets of active faults (1:250,000 scale and higher resolutions) and Fault Avoidance. The 1:250 000 active faults are from the New Zealand Active Faults Database and cover New Zealand mainland. The Higher Resolution active faults and Fault Avoidance Zones are available only within parts of Kapiti Coast District, Porirua City, Upper Hutt City, Lower Hutt City, Wairoa District, Hastings District and Central Hawkes Bay District. If the Fault Avoidance Zones are used to assist future land use planning, this should be done in accordance to the Ministry for the Environment "Planning for Development on or Close to Active Faults" (Kerr et al. 2003). The Fault Awareness areas show where there may be a surface fault rupture hazard but further work is needed to define a Fault Avoidance Zone.
Map Name: ActiveFaultsDatabase
Legend
All Layers and Tables
Dynamic Legend
Dynamic All Layers
Layers:
Description: The active fault data displayed here are from the New Zealand Active Faults Database (‘Database’), prepared by the Institute of Geological and Nuclear Sciences Limited (GNS Science). The Database includes two sets of active faults (1:250,000 scale and higher resolutions) and Fault Avoidance. The 1:250 000 active faults are from the New Zealand Active Faults Database and cover New Zealand mainland. The Higher Resolution active faults and Fault Avoidance Zones are available only within parts of Kapiti Coast District, Porirua City, Upper Hutt City, Lower Hutt City, Wairoa District, Hastings District and Central Hawkes Bay District. If the Fault Avoidance Zones are used to assist future land use planning, this should be done in accordance to the Ministry for the Environment "Planning for Development on or Close to Active Faults" (Kerr et al. 2003). The Fault Awareness areas show where there may be a surface fault rupture hazard but further work is needed to define a Fault Avoidance Zone.
Copyright Text: GNS Science
Spatial Reference:
2193
(2193)
LatestVCSWkid(0)
Single Fused Map Cache: true
Tile Info:
- Height: 256.0
- Width: 256.0
- DPI: 96.0
-
Levels of Detail: 24
-
Level ID: 0
[ Start Tile, End Tile ]
- Resolution: 78109.09330419017
- Scale: 2.952154707559943E8
-
Level ID: 1
[ Start Tile, End Tile ]
- Resolution: 39054.54665209509
- Scale: 1.4760773537799716E8
-
Level ID: 2
[ Start Tile, End Tile ]
- Resolution: 19527.273326047543
- Scale: 7.380386768899858E7
-
Level ID: 3
[ Start Tile, End Tile ]
- Resolution: 9763.636663023772
- Scale: 3.690193384449929E7
-
Level ID: 4
[ Start Tile, End Tile ]
- Resolution: 4881.818331511886
- Scale: 1.8450966922249645E7
-
Level ID: 5
[ Start Tile, End Tile ]
- Resolution: 2440.909165755943
- Scale: 9225483.461124822
-
Level ID: 6
[ Start Tile, End Tile ]
- Resolution: 1220.4545828779715
- Scale: 4612741.730562411
-
Level ID: 7
[ Start Tile, End Tile ]
- Resolution: 610.2272914389857
- Scale: 2306370.8652812056
-
Level ID: 8
[ Start Tile, End Tile ]
- Resolution: 305.11364571949287
- Scale: 1153185.4326406028
-
Level ID: 9
[ Start Tile, End Tile ]
- Resolution: 152.55682285974643
- Scale: 576592.7163203014
-
Level ID: 10
[ Start Tile, End Tile ]
- Resolution: 76.27841142987322
- Scale: 288296.3581601507
-
Level ID: 11
[ Start Tile, End Tile ]
- Resolution: 38.13920571493661
- Scale: 144148.17908007535
-
Level ID: 12
[ Start Tile, End Tile ]
- Resolution: 19.069602857468304
- Scale: 72074.08954003768
-
Level ID: 13
[ Start Tile, End Tile ]
- Resolution: 9.534801428734152
- Scale: 36037.04477001884
-
Level ID: 14
[ Start Tile, End Tile ]
- Resolution: 4.767400714367076
- Scale: 18018.52238500942
-
Level ID: 15
[ Start Tile, End Tile ]
- Resolution: 2.383700357183538
- Scale: 9009.26119250471
-
Level ID: 16
[ Start Tile, End Tile ]
- Resolution: 1.191850178591769
- Scale: 4504.630596252355
-
Level ID: 17
[ Start Tile, End Tile ]
- Resolution: 0.5959250892958845
- Scale: 2252.3152981261774
-
Level ID: 18
[ Start Tile, End Tile ]
- Resolution: 0.29796254464794225
- Scale: 1126.1576490630887
-
Level ID: 19
[ Start Tile, End Tile ]
- Resolution: 0.14898127232397113
- Scale: 563.0788245315443
-
Level ID: 20
[ Start Tile, End Tile ]
- Resolution: 0.07449063616198556
- Scale: 281.53941226577217
-
Level ID: 21
[ Start Tile, End Tile ]
- Resolution: 0.03724531808099278
- Scale: 140.76970613288609
-
Level ID: 22
[ Start Tile, End Tile ]
- Resolution: 0.01862265904049639
- Scale: 70.38485306644304
-
Level ID: 23
[ Start Tile, End Tile ]
- Resolution: 0.009311329520248195
- Scale: 35.19242653322152
- Format: PNG
- Compression Quality: 0.0
- Origin: X: -8397963.942936342
Y: 1.9997963942936342E7
- Spatial Reference: 2193
(2193)
LatestVCSWkid(0)
Storage Info:
- Storage Format: esriMapCacheStorageModeCompactV2
- Packet Size: 128
Initial Extent:
XMin: 1684076.0461309748
YMin: 5515334.827400819
XMax: 2065456.2247629412
YMax: 5766258.533670404
Spatial Reference: 2193
(2193)
LatestVCSWkid(0)
Full Extent:
XMin: 716322.4414999997
YMin: 4526296.3224
XMax: 2408600.8263
YMax: 6366491.2359
Spatial Reference: 2193
(2193)
LatestVCSWkid(0)
Units: esriMeters
Supported Image Format Types: PNG32,PNG24,PNG,JPG,DIB,TIFF,EMF,PS,PDF,GIF,SVG,SVGZ,BMP
Document Info:
Title: Layers
Author:
Comments: The active fault data displayed here are from the New Zealand Active Faults Database (‘Database’), prepared by the Institute of Geological and Nuclear Sciences Limited (GNS Science). The Database includes two sets of active faults (1:250,000 scale and higher resolutions) and Fault Avoidance. The 1:250 000 active faults are from the New Zealand Active Faults Database and cover New Zealand mainland. The Higher Resolution active faults and Fault Avoidance Zones are available only within parts of Kapiti Coast District, Porirua City, Upper Hutt City, Lower Hutt City, Wairoa District, Hastings District and Central Hawkes Bay District. If the Fault Avoidance Zones are used to assist future land use planning, this should be done in accordance to the Ministry for the Environment "Planning for Development on or Close to Active Faults" (Kerr et al. 2003). The Fault Awareness areas show where there may be a surface fault rupture hazard but further work is needed to define a Fault Avoidance Zone.
Subject: This service provides the current version of the Active Faults Database, covering New Zealand at 1:250 000 scale, and selected regions at a higher resolution.
Category:
Keywords: Active Faults,1:250 000,High Resolution,Fault Avoidance Zones,Fault Awareness Areas
AntialiasingMode: Fast
TextAntialiasingMode: Force
Supports Dynamic Layers: true
Resampling: false
MaxRecordCount: 20000
MaxSelectionCount: 2000
MaxImageHeight: 4096
MaxImageWidth: 4096
Supported Query Formats: JSON, geoJSON, PBF
Supports Query Data Elements: true
Min Scale: 1.8450966922249645E7
Max Scale: 576592.7163203014
Supports Datum Transformation: true
Child Resources:
Info
Dynamic Layer
Supported Operations:
Export Map
Identify
QueryLegends
QueryDomains
Find
Return Updates