View In:
ArcGIS JavaScript
ArcGIS Online Map Viewer
ArcGIS Earth
Service Description: basemaps/ROSS_SEA
Name: basemaps/ROSS_SEA
Description:
Single Fused Map Cache: false
Extent:
XMin: -1045538.2060626295
YMin: -36402.4945800188
XMax: 1041356.6916573724
YMax: 2639795.4017937095
Spatial Reference: 0
(0)
LatestVCSWkid(0)
Initial Extent:
XMin: -1045538.2060626295
YMin: -36402.4945800188
XMax: 1041356.6916573724
YMax: 2639795.4017937095
Spatial Reference: 0
(0)
LatestVCSWkid(0)
Full Extent:
XMin: -1045538.2060626295
YMin: -36402.4945800188
XMax: 1041356.6916573724
YMax: 2639795.4017937095
Spatial Reference: 0
(0)
LatestVCSWkid(0)
Pixel Size X: 317.012744602765
Pixel Size Y: 586.371142939029
Band Count: 3
Pixel Type: U8
RasterFunction Infos: {"rasterFunctionInfos": [{
"name": "None",
"description": "",
"help": ""
}]}
Mensuration Capabilities: Basic
Inspection Capabilities:
Has Histograms: true
Has Colormap: false
Has Multi Dimensions : false
Rendering Rule:
Min Scale: 0
Max Scale: 0
Copyright Text:
Service Data Type: esriImageServiceDataTypeRGB
Min Values: 0, 0, 0
Max Values: 255, 255, 255
Mean Values: 140.66820847473, 161.9563612846, 170.41306988375
Standard Deviation Values: 75.872839270735, 85.142392721981, 88.983972321424
Object ID Field:
Fields:
None
Default Mosaic Method: Center
Allowed Mosaic Methods:
SortField:
SortValue: null
Mosaic Operator: First
Default Compression Quality: 75
Default Resampling Method: Bilinear
Max Record Count: null
Max Image Height: 4100
Max Image Width: 15000
Max Download Image Count: null
Max Mosaic Image Count: null
Allow Raster Function: true
Allow Copy: true
Allow Analysis: true
Allow Compute TiePoints: false
Supports Statistics: false
Supports Advanced Queries: false
Use StandardizedQueries: true
Raster Type Infos:
Name: Raster Dataset
Description: Supports all ArcGIS Raster Datasets
Help:
Has Raster Attribute Table: false
Edit Fields Info: null
Ownership Based AccessControl For Rasters: null
Child Resources:
Info
Histograms
Statistics
Key Properties
Legend
Raster Function Infos
Supported Operations:
Export Image
Identify
Measure
Compute Histograms
Compute Statistics Histograms
Get Samples
Compute Class Statistics
Query Boundary
Compute Pixel Location
Compute Angles
Validate
Project