View In:
ArcGIS JavaScript
ArcGIS Online Map Viewer
ArcGIS Earth
Service Description: basemaps/ROSS_SEA_250
Name: basemaps/ROSS_SEA_250
Description:
Single Fused Map Cache: false
Extent:
XMin: -964422.6342776762
YMin: 1125728.7064894917
XMax: -182147.53725033696
YMax: 2345071.7162482473
Spatial Reference: 0
(0)
LatestVCSWkid(0)
Initial Extent:
XMin: -964422.6342776762
YMin: 1125728.7064894917
XMax: -182147.53725033696
YMax: 2345071.7162482473
Spatial Reference: 0
(0)
LatestVCSWkid(0)
Full Extent:
XMin: -964422.6342776762
YMin: 1125728.7064894917
XMax: -182147.53725033696
YMax: 2345071.7162482473
Spatial Reference: 0
(0)
LatestVCSWkid(0)
Pixel Size X: 50.3070801946842
Pixel Size Y: 50.3070801946842
Band Count: 3
Pixel Type: S16
RasterFunction Infos: {"rasterFunctionInfos": [{
"name": "None",
"description": "",
"help": ""
}]}
Mensuration Capabilities: Basic
Inspection Capabilities:
Has Histograms: true
Has Colormap: false
Has Multi Dimensions : false
Rendering Rule:
Min Scale: 0
Max Scale: 0
Copyright Text:
Service Data Type: esriImageServiceDataTypeGeneric
Min Values: 0, 0, 0
Max Values: 255, 255, 255
Mean Values: 147.5326168425684, 143.64424770822768, 155.4378323407654
Standard Deviation Values: 22.81927756084351, 20.955304407006974, 19.403236945359325
Object ID Field:
Fields:
None
Default Mosaic Method: Center
Allowed Mosaic Methods:
SortField:
SortValue: null
Mosaic Operator: First
Default Compression Quality: 75
Default Resampling Method: Bilinear
Max Record Count: null
Max Image Height: 4100
Max Image Width: 15000
Max Download Image Count: null
Max Mosaic Image Count: null
Allow Raster Function: true
Allow Copy: true
Allow Analysis: true
Allow Compute TiePoints: false
Supports Statistics: false
Supports Advanced Queries: false
Use StandardizedQueries: true
Raster Type Infos:
Name: Raster Dataset
Description: Supports all ArcGIS Raster Datasets
Help:
Has Raster Attribute Table: false
Edit Fields Info: null
Ownership Based AccessControl For Rasters: null
Child Resources:
Info
Histograms
Statistics
Key Properties
Legend
Raster Function Infos
Supported Operations:
Export Image
Identify
Measure
Compute Histograms
Compute Statistics Histograms
Get Samples
Compute Class Statistics
Query Boundary
Compute Pixel Location
Compute Angles
Validate
Project