View In:
ArcGIS JavaScript
ArcGIS Online Map Viewer
ArcGIS Earth
Service Description: geophysical/EEZ_BED_PROF
Name: geophysical/EEZ_BED_PROF
Description:
Single Fused Map Cache: false
Extent:
XMin: 4412102.5
YMin: -5447170.5
XMax: 7205102.5
YMax: -1900170.5
Spatial Reference: 0
(0)
LatestVCSWkid(0)
Initial Extent:
XMin: 4412102.5
YMin: -5447170.5
XMax: 7205102.5
YMax: -1900170.5
Spatial Reference: 0
(0)
LatestVCSWkid(0)
Full Extent:
XMin: 4412102.5
YMin: -5447170.5
XMax: 7205102.5
YMax: -1900170.5
Spatial Reference: 0
(0)
LatestVCSWkid(0)
Pixel Size X: 1000.0
Pixel Size Y: 1000.0
Band Count: 1
Pixel Type: F32
RasterFunction Infos: {"rasterFunctionInfos": [{
"name": "None",
"description": "",
"help": ""
}]}
Mensuration Capabilities: Basic
Inspection Capabilities:
Has Histograms: true
Has Colormap: false
Has Multi Dimensions : false
Rendering Rule:
Min Scale: 0
Max Scale: 0
Resampling: false
Copyright Text: Bryan Davy, Vaughan Stagpoole, GNS Science
Service Data Type: esriImageServiceDataTypeGeneric
Min Values: -0.008592297323048115
Max Values: 0.008366490714251995
Mean Values: 5.5914988706993105E-6
Standard Deviation Values: 1.2689467194848485E-4
Object ID Field:
Fields:
None
Default Mosaic Method: Center
Allowed Mosaic Methods:
SortField:
SortValue: null
Mosaic Operator: First
Default Compression Quality: 75
Default Resampling Method: Bilinear
Max Record Count: null
Max Image Height: 4100
Max Image Width: 15000
Max Download Image Count: null
Max Mosaic Image Count: null
Allow Raster Function: true
Allow Copy: true
Allow Analysis: true
Allow Compute TiePoints: false
Supports Statistics: false
Supports Advanced Queries: false
Use StandardizedQueries: true
Raster Type Infos:
Name: Raster Dataset
Description: Supports all ArcGIS Raster Datasets
Help:
Has Raster Attribute Table: false
Edit Fields Info: null
Ownership Based AccessControl For Rasters: null
Child Resources:
Info
Histograms
Statistics
Key Properties
Legend
Raster Function Infos
Supported Operations:
Export Image
Identify
Measure
Compute Histograms
Compute Statistics Histograms
Get Samples
Compute Class Statistics
Query Boundary
Compute Pixel Location
Compute Angles
Validate
Project