View In:
ArcGIS JavaScript
ArcGIS Online Map Viewer
ArcGIS Earth
Service Description: GEBCO NZ 30S data 2008
Name: geophysical/gebco_nz_30s
Description: GEBCO NZ 30S data 2008
Single Fused Map Cache: false
Extent:
XMin: 144.999833335
YMin: -79.999966665
XMax: 219.99980333500002
YMax: 1.3349999932197112E-6
Spatial Reference: 4326
(4326)
LatestVCSWkid(0)
Initial Extent:
XMin: 144.999833335
YMin: -79.999966665
XMax: 219.99980333500002
YMax: 1.3349999932197112E-6
Spatial Reference: 4326
(4326)
LatestVCSWkid(0)
Full Extent:
XMin: 144.999833335
YMin: -79.999966665
XMax: 219.99980333500002
YMax: 1.3349999932197112E-6
Spatial Reference: 4326
(4326)
LatestVCSWkid(0)
Pixel Size X: 0.008333330000000002
Pixel Size Y: 0.00833333
Band Count: 1
Pixel Type: F32
RasterFunction Infos: {"rasterFunctionInfos": [{
"name": "None",
"description": "",
"help": ""
}]}
Mensuration Capabilities: Basic
Inspection Capabilities:
Has Histograms: true
Has Colormap: false
Has Multi Dimensions : false
Rendering Rule:
Min Scale: 0
Max Scale: 0
Resampling: false
Copyright Text: GEBCO
Service Data Type: esriImageServiceDataTypeGeneric
Min Values: -10811
Max Values: 4333
Mean Values: -3297.101020046296
Standard Deviation Values: 1984.7401831536263
Object ID Field:
Fields:
None
Default Mosaic Method: Center
Allowed Mosaic Methods:
SortField:
SortValue: null
Mosaic Operator: First
Default Compression Quality: 75
Default Resampling Method: Bilinear
Max Record Count: null
Max Image Height: 4100
Max Image Width: 15000
Max Download Image Count: null
Max Mosaic Image Count: null
Allow Raster Function: true
Allow Copy: true
Allow Analysis: true
Allow Compute TiePoints: false
Supports Statistics: false
Supports Advanced Queries: false
Use StandardizedQueries: true
Raster Type Infos:
Name: Raster Dataset
Description: Supports all ArcGIS Raster Datasets
Help:
Has Raster Attribute Table: false
Edit Fields Info: null
Ownership Based AccessControl For Rasters: null
Child Resources:
Info
Histograms
Statistics
Key Properties
Legend
Raster Function Infos
Supported Operations:
Export Image
Identify
Measure
Compute Histograms
Compute Statistics Histograms
Get Samples
Compute Class Statistics
Query Boundary
Compute Pixel Location
Compute Angles
Validate
Project