View In:
ArcGIS JavaScript
ArcGIS Online Map Viewer
ArcGIS Earth
Service Description: geophysical/gebco_wgs84
Name: geophysical/gebco_wgs84
Description:
Single Fused Map Cache: false
Extent:
XMin: 149.99966665000002
YMin: -61.00003335
XMax: 200.03310004999997
YMax: -18.98328265
Spatial Reference: 4326
(4326)
LatestVCSWkid(0)
Initial Extent:
XMin: 149.99966665000002
YMin: -61.00003335
XMax: 200.03310004999997
YMax: -18.98328265
Spatial Reference: 4326
(4326)
LatestVCSWkid(0)
Full Extent:
XMin: 149.99966665000002
YMin: -61.00003335
XMax: 200.03310004999997
YMax: -18.98328265
Spatial Reference: 4326
(4326)
LatestVCSWkid(0)
Pixel Size X: 0.016666699999999982
Pixel Size Y: 0.0166667
Band Count: 1
Pixel Type: S16
RasterFunction Infos: {"rasterFunctionInfos": [{
"name": "None",
"description": "",
"help": ""
}]}
Mensuration Capabilities: Basic
Inspection Capabilities:
Has Histograms: true
Has Colormap: false
Has Multi Dimensions : false
Rendering Rule:
Min Scale: 0
Max Scale: 0
Copyright Text:
Service Data Type: esriImageServiceDataTypeGeneric
Min Values: -10574
Max Values: 2933
Mean Values: -3638.4769129581427
Standard Deviation Values: 1758.5956956622256
Object ID Field:
Fields:
None
Default Mosaic Method: Center
Allowed Mosaic Methods:
SortField:
SortValue: null
Mosaic Operator: First
Default Compression Quality: 75
Default Resampling Method: Bilinear
Max Record Count: null
Max Image Height: 4100
Max Image Width: 15000
Max Download Image Count: null
Max Mosaic Image Count: null
Allow Raster Function: true
Allow Copy: true
Allow Analysis: true
Allow Compute TiePoints: false
Supports Statistics: false
Supports Advanced Queries: false
Use StandardizedQueries: true
Raster Type Infos:
Name: Raster Dataset
Description: Supports all ArcGIS Raster Datasets
Help:
Has Raster Attribute Table: true
Edit Fields Info: null
Ownership Based AccessControl For Rasters: null
Child Resources:
Info
Raster Attribute Table
Histograms
Statistics
Key Properties
Legend
Raster Function Infos
Supported Operations:
Export Image
Identify
Measure
Compute Histograms
Compute Statistics Histograms
Get Samples
Compute Class Statistics
Query Boundary
Compute Pixel Location
Compute Angles
Validate
Project