View In:
ArcGIS JavaScript
ArcGIS Online Map Viewer
ArcGIS Earth
Service Description: Hydrates LM10
Name: geophysical/hydrates_lm10
Description: Hydrates LM10
Single Fused Map Cache: false
Extent:
XMin: 1.96195233260822E7
YMin: -5059717.3680385295
XMax: 1.97032319117052E7
YMax: -4984864.01133053
Spatial Reference: 54004
(54004)
LatestVCSWkid(0)
Initial Extent:
XMin: 1.96195233260822E7
YMin: -5059717.3680385295
XMax: 1.97032319117052E7
YMax: -4984864.01133053
Spatial Reference: 54004
(54004)
LatestVCSWkid(0)
Full Extent:
XMin: 1.96195233260822E7
YMin: -5059717.3680385295
XMax: 1.97032319117052E7
YMax: -4984864.01133053
Spatial Reference: 54004
(54004)
LatestVCSWkid(0)
Pixel Size X: 21.337900999999952
Pixel Size Y: 21.337900999999853
Band Count: 3
Pixel Type: U8
RasterFunction Infos: {"rasterFunctionInfos": [{
"name": "None",
"description": "",
"help": ""
}]}
Mensuration Capabilities: Basic
Inspection Capabilities:
Has Histograms: true
Has Colormap: false
Has Multi Dimensions : false
Rendering Rule:
Min Scale: 0
Max Scale: 0
Resampling: false
Copyright Text:
Service Data Type: esriImageServiceDataTypeRGB
Min Values: 0, 0, 0
Max Values: 255, 255, 255
Mean Values: 136.13204987049738, 182.90665326055648, 139.07854084513428
Standard Deviation Values: 92.88929042275174, 87.86672179873574, 100.35868769660786
Object ID Field:
Fields:
None
Default Mosaic Method: Center
Allowed Mosaic Methods:
SortField:
SortValue: null
Mosaic Operator: First
Default Compression Quality: 75
Default Resampling Method: Bilinear
Max Record Count: null
Max Image Height: 4100
Max Image Width: 15000
Max Download Image Count: null
Max Mosaic Image Count: null
Allow Raster Function: true
Allow Copy: true
Allow Analysis: true
Allow Compute TiePoints: false
Supports Statistics: false
Supports Advanced Queries: false
Use StandardizedQueries: true
Raster Type Infos:
Name: Raster Dataset
Description: Supports all ArcGIS Raster Datasets
Help:
Has Raster Attribute Table: false
Edit Fields Info: null
Ownership Based AccessControl For Rasters: null
Child Resources:
Info
Histograms
Statistics
Key Properties
Legend
Raster Function Infos
Supported Operations:
Export Image
Identify
Measure
Compute Histograms
Compute Statistics Histograms
Get Samples
Compute Class Statistics
Query Boundary
Compute Pixel Location
Compute Angles
Validate
Project