View In:
ArcGIS JavaScript
ArcGIS Online Map Viewer
ArcGIS Earth
Service Description: Data sourced from the FROGTECH_NZ_ECS_SEEBASE product in the NZP&M 2013 Block Offer Data Pack.The magnetic grid was generated by FROGTECH from the World Digital Magnetic Anomaly Map (WDMAM) or EMAG3 (2007), a global 3-arc-minute resolution grid of the anomaly of the magnetic intensity at an altitude of 5 km above mean sea level. It was compiled from satellite, marine, aeromagnetic and ground magnetic surveys. Information on this dataset can be found in http://www.geomag.us/models/wdmam.html The TMI magnetic data was Reduced to the Pole (RTP). The RTP image showed numerous noise and artefacts which were further attenuated by applying a Low Pass (20Km) filter. This filter passes low frequencies but substantially attenuates (or reduces) frequencies higher than 20km, emphasizing magnetic anomalies with wavelengths greater than 20km. Caution is warranted
Name: geophysical/magnetics_wdmam_rtp_lp20km
Description: Data sourced from the FROGTECH_NZ_ECS_SEEBASE product in the NZP&M 2013 Block Offer Data Pack.The magnetic grid was generated by FROGTECH from the World Digital Magnetic Anomaly Map (WDMAM) or EMAG3 (2007), a global 3-arc-minute resolution grid of the anomaly of the magnetic intensity at an altitude of 5 km above mean sea level. It was compiled from satellite, marine, aeromagnetic and ground magnetic surveys. Information on this dataset can be found in http://www.geomag.us/models/wdmam.html The TMI magnetic data was Reduced to the Pole (RTP). The RTP image showed numerous noise and artefacts which were further attenuated by applying a Low Pass (20Km) filter. This filter passes low frequencies but substantially attenuates (or reduces) frequencies higher than 20km, emphasizing magnetic anomalies with wavelengths greater than 20km. Caution is warranted
Single Fused Map Cache: false
Extent:
XMin: 467775.0
YMin: 3529575.0
XMax: 3369195.0
YMax: 7240185.0
Spatial Reference: 2193
(2193)
LatestVCSWkid(0)
Initial Extent:
XMin: 467775.0
YMin: 3529575.0
XMax: 3369195.0
YMax: 7240185.0
Spatial Reference: 2193
(2193)
LatestVCSWkid(0)
Full Extent:
XMin: 467775.0
YMin: 3529575.0
XMax: 3369195.0
YMax: 7240185.0
Spatial Reference: 2193
(2193)
LatestVCSWkid(0)
Pixel Size X: 2430.0
Pixel Size Y: 2430.0
Band Count: 1
Pixel Type: F32
RasterFunction Infos: {"rasterFunctionInfos": [{
"name": "None",
"description": "",
"help": ""
}]}
Mensuration Capabilities: Basic
Inspection Capabilities:
Has Histograms: true
Has Colormap: false
Has Multi Dimensions : false
Rendering Rule:
Min Scale: 0
Max Scale: 0
Resampling: false
Copyright Text: FROGTECH
Service Data Type: esriImageServiceDataTypeGeneric
Min Values: -788.4533081054688
Max Values: 1030.11474609375
Mean Values: 0.35263694456403194
Standard Deviation Values: 108.95138367159879
Object ID Field:
Fields:
None
Default Mosaic Method: Center
Allowed Mosaic Methods:
SortField:
SortValue: null
Mosaic Operator: First
Default Compression Quality: 75
Default Resampling Method: Bilinear
Max Record Count: null
Max Image Height: 4100
Max Image Width: 15000
Max Download Image Count: null
Max Mosaic Image Count: null
Allow Raster Function: true
Allow Copy: true
Allow Analysis: true
Allow Compute TiePoints: false
Supports Statistics: false
Supports Advanced Queries: false
Use StandardizedQueries: true
Raster Type Infos:
Name: Raster Dataset
Description: Supports all ArcGIS Raster Datasets
Help:
Has Raster Attribute Table: false
Edit Fields Info: null
Ownership Based AccessControl For Rasters: null
Child Resources:
Info
Histograms
Statistics
Key Properties
Legend
Raster Function Infos
Supported Operations:
Export Image
Identify
Measure
Compute Histograms
Compute Statistics Histograms
Get Samples
Compute Class Statistics
Query Boundary
Compute Pixel Location
Compute Angles
Validate
Project