View In:
ArcGIS JavaScript
ArcGIS Online Map Viewer
ArcGIS Earth
Service Description: Source information - NZ region bathymetryBathymetric compilation, interpretation, and terrain model by Charting Around New Zealand (CANZ) group.Bathymetry compiled from data held at the National Institute of Water & Atmospheric Research (NIWA); Hydrographic Office, Royal New Zealand Navy; National Geophysical Data Centre (U.S.); South Pacific Applied Geoscience Commission (Fiji); published scientific papers; recent swath bathymetric surveys funded by NIWA, Institute Francais de Recherche pour l’Exploitation de la Mer (IFREMER), France; Seabed Mapping New Zealand Limited and Land Information New Zealand (LINZ).Onshore data are derived from Eagle Technology Ltd.’s EagledataTM, which is a derivative of the 1:50 000 Digital Vector Topographic Land Information New Zealand dataset.
Name: geophysical/niwa_bathy_250m
Description: Source information - NZ region bathymetryBathymetric compilation, interpretation, and terrain model by Charting Around New Zealand (CANZ) group.Bathymetry compiled from data held at the National Institute of Water & Atmospheric Research (NIWA); Hydrographic Office, Royal New Zealand Navy; National Geophysical Data Centre (U.S.); South Pacific Applied Geoscience Commission (Fiji); published scientific papers; recent swath bathymetric surveys funded by NIWA, Institute Francais de Recherche pour l’Exploitation de la Mer (IFREMER), France; Seabed Mapping New Zealand Limited and Land Information New Zealand (LINZ).Onshore data are derived from Eagle Technology Ltd.’s EagledataTM, which is a derivative of the 1:50 000 Digital Vector Topographic Land Information New Zealand dataset.
Single Fused Map Cache: false
Extent:
XMin: 4795705.5515021
YMin: -5915595.4578811
XMax: 7824455.5515021
YMax: -2067845.4578811
Spatial Reference: 0
(0)
LatestVCSWkid(0)
Initial Extent:
XMin: 4795705.5515021
YMin: -5915595.4578811
XMax: 7824455.5515021
YMax: -2067845.4578811
Spatial Reference: 0
(0)
LatestVCSWkid(0)
Full Extent:
XMin: 4795705.5515021
YMin: -5915595.4578811
XMax: 7824455.5515021
YMax: -2067845.4578811
Spatial Reference: 0
(0)
LatestVCSWkid(0)
Pixel Size X: 250.0
Pixel Size Y: 249.99999999999997
Band Count: 1
Pixel Type: F32
RasterFunction Infos: {"rasterFunctionInfos": [{
"name": "None",
"description": "",
"help": ""
}]}
Mensuration Capabilities: Basic
Inspection Capabilities:
Has Histograms: true
Has Colormap: false
Has Multi Dimensions : false
Rendering Rule:
Min Scale: 0
Max Scale: 0
Resampling: false
Copyright Text: CANZ, 2008: New Zealand Region Bathymetry, 1:4 000 000, 2nd Edition. NIWA Chart, Miscellaneous Series No. 85.Attribution: Content, Datasets and Imagery provided by NIWA
Service Data Type: esriImageServiceDataTypeGeneric
Min Values: -3367.677001953125
Max Values: 10069.259765625
Mean Values: 3420.5901321464435
Standard Deviation Values: 1837.9113371736107
Object ID Field:
Fields:
None
Default Mosaic Method: Center
Allowed Mosaic Methods:
SortField:
SortValue: null
Mosaic Operator: First
Default Compression Quality: 75
Default Resampling Method: Bilinear
Max Record Count: null
Max Image Height: 4100
Max Image Width: 15000
Max Download Image Count: null
Max Mosaic Image Count: null
Allow Raster Function: true
Allow Copy: true
Allow Analysis: true
Allow Compute TiePoints: false
Supports Statistics: false
Supports Advanced Queries: false
Use StandardizedQueries: true
Raster Type Infos:
Name: Raster Dataset
Description: Supports all ArcGIS Raster Datasets
Help:
Has Raster Attribute Table: false
Edit Fields Info: null
Ownership Based AccessControl For Rasters: null
Child Resources:
Info
Histograms
Statistics
Key Properties
Legend
Raster Function Infos
Supported Operations:
Export Image
Identify
Measure
Compute Histograms
Compute Statistics Histograms
Get Samples
Compute Class Statistics
Query Boundary
Compute Pixel Location
Compute Angles
Validate
Project