View In:
ArcGIS JavaScript
ArcGIS Online Map Viewer
ArcGIS Earth
Service Description: topography/AUSTRALIA_DTM
Name: topography/AUSTRALIA_DTM
Description:
Single Fused Map Cache: false
Extent:
XMin: 102.00000000000001
YMin: -52.00000000000001
XMax: 172.01
YMax: -7.99
Spatial Reference: 4326
(4326)
LatestVCSWkid(0)
Initial Extent:
XMin: 102.00000000000001
YMin: -52.00000000000001
XMax: 172.01
YMax: -7.99
Spatial Reference: 4326
(4326)
LatestVCSWkid(0)
Full Extent:
XMin: 102.00000000000001
YMin: -52.00000000000001
XMax: 172.01
YMax: -7.99
Spatial Reference: 4326
(4326)
LatestVCSWkid(0)
Pixel Size X: 0.009999999999999997
Pixel Size Y: 0.010000000000000002
Band Count: 1
Pixel Type: S16
RasterFunction Infos: {"rasterFunctionInfos": [{
"name": "None",
"description": "",
"help": ""
}]}
Mensuration Capabilities: Basic
Inspection Capabilities:
Has Histograms: true
Has Colormap: false
Has Multi Dimensions : false
Rendering Rule:
Min Scale: 0
Max Scale: 0
Copyright Text:
Service Data Type: esriImageServiceDataTypeGeneric
Min Values: -9449
Max Values: 3087
Mean Values: -2481.495954857749
Standard Deviation Values: 2163.4751104691663
Object ID Field:
Fields:
None
Default Mosaic Method: Center
Allowed Mosaic Methods:
SortField:
SortValue: null
Mosaic Operator: First
Default Compression Quality: 75
Default Resampling Method: Bilinear
Max Record Count: null
Max Image Height: 4100
Max Image Width: 15000
Max Download Image Count: null
Max Mosaic Image Count: null
Allow Raster Function: true
Allow Copy: true
Allow Analysis: true
Allow Compute TiePoints: false
Supports Statistics: false
Supports Advanced Queries: false
Use StandardizedQueries: true
Raster Type Infos:
Name: Raster Dataset
Description: Supports all ArcGIS Raster Datasets
Help:
Has Raster Attribute Table: false
Edit Fields Info: null
Ownership Based AccessControl For Rasters: null
Child Resources:
Info
Histograms
Statistics
Key Properties
Legend
Raster Function Infos
Supported Operations:
Export Image
Identify
Measure
Compute Histograms
Compute Statistics Histograms
Get Samples
Compute Class Statistics
Query Boundary
Compute Pixel Location
Compute Angles
Validate
Project