View In:
ArcGIS JavaScript
ArcGIS Online Map Viewer
ArcGIS Earth
Service Description: In addition to contour lines, relief shading helps visualise the terrain. Hills and valleys are shaded as if they were illuminated from the north-west.
Relief layers were generated for each sheet, and specifically for use in the Topo250 map series. There may be subtle differences in the relief shading of adjacent map sheets.
The Topo50 map series provides topographic mapping for the New Zealand mainland and Chatham Islands, at 1:50,000 scale.
Further information on Topo50: http://www.linz.govt.nz/topography/topo-maps/topo50
Name: basemaps/LINZ_ChathamIslandShadeModel_CITM
Description: In addition to contour lines, relief shading helps visualise the terrain. Hills and valleys are shaded as if they were illuminated from the north-west.
Relief layers were generated for each sheet, and specifically for use in the Topo250 map series. There may be subtle differences in the relief shading of adjacent map sheets.
The Topo50 map series provides topographic mapping for the New Zealand mainland and Chatham Islands, at 1:50,000 scale.
Further information on Topo50: http://www.linz.govt.nz/topography/topo-maps/topo50
Single Fused Map Cache: false
Extent:
XMin: 3468331.3189788694
YMin: 5077780.30746974
XMax: 3527641.3189788694
YMax: 5175130.30746974
Spatial Reference: 3793
(3793)
LatestVCSWkid(0)
Initial Extent:
XMin: 3468331.3189788694
YMin: 5077780.30746974
XMax: 3527641.3189788694
YMax: 5175130.30746974
Spatial Reference: 3793
(3793)
LatestVCSWkid(0)
Full Extent:
XMin: 3468331.3189788694
YMin: 5077780.30746974
XMax: 3527641.3189788694
YMax: 5175130.30746974
Spatial Reference: 3793
(3793)
LatestVCSWkid(0)
Pixel Size X: 15.0
Pixel Size Y: 15.0
Band Count: 1
Pixel Type: U8
RasterFunction Infos: {"rasterFunctionInfos": [{
"name": "None",
"description": "",
"help": ""
}]}
Mensuration Capabilities: Basic
Inspection Capabilities:
Has Histograms: true
Has Colormap: false
Has Multi Dimensions : false
Rendering Rule:
Min Scale: 0
Max Scale: 0
Copyright Text: LINZ - Land Information New Zealand
Service Data Type: esriImageServiceDataTypeGeneric
Min Values: 0
Max Values: 254
Mean Values: 178.8269242903855
Standard Deviation Values: 17.03213651169699
Object ID Field:
Fields:
None
Default Mosaic Method: Center
Allowed Mosaic Methods:
SortField:
SortValue: null
Mosaic Operator: First
Default Compression Quality: 75
Default Resampling Method: Bilinear
Max Record Count: null
Max Image Height: 4100
Max Image Width: 15000
Max Download Image Count: null
Max Mosaic Image Count: null
Allow Raster Function: true
Allow Copy: true
Allow Analysis: true
Allow Compute TiePoints: false
Supports Statistics: false
Supports Advanced Queries: false
Use StandardizedQueries: true
Raster Type Infos:
Name: Raster Dataset
Description: Supports all ArcGIS Raster Datasets
Help:
Has Raster Attribute Table: true
Edit Fields Info: null
Ownership Based AccessControl For Rasters: null
Child Resources:
Info
Raster Attribute Table
Histograms
Statistics
Key Properties
Legend
Raster Function Infos
Supported Operations:
Export Image
Identify
Measure
Compute Histograms
Compute Statistics Histograms
Get Samples
Compute Class Statistics
Query Boundary
Compute Pixel Location
Compute Angles
Validate
Project