View In:
ArcGIS JavaScript
ArcGIS Online Map Viewer
ArcGIS Earth
Service Description: Shaded version of NIWA's bathymetry model of New Zealand at 250m resolution. The model is a compilation of data digitised from published coastal charts, digital soundings archive, navy collector sheets and digital multibeam datasourced from surveys by NIWA, LINZ, as well as international surveys by vessels from United States of America, France, Germany, Australia, and Japan. All data used is held at NIWA.
Name: basemaps/NIWA_BathymetricShadeModel_NZCS
Description: Shaded version of NIWA's bathymetry model of New Zealand at 250m resolution. The model is a compilation of data digitised from published coastal charts, digital soundings archive, navy collector sheets and digital multibeam datasourced from surveys by NIWA, LINZ, as well as international surveys by vessels from United States of America, France, Germany, Australia, and Japan. All data used is held at NIWA.
Single Fused Map Cache: false
Extent:
XMin: 1315947.87728211
YMin: 4997698.101281367
XMax: 5098697.87728211
YMax: 8908448.101281367
Spatial Reference: 3851
(3851)
LatestVCSWkid(0)
Initial Extent:
XMin: 1315947.87728211
YMin: 4997698.101281367
XMax: 5098697.87728211
YMax: 8908448.101281367
Spatial Reference: 3851
(3851)
LatestVCSWkid(0)
Full Extent:
XMin: 1315947.87728211
YMin: 4997698.101281367
XMax: 5098697.87728211
YMax: 8908448.101281367
Spatial Reference: 3851
(3851)
LatestVCSWkid(0)
Pixel Size X: 250.0
Pixel Size Y: 250.0
Band Count: 1
Pixel Type: U8
RasterFunction Infos: {"rasterFunctionInfos": [{
"name": "None",
"description": "",
"help": ""
}]}
Mensuration Capabilities: Basic
Inspection Capabilities:
Has Histograms: true
Has Colormap: false
Has Multi Dimensions : false
Rendering Rule:
Min Scale: 0
Max Scale: 0
Copyright Text: NIWA
See:
Mitchell, J.S.; Mackay, K.A.; Neil, H.L.; Mackay, E.J.; Pallentin, A.; Notman, P. (2012) New Zealand Region Bathymetry, 1:4 000 000, 2nd Edition. NIWA Chart, Miscellaneous Series No. 92
Service Data Type: esriImageServiceDataTypeGeneric
Min Values: 0
Max Values: 248
Mean Values: 86.46023847721136
Standard Deviation Values: 11.532250667561923
Object ID Field:
Fields:
None
Default Mosaic Method: Center
Allowed Mosaic Methods:
SortField:
SortValue: null
Mosaic Operator: First
Default Compression Quality: 75
Default Resampling Method: Bilinear
Max Record Count: null
Max Image Height: 4100
Max Image Width: 15000
Max Download Image Count: null
Max Mosaic Image Count: null
Allow Raster Function: true
Allow Copy: true
Allow Analysis: true
Allow Compute TiePoints: false
Supports Statistics: false
Supports Advanced Queries: false
Use StandardizedQueries: true
Raster Type Infos:
Name: Raster Dataset
Description: Supports all ArcGIS Raster Datasets
Help:
Has Raster Attribute Table: true
Edit Fields Info: null
Ownership Based AccessControl For Rasters: null
Child Resources:
Info
Raster Attribute Table
Histograms
Statistics
Key Properties
Legend
Raster Function Infos
Supported Operations:
Export Image
Identify
Measure
Compute Histograms
Compute Statistics Histograms
Get Samples
Compute Class Statistics
Query Boundary
Compute Pixel Location
Compute Angles
Validate
Project