View In:
ArcGIS JavaScript
ArcGIS Online Map Viewer
ArcGIS Earth
Service Description: Individual print QMAP sheets, scanned and mosaiced
Name: basemaps/qmap_raster
Description: Individual print QMAP sheets, scanned and mosaiced
Single Fused Map Cache: false
Extent:
XMin: 1989972.1036282592
YMin: 5309978.513331306
XMax: 3009965.9103227453
YMax: 6789982.990868496
Spatial Reference: 27200
(27200)
LatestVCSWkid(0)
Initial Extent:
XMin: 1989972.1036282592
YMin: 5309978.513331306
XMax: 3009965.9103227453
YMax: 6789982.990868496
Spatial Reference: 27200
(27200)
LatestVCSWkid(0)
Full Extent:
XMin: 1989972.1036282592
YMin: 5309978.513331306
XMax: 3009965.9103227453
YMax: 6789982.990868496
Spatial Reference: 27200
(27200)
LatestVCSWkid(0)
Pixel Size X: 25.431815062071113
Pixel Size Y: 25.431815062070445
Band Count: 3
Pixel Type: U8
RasterFunction Infos: {"rasterFunctionInfos": [{
"name": "None",
"description": "",
"help": ""
}]}
Mensuration Capabilities: Basic
Inspection Capabilities:
Has Histograms: true
Has Colormap: false
Has Multi Dimensions : false
Rendering Rule:
Min Scale: 0
Max Scale: 0
Resampling: false
Copyright Text: GNS
Service Data Type: esriImageServiceDataTypeRGB
Min Values: 0, 0, 0
Max Values: 255, 255, 255
Mean Values: 203.81353627859428, 201.64445364872637, 193.07419639553936
Standard Deviation Values: 54.71593287181686, 54.03020608354881, 61.40136275502137
Object ID Field:
Fields:
None
Default Mosaic Method: Center
Allowed Mosaic Methods:
SortField:
SortValue: null
Mosaic Operator: First
Default Compression Quality: 75
Default Resampling Method: Bilinear
Max Record Count: null
Max Image Height: 4100
Max Image Width: 15000
Max Download Image Count: null
Max Mosaic Image Count: null
Allow Raster Function: true
Allow Copy: true
Allow Analysis: true
Allow Compute TiePoints: false
Supports Statistics: false
Supports Advanced Queries: false
Use StandardizedQueries: true
Raster Type Infos:
Name: Raster Dataset
Description: Supports all ArcGIS Raster Datasets
Help:
Has Raster Attribute Table: false
Edit Fields Info: null
Ownership Based AccessControl For Rasters: null
Child Resources:
Info
Histograms
Statistics
Key Properties
Legend
Raster Function Infos
Supported Operations:
Export Image
Identify
Measure
Compute Histograms
Compute Statistics Histograms
Get Samples
Compute Class Statistics
Query Boundary
Compute Pixel Location
Compute Angles
Validate
Project