View In:
ArcGIS JavaScript
ArcGIS Online Map Viewer
ArcGIS Earth
Service Description: In 2012, FROGTECH Pty Ltd completed a SEEBASE™ model for the New Zealand Extended Continental Shelf (NZ ECS) at a regional scale of 1:3 million. SEEBASE™ is FROGTECH's signature product, and stands for Structurally Enhanced view of Economic BASEment. SEEBASE™ is a depth-to-basement model that represents the culmination of a number of calibration and integration steps: • Integrated structural/kinematic interpretation • Geophysical modelling • Seismic and well calibration • Integration of tectonic events and responses The NZ ECS SEEBASE™ is a model of economic basement topography that is consistent with the structural evolution of New Zealand basement terranes and associated basins.
Name: geophysical/frogtech_seebase
Description: In 2012, FROGTECH Pty Ltd completed a SEEBASE™ model for the New Zealand Extended Continental Shelf (NZ ECS) at a regional scale of 1:3 million. SEEBASE™ is FROGTECH's signature product, and stands for Structurally Enhanced view of Economic BASEment. SEEBASE™ is a depth-to-basement model that represents the culmination of a number of calibration and integration steps: • Integrated structural/kinematic interpretation • Geophysical modelling • Seismic and well calibration • Integration of tectonic events and responses The NZ ECS SEEBASE™ is a model of economic basement topography that is consistent with the structural evolution of New Zealand basement terranes and associated basins.
Single Fused Map Cache: false
Extent:
XMin: 468640.00000000023
YMin: 3531040.0000000023
XMax: 3370100.6374022774
YMax: 7238399.999999988
Spatial Reference: 2193
(2193)
LatestVCSWkid(0)
Initial Extent:
XMin: 468640.00000000023
YMin: 3531040.0000000023
XMax: 3370100.6374022774
YMax: 7238399.999999988
Spatial Reference: 2193
(2193)
LatestVCSWkid(0)
Full Extent:
XMin: 468640.00000000023
YMin: 3531040.0000000023
XMax: 3370100.6374022774
YMax: 7238399.999999988
Spatial Reference: 2193
(2193)
LatestVCSWkid(0)
Pixel Size X: 1114.6602525556195
Pixel Size Y: 1114.660252555618
Band Count: 1
Pixel Type: F32
RasterFunction Infos: {"rasterFunctionInfos": [{
"name": "None",
"description": "",
"help": ""
}]}
Mensuration Capabilities: Basic
Inspection Capabilities:
Has Histograms: true
Has Colormap: false
Has Multi Dimensions : false
Rendering Rule:
Min Scale: 0
Max Scale: 0
Resampling: false
Copyright Text: FROGTECH NZ Pty Ltd
Service Data Type: esriImageServiceDataTypeGeneric
Min Values: -14868.7998046875
Max Values: 2823.06005859375
Mean Values: -4024.3955242079096
Standard Deviation Values: 1732.615436764244
Object ID Field:
Fields:
None
Default Mosaic Method: Center
Allowed Mosaic Methods:
SortField:
SortValue: null
Mosaic Operator: First
Default Compression Quality: 75
Default Resampling Method: Bilinear
Max Record Count: null
Max Image Height: 4100
Max Image Width: 15000
Max Download Image Count: null
Max Mosaic Image Count: null
Allow Raster Function: true
Allow Copy: true
Allow Analysis: true
Allow Compute TiePoints: false
Supports Statistics: false
Supports Advanced Queries: false
Use StandardizedQueries: true
Raster Type Infos:
Name: Raster Dataset
Description: Supports all ArcGIS Raster Datasets
Help:
Has Raster Attribute Table: false
Edit Fields Info: null
Ownership Based AccessControl For Rasters: null
Child Resources:
Info
Histograms
Statistics
Key Properties
Legend
Raster Function Infos
Supported Operations:
Export Image
Identify
Measure
Compute Histograms
Compute Statistics Histograms
Get Samples
Compute Class Statistics
Query Boundary
Compute Pixel Location
Compute Angles
Validate
Project