View In:
ArcGIS JavaScript
ArcGIS Online Map Viewer
ArcGIS Earth
Service Description: Free air gravity data is reduced to Bouguer gravity by the calculation and removal of the effects topography (rock/water or rock/air interface) on the gravity anomaly. The density used for Bouguer correction was 2.67g/cc Onshore and 2.20g/cc Offshore.
Bouguer Anomaly values calculated by FROGTECH. Grid sourced from the FROGTECH_NZ_ECS_SEEBASE product in the NZP&M 2013 Block Offer Data Pack.
Name: geophysical/gravity_nz_reg_ba_ssv201
Description: Free air gravity data is reduced to Bouguer gravity by the calculation and removal of the effects topography (rock/water or rock/air interface) on the gravity anomaly. The density used for Bouguer correction was 2.67g/cc Onshore and 2.20g/cc Offshore.
Bouguer Anomaly values calculated by FROGTECH. Grid sourced from the FROGTECH_NZ_ECS_SEEBASE product in the NZP&M 2013 Block Offer Data Pack.
Single Fused Map Cache: false
Extent:
XMin: 468060.0
YMin: 3530460.0
XMax: 3370380.0
YMax: 7240140.0
Spatial Reference: 2193
(2193)
LatestVCSWkid(0)
Initial Extent:
XMin: 468060.0
YMin: 3530460.0
XMax: 3370380.0
YMax: 7240140.0
Spatial Reference: 2193
(2193)
LatestVCSWkid(0)
Full Extent:
XMin: 468060.0
YMin: 3530460.0
XMax: 3370380.0
YMax: 7240140.0
Spatial Reference: 2193
(2193)
LatestVCSWkid(0)
Pixel Size X: 1160.0
Pixel Size Y: 1160.0
Band Count: 1
Pixel Type: F32
RasterFunction Infos: {"rasterFunctionInfos": [{
"name": "None",
"description": "",
"help": ""
}]}
Mensuration Capabilities: Basic
Inspection Capabilities:
Has Histograms: true
Has Colormap: false
Has Multi Dimensions : false
Rendering Rule:
Min Scale: 0
Max Scale: 0
Copyright Text:
Service Data Type: esriImageServiceDataTypeGeneric
Min Values: -164.75257873535156
Max Values: 356.701416015625
Mean Values: 170.98086325632042
Standard Deviation Values: 81.9974777298543
Object ID Field:
Fields:
None
Default Mosaic Method: Center
Allowed Mosaic Methods:
SortField:
SortValue: null
Mosaic Operator: First
Default Compression Quality: 75
Default Resampling Method: Bilinear
Max Record Count: null
Max Image Height: 4100
Max Image Width: 15000
Max Download Image Count: null
Max Mosaic Image Count: null
Allow Raster Function: true
Allow Copy: true
Allow Analysis: true
Allow Compute TiePoints: false
Supports Statistics: false
Supports Advanced Queries: false
Use StandardizedQueries: true
Raster Type Infos:
Name: Raster Dataset
Description: Supports all ArcGIS Raster Datasets
Help:
Has Raster Attribute Table: false
Edit Fields Info: null
Ownership Based AccessControl For Rasters: null
Child Resources:
Info
Histograms
Statistics
Key Properties
Legend
Raster Function Infos
Supported Operations:
Export Image
Identify
Measure
Compute Histograms
Compute Statistics Histograms
Get Samples
Compute Class Statistics
Query Boundary
Compute Pixel Location
Compute Angles
Validate
Project