View In:
ArcGIS JavaScript
ArcGIS Online Map Viewer
ArcGIS Earth
Service Description: The Gravity grids were generated by FROGTECH from the Sandwell and Smith Satellite Free-Air Gravity V20.1 downloaded from from the Scripps Institution Of Oceanography. The data has a grid cell size of 1-minute or 0.0167 degree, equivalent to about 2km and is provided in WGS84 datum Geodetic, Lat-Long projection. The data has been reprojected in the NZGD2000, NZTM coordinate system.
The source data for this product may contain errors or artefacts. For Satellite Gravity source data information refer to http://topex.ucsd.edu/WWW_html/mar_grav.html.
Grid sourced from the FROGTECH_NZ_ECS_SEEBASE product in the NZP&M 2013 Block offer data pack.
Name: geophysical/gravity_nz_reg_faa_ssv201
Description: The Gravity grids were generated by FROGTECH from the Sandwell and Smith Satellite Free-Air Gravity V20.1 downloaded from from the Scripps Institution Of Oceanography. The data has a grid cell size of 1-minute or 0.0167 degree, equivalent to about 2km and is provided in WGS84 datum Geodetic, Lat-Long projection. The data has been reprojected in the NZGD2000, NZTM coordinate system.
The source data for this product may contain errors or artefacts. For Satellite Gravity source data information refer to http://topex.ucsd.edu/WWW_html/mar_grav.html.
Grid sourced from the FROGTECH_NZ_ECS_SEEBASE product in the NZP&M 2013 Block offer data pack.
Single Fused Map Cache: false
Extent:
XMin: 468385.0
YMin: 3529555.0
XMax: 3370225.0
YMax: 7240475.0
Spatial Reference: 2193
(2193)
LatestVCSWkid(0)
Initial Extent:
XMin: 468385.0
YMin: 3529555.0
XMax: 3370225.0
YMax: 7240475.0
Spatial Reference: 2193
(2193)
LatestVCSWkid(0)
Full Extent:
XMin: 468385.0
YMin: 3529555.0
XMax: 3370225.0
YMax: 7240475.0
Spatial Reference: 2193
(2193)
LatestVCSWkid(0)
Pixel Size X: 1130.0
Pixel Size Y: 1130.0
Band Count: 1
Pixel Type: F32
RasterFunction Infos: {"rasterFunctionInfos": [{
"name": "None",
"description": "",
"help": ""
}]}
Mensuration Capabilities: Basic
Inspection Capabilities:
Has Histograms: true
Has Colormap: false
Has Multi Dimensions : false
Rendering Rule:
Min Scale: 0
Max Scale: 0
Copyright Text:
Service Data Type: esriImageServiceDataTypeGeneric
Min Values: -253.1641387939453
Max Values: 307.9122009277344
Mean Values: 3.7242445827556616
Standard Deviation Values: 34.918186368821765
Object ID Field:
Fields:
None
Default Mosaic Method: Center
Allowed Mosaic Methods:
SortField:
SortValue: null
Mosaic Operator: First
Default Compression Quality: 75
Default Resampling Method: Bilinear
Max Record Count: null
Max Image Height: 4100
Max Image Width: 15000
Max Download Image Count: null
Max Mosaic Image Count: null
Allow Raster Function: true
Allow Copy: true
Allow Analysis: true
Allow Compute TiePoints: false
Supports Statistics: false
Supports Advanced Queries: false
Use StandardizedQueries: true
Raster Type Infos:
Name: Raster Dataset
Description: Supports all ArcGIS Raster Datasets
Help:
Has Raster Attribute Table: false
Edit Fields Info: null
Ownership Based AccessControl For Rasters: null
Child Resources:
Info
Histograms
Statistics
Key Properties
Legend
Raster Function Infos
Supported Operations:
Export Image
Identify
Measure
Compute Histograms
Compute Statistics Histograms
Get Samples
Compute Class Statistics
Query Boundary
Compute Pixel Location
Compute Angles
Validate
Project