View In:
ArcGIS JavaScript
ArcGIS Online Map Viewer
ArcGIS Earth
Service Description: Hydrates LM9
Name: geophysical/hydrates_lm9
Description: Hydrates LM9
Single Fused Map Cache: false
Extent:
XMin: 1.9786588749369003E7
YMin: -4875827.863031516
XMax: 1.9870223568483E7
YMax: -4802628.76109752
Spatial Reference: 54004
(54004)
LatestVCSWkid(0)
Initial Extent:
XMin: 1.9786588749369003E7
YMin: -4875827.863031516
XMax: 1.9870223568483E7
YMax: -4802628.76109752
Spatial Reference: 54004
(54004)
LatestVCSWkid(0)
Full Extent:
XMin: 1.9786588749369003E7
YMin: -4875827.863031516
XMax: 1.9870223568483E7
YMax: -4802628.76109752
Spatial Reference: 54004
(54004)
LatestVCSWkid(0)
Pixel Size X: 21.29738199999895
Pixel Size Y: 21.297381999998894
Band Count: 3
Pixel Type: U8
RasterFunction Infos: {"rasterFunctionInfos": [{
"name": "None",
"description": "",
"help": ""
}]}
Mensuration Capabilities: Basic
Inspection Capabilities:
Has Histograms: true
Has Colormap: false
Has Multi Dimensions : false
Rendering Rule:
Min Scale: 0
Max Scale: 0
Resampling: false
Copyright Text:
Service Data Type: esriImageServiceDataTypeRGB
Min Values: 0, 0, 0
Max Values: 255, 255, 255
Mean Values: 135.20698433048466, 155.2242258873555, 145.68925492804047
Standard Deviation Values: 86.49299363895692, 100.61365261485297, 96.09709258914691
Object ID Field:
Fields:
None
Default Mosaic Method: Center
Allowed Mosaic Methods:
SortField:
SortValue: null
Mosaic Operator: First
Default Compression Quality: 75
Default Resampling Method: Bilinear
Max Record Count: null
Max Image Height: 4100
Max Image Width: 15000
Max Download Image Count: null
Max Mosaic Image Count: null
Allow Raster Function: true
Allow Copy: true
Allow Analysis: true
Allow Compute TiePoints: false
Supports Statistics: false
Supports Advanced Queries: false
Use StandardizedQueries: true
Raster Type Infos:
Name: Raster Dataset
Description: Supports all ArcGIS Raster Datasets
Help:
Has Raster Attribute Table: false
Edit Fields Info: null
Ownership Based AccessControl For Rasters: null
Child Resources:
Info
Histograms
Statistics
Key Properties
Legend
Raster Function Infos
Supported Operations:
Export Image
Identify
Measure
Compute Histograms
Compute Statistics Histograms
Get Samples
Compute Class Statistics
Query Boundary
Compute Pixel Location
Compute Angles
Validate
Project