View In:
ArcGIS JavaScript
ArcGIS Online Map Viewer
ArcGIS Earth
Service Description: Hydrates TAN0607
Name: geophysical/hydrates_tan0607_seis
Description: Hydrates TAN0607
Single Fused Map Cache: false
Extent:
XMin: 1.9703203759790998E7
YMin: -4998339.34824155
XMax: 1.9786433738255996E7
YMax: -4923988.08582155
Spatial Reference: 54004
(54004)
LatestVCSWkid(0)
Initial Extent:
XMin: 1.9703203759790998E7
YMin: -4998339.34824155
XMax: 1.9786433738255996E7
YMax: -4923988.08582155
Spatial Reference: 54004
(54004)
LatestVCSWkid(0)
Full Extent:
XMin: 1.9703203759790998E7
YMin: -4998339.34824155
XMax: 1.9786433738255996E7
YMax: -4923988.08582155
Spatial Reference: 54004
(54004)
LatestVCSWkid(0)
Pixel Size X: 21.291884999999567
Pixel Size Y: 21.29188499999988
Band Count: 3
Pixel Type: U8
RasterFunction Infos: {"rasterFunctionInfos": [{
"name": "None",
"description": "",
"help": ""
}]}
Mensuration Capabilities: Basic
Inspection Capabilities:
Has Histograms: true
Has Colormap: false
Has Multi Dimensions : false
Rendering Rule:
Min Scale: 0
Max Scale: 0
Resampling: false
Copyright Text:
Service Data Type: esriImageServiceDataTypeRGB
Min Values: 0, 0, 0
Max Values: 255, 255, 255
Mean Values: 92.44256667361161, 82.2988861431472, 217.09676373171203
Standard Deviation Values: 77.36956546923577, 86.17916734929275, 62.9940735949737
Object ID Field:
Fields:
None
Default Mosaic Method: Center
Allowed Mosaic Methods:
SortField:
SortValue: null
Mosaic Operator: First
Default Compression Quality: 75
Default Resampling Method: Bilinear
Max Record Count: null
Max Image Height: 4100
Max Image Width: 15000
Max Download Image Count: null
Max Mosaic Image Count: null
Allow Raster Function: true
Allow Copy: true
Allow Analysis: true
Allow Compute TiePoints: false
Supports Statistics: false
Supports Advanced Queries: false
Use StandardizedQueries: true
Raster Type Infos:
Name: Raster Dataset
Description: Supports all ArcGIS Raster Datasets
Help:
Has Raster Attribute Table: false
Edit Fields Info: null
Ownership Based AccessControl For Rasters: null
Child Resources:
Info
Histograms
Statistics
Key Properties
Legend
Raster Function Infos
Supported Operations:
Export Image
Identify
Measure
Compute Histograms
Compute Statistics Histograms
Get Samples
Compute Class Statistics
Query Boundary
Compute Pixel Location
Compute Angles
Validate
Project