View In:
ArcGIS JavaScript
ArcGIS Online Map Viewer
ArcGIS Earth
Service Description: East Coast Bathymetry
Name: geophysical/rectify_bathy_east_coast
Description: East Coast Bathymetry
Single Fused Map Cache: false
Extent:
XMin: 1.94253436385245E7
YMin: -5186771.650774591
XMax: 1.9926354277373493E7
YMax: -4643223.500017591
Spatial Reference: 54004
(54004)
LatestVCSWkid(0)
Initial Extent:
XMin: 1.94253436385245E7
YMin: -5186771.650774591
XMax: 1.9926354277373493E7
YMax: -4643223.500017591
Spatial Reference: 54004
(54004)
LatestVCSWkid(0)
Full Extent:
XMin: 1.94253436385245E7
YMin: -5186771.650774591
XMax: 1.9926354277373493E7
YMax: -4643223.500017591
Spatial Reference: 54004
(54004)
LatestVCSWkid(0)
Pixel Size X: 119.48739299999855
Pixel Size Y: 119.48739299999997
Band Count: 3
Pixel Type: U8
RasterFunction Infos: {"rasterFunctionInfos": [{
"name": "None",
"description": "",
"help": ""
}]}
Mensuration Capabilities: Basic
Inspection Capabilities:
Has Histograms: true
Has Colormap: false
Has Multi Dimensions : false
Rendering Rule:
Min Scale: 0
Max Scale: 0
Resampling: false
Copyright Text:
Service Data Type: esriImageServiceDataTypeRGB
Min Values: 0, 0, 0
Max Values: 255, 255, 255
Mean Values: 222.2663848408592, 203.54001369511317, 232.64073028999698
Standard Deviation Values: 65.82536189969152, 90.60542660716324, 60.59504230952651
Object ID Field:
Fields:
None
Default Mosaic Method: Center
Allowed Mosaic Methods:
SortField:
SortValue: null
Mosaic Operator: First
Default Compression Quality: 75
Default Resampling Method: Bilinear
Max Record Count: null
Max Image Height: 4100
Max Image Width: 15000
Max Download Image Count: null
Max Mosaic Image Count: null
Allow Raster Function: true
Allow Copy: true
Allow Analysis: true
Allow Compute TiePoints: false
Supports Statistics: false
Supports Advanced Queries: false
Use StandardizedQueries: true
Raster Type Infos:
Name: Raster Dataset
Description: Supports all ArcGIS Raster Datasets
Help:
Has Raster Attribute Table: false
Edit Fields Info: null
Ownership Based AccessControl For Rasters: null
Child Resources:
Info
Histograms
Statistics
Key Properties
Legend
Raster Function Infos
Supported Operations:
Export Image
Identify
Measure
Compute Histograms
Compute Statistics Histograms
Get Samples
Compute Class Statistics
Query Boundary
Compute Pixel Location
Compute Angles
Validate
Project